BEGIN:VCALENDAR
VERSION:2.0
PRODID:-//Edible Reno-Tahoe - ECPv6.15.20//NONSGML v1.0//EN
CALSCALE:GREGORIAN
METHOD:PUBLISH
X-ORIGINAL-URL:https://oldediblerenotahoe.com
X-WR-CALDESC:Events for Edible Reno-Tahoe
REFRESH-INTERVAL;VALUE=DURATION:PT1H
X-Robots-Tag:noindex
X-PUBLISHED-TTL:PT1H
BEGIN:VTIMEZONE
TZID:America/Los_Angeles
BEGIN:DAYLIGHT
TZOFFSETFROM:-0800
TZOFFSETTO:-0700
TZNAME:PDT
DTSTART:20230312T100000
END:DAYLIGHT
BEGIN:STANDARD
TZOFFSETFROM:-0700
TZOFFSETTO:-0800
TZNAME:PST
DTSTART:20231105T090000
END:STANDARD
BEGIN:DAYLIGHT
TZOFFSETFROM:-0800
TZOFFSETTO:-0700
TZNAME:PDT
DTSTART:20240310T100000
END:DAYLIGHT
BEGIN:STANDARD
TZOFFSETFROM:-0700
TZOFFSETTO:-0800
TZNAME:PST
DTSTART:20241103T090000
END:STANDARD
BEGIN:DAYLIGHT
TZOFFSETFROM:-0800
TZOFFSETTO:-0700
TZNAME:PDT
DTSTART:20250309T100000
END:DAYLIGHT
BEGIN:STANDARD
TZOFFSETFROM:-0700
TZOFFSETTO:-0800
TZNAME:PST
DTSTART:20251102T090000
END:STANDARD
END:VTIMEZONE
BEGIN:VEVENT
DTSTART;TZID=America/Los_Angeles:20240602T090000
DTEND;TZID=America/Los_Angeles:20240602T130000
DTSTAMP:20260425T065055
CREATED:20231103T014135Z
LAST-MODIFIED:20231103T014135Z
UID:35252-1717318800-1717333200@oldediblerenotahoe.com
SUMMARY:Riverside Farmers Market
DESCRIPTION:The Riverside Farmers Market stands as Reno’s authentic local market\, exclusively featuring vendors who cultivate\, rear\, or craft their products within the immediate vicinity of the city. Highlighting small-scale\, community-focused\, and sustainable farmers and ranchers\, the market is a testament to the belief that the foundation of healthy food lies in the health of the land. It also serves as a welcoming platform for Reno’s emerging agricultural talents\, providing a space for residents to connect with those who are dedicated to nourishing the Truckee Meadows community through locally grown produce.
URL:https://oldediblerenotahoe.com/event/riverside-farmers-market-3-2024-06-02/
LOCATION:Idlewild Park\, 1000 Cowan Dr.\, Reno\, NV\, 89509
CATEGORIES:Farmers Market,Shopping
END:VEVENT
BEGIN:VEVENT
DTSTART;TZID=America/Los_Angeles:20240609T090000
DTEND;TZID=America/Los_Angeles:20240609T130000
DTSTAMP:20260425T065055
CREATED:20231103T014135Z
LAST-MODIFIED:20231103T014135Z
UID:35253-1717923600-1717938000@oldediblerenotahoe.com
SUMMARY:Riverside Farmers Market
DESCRIPTION:The Riverside Farmers Market stands as Reno’s authentic local market\, exclusively featuring vendors who cultivate\, rear\, or craft their products within the immediate vicinity of the city. Highlighting small-scale\, community-focused\, and sustainable farmers and ranchers\, the market is a testament to the belief that the foundation of healthy food lies in the health of the land. It also serves as a welcoming platform for Reno’s emerging agricultural talents\, providing a space for residents to connect with those who are dedicated to nourishing the Truckee Meadows community through locally grown produce.
URL:https://oldediblerenotahoe.com/event/riverside-farmers-market-3-2024-06-09/
LOCATION:Idlewild Park\, 1000 Cowan Dr.\, Reno\, NV\, 89509
CATEGORIES:Farmers Market,Shopping
END:VEVENT
BEGIN:VEVENT
DTSTART;TZID=America/Los_Angeles:20240616T090000
DTEND;TZID=America/Los_Angeles:20240616T130000
DTSTAMP:20260425T065055
CREATED:20231103T014135Z
LAST-MODIFIED:20231103T014135Z
UID:35254-1718528400-1718542800@oldediblerenotahoe.com
SUMMARY:Riverside Farmers Market
DESCRIPTION:The Riverside Farmers Market stands as Reno’s authentic local market\, exclusively featuring vendors who cultivate\, rear\, or craft their products within the immediate vicinity of the city. Highlighting small-scale\, community-focused\, and sustainable farmers and ranchers\, the market is a testament to the belief that the foundation of healthy food lies in the health of the land. It also serves as a welcoming platform for Reno’s emerging agricultural talents\, providing a space for residents to connect with those who are dedicated to nourishing the Truckee Meadows community through locally grown produce.
URL:https://oldediblerenotahoe.com/event/riverside-farmers-market-3-2024-06-16/
LOCATION:Idlewild Park\, 1000 Cowan Dr.\, Reno\, NV\, 89509
CATEGORIES:Farmers Market,Shopping
END:VEVENT
BEGIN:VEVENT
DTSTART;TZID=America/Los_Angeles:20240623T090000
DTEND;TZID=America/Los_Angeles:20240623T130000
DTSTAMP:20260425T065055
CREATED:20231103T014135Z
LAST-MODIFIED:20231103T014135Z
UID:35255-1719133200-1719147600@oldediblerenotahoe.com
SUMMARY:Riverside Farmers Market
DESCRIPTION:The Riverside Farmers Market stands as Reno’s authentic local market\, exclusively featuring vendors who cultivate\, rear\, or craft their products within the immediate vicinity of the city. Highlighting small-scale\, community-focused\, and sustainable farmers and ranchers\, the market is a testament to the belief that the foundation of healthy food lies in the health of the land. It also serves as a welcoming platform for Reno’s emerging agricultural talents\, providing a space for residents to connect with those who are dedicated to nourishing the Truckee Meadows community through locally grown produce.
URL:https://oldediblerenotahoe.com/event/riverside-farmers-market-3-2024-06-23/
LOCATION:Idlewild Park\, 1000 Cowan Dr.\, Reno\, NV\, 89509
CATEGORIES:Farmers Market,Shopping
END:VEVENT
BEGIN:VEVENT
DTSTART;TZID=America/Los_Angeles:20240628T120000
DTEND;TZID=America/Los_Angeles:20240628T180000
DTSTAMP:20260425T065055
CREATED:20240415T032042Z
LAST-MODIFIED:20240415T032042Z
UID:38155-1719576000-1719597600@oldediblerenotahoe.com
SUMMARY:Gem Faire
DESCRIPTION:Fine jewelry\, precious & semi-precious gemstones\, millions of beads\, crystals\, gold & silver\, pearls\, fashion accessories & much more at manufacturer’s prices. Jewelry repair & cleaning while you shop.
URL:https://oldediblerenotahoe.com/event/gem-faire/
LOCATION:Reno Sparks Convention Center
CATEGORIES:Shopping
END:VEVENT
BEGIN:VEVENT
DTSTART;TZID=America/Los_Angeles:20240629T100000
DTEND;TZID=America/Los_Angeles:20240629T180000
DTSTAMP:20260425T065055
CREATED:20240415T032042Z
LAST-MODIFIED:20240415T032042Z
UID:38156-1719655200-1719684000@oldediblerenotahoe.com
SUMMARY:Gem Faire
DESCRIPTION:Fine jewelry\, precious & semi-precious gemstones\, millions of beads\, crystals\, gold & silver\, pearls\, fashion accessories & much more at manufacturer’s prices. Jewelry repair & cleaning while you shop.
URL:https://oldediblerenotahoe.com/event/gem-faire-2024-06-29/
LOCATION:Reno Sparks Convention Center
CATEGORIES:Shopping
END:VEVENT
BEGIN:VEVENT
DTSTART;TZID=America/Los_Angeles:20240630T090000
DTEND;TZID=America/Los_Angeles:20240630T130000
DTSTAMP:20260425T065055
CREATED:20231103T014135Z
LAST-MODIFIED:20231103T014135Z
UID:35256-1719738000-1719752400@oldediblerenotahoe.com
SUMMARY:Riverside Farmers Market
DESCRIPTION:The Riverside Farmers Market stands as Reno’s authentic local market\, exclusively featuring vendors who cultivate\, rear\, or craft their products within the immediate vicinity of the city. Highlighting small-scale\, community-focused\, and sustainable farmers and ranchers\, the market is a testament to the belief that the foundation of healthy food lies in the health of the land. It also serves as a welcoming platform for Reno’s emerging agricultural talents\, providing a space for residents to connect with those who are dedicated to nourishing the Truckee Meadows community through locally grown produce.
URL:https://oldediblerenotahoe.com/event/riverside-farmers-market-3-2024-06-30/
LOCATION:Idlewild Park\, 1000 Cowan Dr.\, Reno\, NV\, 89509
CATEGORIES:Farmers Market,Shopping
END:VEVENT
BEGIN:VEVENT
DTSTART;TZID=America/Los_Angeles:20240630T100000
DTEND;TZID=America/Los_Angeles:20240630T170000
DTSTAMP:20260425T065055
CREATED:20240415T032042Z
LAST-MODIFIED:20240415T032042Z
UID:38157-1719741600-1719766800@oldediblerenotahoe.com
SUMMARY:Gem Faire
DESCRIPTION:Fine jewelry\, precious & semi-precious gemstones\, millions of beads\, crystals\, gold & silver\, pearls\, fashion accessories & much more at manufacturer’s prices. Jewelry repair & cleaning while you shop.
URL:https://oldediblerenotahoe.com/event/gem-faire-2024-06-30/
LOCATION:Reno Sparks Convention Center
CATEGORIES:Shopping
END:VEVENT
END:VCALENDAR