BEGIN:VCALENDAR
VERSION:2.0
PRODID:-//Edible Reno-Tahoe - ECPv6.15.20//NONSGML v1.0//EN
CALSCALE:GREGORIAN
METHOD:PUBLISH
X-WR-CALNAME:Edible Reno-Tahoe
X-ORIGINAL-URL:https://oldediblerenotahoe.com
X-WR-CALDESC:Events for Edible Reno-Tahoe
REFRESH-INTERVAL;VALUE=DURATION:PT1H
X-Robots-Tag:noindex
X-PUBLISHED-TTL:PT1H
BEGIN:VTIMEZONE
TZID:America/Los_Angeles
BEGIN:DAYLIGHT
TZOFFSETFROM:-0800
TZOFFSETTO:-0700
TZNAME:PDT
DTSTART:20220313T100000
END:DAYLIGHT
BEGIN:STANDARD
TZOFFSETFROM:-0700
TZOFFSETTO:-0800
TZNAME:PST
DTSTART:20221106T090000
END:STANDARD
BEGIN:DAYLIGHT
TZOFFSETFROM:-0800
TZOFFSETTO:-0700
TZNAME:PDT
DTSTART:20230312T100000
END:DAYLIGHT
BEGIN:STANDARD
TZOFFSETFROM:-0700
TZOFFSETTO:-0800
TZNAME:PST
DTSTART:20231105T090000
END:STANDARD
BEGIN:DAYLIGHT
TZOFFSETFROM:-0800
TZOFFSETTO:-0700
TZNAME:PDT
DTSTART:20240310T100000
END:DAYLIGHT
BEGIN:STANDARD
TZOFFSETFROM:-0700
TZOFFSETTO:-0800
TZNAME:PST
DTSTART:20241103T090000
END:STANDARD
END:VTIMEZONE
BEGIN:VEVENT
DTSTART;TZID=America/Los_Angeles:20231026T090000
DTEND;TZID=America/Los_Angeles:20231026T140000
DTSTAMP:20260425T204025
CREATED:20231004T015229Z
LAST-MODIFIED:20231004T015432Z
UID:34474-1698310800-1698328800@oldediblerenotahoe.com
SUMMARY:Tahoe City Harvest Market
DESCRIPTION:Don’t miss out on the remaining Farmers Markets of the season! Tahoe Wine Collective is excited to announce the Harvest Markets.While you shop for fresh produce and other market goodies\, visit Tahoe Wine Collective during these hours for wine bottles to go\, ready-to-bake pizza dough\, pasta and sauce pairings\, and delightful sweet treats. Explore the offerings\, pick up essentials for weekend dinners\, indulge in holiday treats\, or find the perfect gift items.
URL:https://oldediblerenotahoe.com/event/tahoecityharvestmarket/
LOCATION:Boatworks Mall\, 760 North Lake Boulevard\, #2\, Tahoe City\, CA\, 96145
CATEGORIES:Shopping
ATTACH;FMTTYPE=image/jpeg:https://oldediblerenotahoe.com/wp-content/uploads/2023/10/boatworks.jpg
END:VEVENT
END:VCALENDAR