BEGIN:VCALENDAR
VERSION:2.0
PRODID:-//Edible Reno-Tahoe - ECPv6.15.20//NONSGML v1.0//EN
CALSCALE:GREGORIAN
METHOD:PUBLISH
X-WR-CALNAME:Edible Reno-Tahoe
X-ORIGINAL-URL:https://oldediblerenotahoe.com
X-WR-CALDESC:Events for Edible Reno-Tahoe
REFRESH-INTERVAL;VALUE=DURATION:PT1H
X-Robots-Tag:noindex
X-PUBLISHED-TTL:PT1H
BEGIN:VTIMEZONE
TZID:America/Los_Angeles
BEGIN:DAYLIGHT
TZOFFSETFROM:-0800
TZOFFSETTO:-0700
TZNAME:PDT
DTSTART:20220313T100000
END:DAYLIGHT
BEGIN:STANDARD
TZOFFSETFROM:-0700
TZOFFSETTO:-0800
TZNAME:PST
DTSTART:20221106T090000
END:STANDARD
BEGIN:DAYLIGHT
TZOFFSETFROM:-0800
TZOFFSETTO:-0700
TZNAME:PDT
DTSTART:20230312T100000
END:DAYLIGHT
BEGIN:STANDARD
TZOFFSETFROM:-0700
TZOFFSETTO:-0800
TZNAME:PST
DTSTART:20231105T090000
END:STANDARD
BEGIN:DAYLIGHT
TZOFFSETFROM:-0800
TZOFFSETTO:-0700
TZNAME:PDT
DTSTART:20240310T100000
END:DAYLIGHT
BEGIN:STANDARD
TZOFFSETFROM:-0700
TZOFFSETTO:-0800
TZNAME:PST
DTSTART:20241103T090000
END:STANDARD
END:VTIMEZONE
BEGIN:VEVENT
DTSTART;TZID=America/Los_Angeles:20231231T090000
DTEND;TZID=America/Los_Angeles:20231231T130000
DTSTAMP:20260424T093525
CREATED:20231103T014135Z
LAST-MODIFIED:20231103T014135Z
UID:35230-1704013200-1704027600@oldediblerenotahoe.com
SUMMARY:Riverside Farmers Market
DESCRIPTION:The Riverside Farmers Market stands as Reno’s authentic local market\, exclusively featuring vendors who cultivate\, rear\, or craft their products within the immediate vicinity of the city. Highlighting small-scale\, community-focused\, and sustainable farmers and ranchers\, the market is a testament to the belief that the foundation of healthy food lies in the health of the land. It also serves as a welcoming platform for Reno’s emerging agricultural talents\, providing a space for residents to connect with those who are dedicated to nourishing the Truckee Meadows community through locally grown produce.
URL:https://oldediblerenotahoe.com/event/riverside-farmers-market-3-2023-12-31/
LOCATION:Idlewild Park\, 1000 Cowan Dr.\, Reno\, NV\, 89509
CATEGORIES:Farmers Market,Shopping
END:VEVENT
BEGIN:VEVENT
DTSTART;TZID=America/Los_Angeles:20231224T150000
DTEND;TZID=America/Los_Angeles:20231224T190000
DTSTAMP:20260424T093525
CREATED:20230925T192850Z
LAST-MODIFIED:20231002T204214Z
UID:34091-1703430000-1703444400@oldediblerenotahoe.com
SUMMARY:Park Farm Stand
DESCRIPTION:Venture into the fields and food forest\, meet the friendly goats named Oliver and June\, and immerse yourself in the vibrant atmosphere of a farm dedicated to combating food insecurity in the community. Explore an array of seasonal veggies\, herbs\, and pollinator plants available for sale. \nDon’t miss the opportunity to have Farmer Joe sharpen your knives between 5-7pm for just $5 per knife. Make sure to visit during the later part of the farm stand to get your knives expertly tuned while you shop for fresh produce!
URL:https://oldediblerenotahoe.com/event/parkfarmstand-2023-12-24/
LOCATION:Betsy Caughlin Donnelly Park\, 3295 Mayberry Dr.\, Reno\, NV\, 89519
CATEGORIES:Family friendly,Farmer's Market,Shopping
END:VEVENT
BEGIN:VEVENT
DTSTART;TZID=America/Los_Angeles:20231224T090000
DTEND;TZID=America/Los_Angeles:20231224T130000
DTSTAMP:20260424T093525
CREATED:20231103T014135Z
LAST-MODIFIED:20231103T014135Z
UID:35229-1703408400-1703422800@oldediblerenotahoe.com
SUMMARY:Riverside Farmers Market
DESCRIPTION:The Riverside Farmers Market stands as Reno’s authentic local market\, exclusively featuring vendors who cultivate\, rear\, or craft their products within the immediate vicinity of the city. Highlighting small-scale\, community-focused\, and sustainable farmers and ranchers\, the market is a testament to the belief that the foundation of healthy food lies in the health of the land. It also serves as a welcoming platform for Reno’s emerging agricultural talents\, providing a space for residents to connect with those who are dedicated to nourishing the Truckee Meadows community through locally grown produce.
URL:https://oldediblerenotahoe.com/event/riverside-farmers-market-3-2023-12-24/
LOCATION:Idlewild Park\, 1000 Cowan Dr.\, Reno\, NV\, 89509
CATEGORIES:Farmers Market,Shopping
END:VEVENT
BEGIN:VEVENT
DTSTART;TZID=America/Los_Angeles:20231222T180000
DTEND;TZID=America/Los_Angeles:20231222T210000
DTSTAMP:20260424T093525
CREATED:20231128T020206Z
LAST-MODIFIED:20231128T020206Z
UID:35537-1703268000-1703278800@oldediblerenotahoe.com
SUMMARY:Cornish Christmas
DESCRIPTION:Downtown Grass Valley will be filled with the sights and sounds of an old-fashioned Christmas: carolers\, musicians\, and a fire pit to warm your hands.  Look for Santa and Mrs. Claus\, the Snow Queen\, the Tree Lady\, and other holiday characters.  The event hosts craft and food vendors\, and the town shops\, restaurants\, wine-tasting rooms\, tap houses\, and bars are open.  The streets will be awash in festive holiday décor\, lights\, and sparkling windows.
URL:https://oldediblerenotahoe.com/event/cornish-christmas-2023-12-22/
LOCATION:Downtown Grass Valley
CATEGORIES:Festival,Holiday,Shopping
ATTACH;FMTTYPE=image/jpeg:https://oldediblerenotahoe.com/wp-content/uploads/2023/11/DgC-DSBAkYeQn6aXgAwMl33f.jpg
END:VEVENT
BEGIN:VEVENT
DTSTART;TZID=America/Los_Angeles:20231221T090000
DTEND;TZID=America/Los_Angeles:20231221T140000
DTSTAMP:20260424T093525
CREATED:20231004T015229Z
LAST-MODIFIED:20231004T015437Z
UID:34481-1703149200-1703167200@oldediblerenotahoe.com
SUMMARY:Tahoe City Harvest Market
DESCRIPTION:Don’t miss out on the remaining Farmers Markets of the season! Tahoe Wine Collective is excited to announce the Harvest Markets.While you shop for fresh produce and other market goodies\, visit Tahoe Wine Collective during these hours for wine bottles to go\, ready-to-bake pizza dough\, pasta and sauce pairings\, and delightful sweet treats. Explore the offerings\, pick up essentials for weekend dinners\, indulge in holiday treats\, or find the perfect gift items.
URL:https://oldediblerenotahoe.com/event/tahoecityharvestmarket-2023-12-21/
LOCATION:Boatworks Mall\, 760 North Lake Boulevard\, #2\, Tahoe City\, CA\, 96145
CATEGORIES:Shopping
ATTACH;FMTTYPE=image/jpeg:https://oldediblerenotahoe.com/wp-content/uploads/2023/10/boatworks.jpg
END:VEVENT
BEGIN:VEVENT
DTSTART;TZID=America/Los_Angeles:20231217T150000
DTEND;TZID=America/Los_Angeles:20231217T190000
DTSTAMP:20260424T093525
CREATED:20230925T192850Z
LAST-MODIFIED:20231002T204213Z
UID:34090-1702825200-1702839600@oldediblerenotahoe.com
SUMMARY:Park Farm Stand
DESCRIPTION:Venture into the fields and food forest\, meet the friendly goats named Oliver and June\, and immerse yourself in the vibrant atmosphere of a farm dedicated to combating food insecurity in the community. Explore an array of seasonal veggies\, herbs\, and pollinator plants available for sale. \nDon’t miss the opportunity to have Farmer Joe sharpen your knives between 5-7pm for just $5 per knife. Make sure to visit during the later part of the farm stand to get your knives expertly tuned while you shop for fresh produce!
URL:https://oldediblerenotahoe.com/event/parkfarmstand-2023-12-17/
LOCATION:Betsy Caughlin Donnelly Park\, 3295 Mayberry Dr.\, Reno\, NV\, 89519
CATEGORIES:Family friendly,Farmer's Market,Shopping
END:VEVENT
BEGIN:VEVENT
DTSTART;TZID=America/Los_Angeles:20231217T090000
DTEND;TZID=America/Los_Angeles:20231217T130000
DTSTAMP:20260424T093525
CREATED:20231103T014135Z
LAST-MODIFIED:20231103T014135Z
UID:35228-1702803600-1702818000@oldediblerenotahoe.com
SUMMARY:Riverside Farmers Market
DESCRIPTION:The Riverside Farmers Market stands as Reno’s authentic local market\, exclusively featuring vendors who cultivate\, rear\, or craft their products within the immediate vicinity of the city. Highlighting small-scale\, community-focused\, and sustainable farmers and ranchers\, the market is a testament to the belief that the foundation of healthy food lies in the health of the land. It also serves as a welcoming platform for Reno’s emerging agricultural talents\, providing a space for residents to connect with those who are dedicated to nourishing the Truckee Meadows community through locally grown produce.
URL:https://oldediblerenotahoe.com/event/riverside-farmers-market-3-2023-12-17/
LOCATION:Idlewild Park\, 1000 Cowan Dr.\, Reno\, NV\, 89509
CATEGORIES:Farmers Market,Shopping
END:VEVENT
BEGIN:VEVENT
DTSTART;TZID=America/Los_Angeles:20231215T180000
DTEND;TZID=America/Los_Angeles:20231215T210000
DTSTAMP:20260424T093525
CREATED:20231128T020206Z
LAST-MODIFIED:20231128T020206Z
UID:35536-1702663200-1702674000@oldediblerenotahoe.com
SUMMARY:Cornish Christmas
DESCRIPTION:Downtown Grass Valley will be filled with the sights and sounds of an old-fashioned Christmas: carolers\, musicians\, and a fire pit to warm your hands.  Look for Santa and Mrs. Claus\, the Snow Queen\, the Tree Lady\, and other holiday characters.  The event hosts craft and food vendors\, and the town shops\, restaurants\, wine-tasting rooms\, tap houses\, and bars are open.  The streets will be awash in festive holiday décor\, lights\, and sparkling windows.
URL:https://oldediblerenotahoe.com/event/cornish-christmas-2023-12-15/
LOCATION:Downtown Grass Valley
CATEGORIES:Festival,Holiday,Shopping
ATTACH;FMTTYPE=image/jpeg:https://oldediblerenotahoe.com/wp-content/uploads/2023/11/DgC-DSBAkYeQn6aXgAwMl33f.jpg
END:VEVENT
BEGIN:VEVENT
DTSTART;TZID=America/Los_Angeles:20231215T160000
DTEND;TZID=America/Los_Angeles:20231215T200000
DTSTAMP:20260424T093525
CREATED:20231208T003949Z
LAST-MODIFIED:20231208T003949Z
UID:35663-1702656000-1702670400@oldediblerenotahoe.com
SUMMARY:Downtown Truckee's Festive Fridays
DESCRIPTION:Festive Fridays bring the holiday spirit with music\, themed fun\, and special sales to shop local and shop small this holiday season. Downtown businesses are keeping their doors open ’til 8:00 p.m.! TART Connect service to downtown will be FREE\, and they’ll have a weekly selfie contest on social media to give away some amazing gift card bundles.
URL:https://oldediblerenotahoe.com/event/downtown-truckees-festive-fridays-2023-12-15/
LOCATION:Downtown Truckee\, Truckee\, CA
CATEGORIES:Holiday,Shopping
END:VEVENT
BEGIN:VEVENT
DTSTART;TZID=America/Los_Angeles:20231214T090000
DTEND;TZID=America/Los_Angeles:20231214T140000
DTSTAMP:20260424T093525
CREATED:20231004T015229Z
LAST-MODIFIED:20231004T015437Z
UID:34480-1702544400-1702562400@oldediblerenotahoe.com
SUMMARY:Tahoe City Harvest Market
DESCRIPTION:Don’t miss out on the remaining Farmers Markets of the season! Tahoe Wine Collective is excited to announce the Harvest Markets.While you shop for fresh produce and other market goodies\, visit Tahoe Wine Collective during these hours for wine bottles to go\, ready-to-bake pizza dough\, pasta and sauce pairings\, and delightful sweet treats. Explore the offerings\, pick up essentials for weekend dinners\, indulge in holiday treats\, or find the perfect gift items.
URL:https://oldediblerenotahoe.com/event/tahoecityharvestmarket-2023-12-14/
LOCATION:Boatworks Mall\, 760 North Lake Boulevard\, #2\, Tahoe City\, CA\, 96145
CATEGORIES:Shopping
ATTACH;FMTTYPE=image/jpeg:https://oldediblerenotahoe.com/wp-content/uploads/2023/10/boatworks.jpg
END:VEVENT
BEGIN:VEVENT
DTSTART;TZID=America/Los_Angeles:20231210T150000
DTEND;TZID=America/Los_Angeles:20231210T190000
DTSTAMP:20260424T093525
CREATED:20230925T192850Z
LAST-MODIFIED:20231002T204207Z
UID:34089-1702220400-1702234800@oldediblerenotahoe.com
SUMMARY:Park Farm Stand
DESCRIPTION:Venture into the fields and food forest\, meet the friendly goats named Oliver and June\, and immerse yourself in the vibrant atmosphere of a farm dedicated to combating food insecurity in the community. Explore an array of seasonal veggies\, herbs\, and pollinator plants available for sale. \nDon’t miss the opportunity to have Farmer Joe sharpen your knives between 5-7pm for just $5 per knife. Make sure to visit during the later part of the farm stand to get your knives expertly tuned while you shop for fresh produce!
URL:https://oldediblerenotahoe.com/event/parkfarmstand-2023-12-10/
LOCATION:Betsy Caughlin Donnelly Park\, 3295 Mayberry Dr.\, Reno\, NV\, 89519
CATEGORIES:Family friendly,Farmer's Market,Shopping
END:VEVENT
BEGIN:VEVENT
DTSTART;TZID=America/Los_Angeles:20231210T120000
DTEND;TZID=America/Los_Angeles:20231210T170000
DTSTAMP:20260424T093525
CREATED:20231128T030537Z
LAST-MODIFIED:20231128T030537Z
UID:35590-1702209600-1702227600@oldediblerenotahoe.com
SUMMARY:Schussboom Brewing Co's Maker's Market
DESCRIPTION:
URL:https://oldediblerenotahoe.com/event/schussboom-brewing-cos-makers-market/
LOCATION:Schussboom Brewing Co.\, 12245 S Virginia St.\, Reno\, NV\, 89511
CATEGORIES:Family friendly,Holiday,Shopping
END:VEVENT
BEGIN:VEVENT
DTSTART;TZID=America/Los_Angeles:20231210T100000
DTEND;TZID=America/Los_Angeles:20231210T170000
DTSTAMP:20260424T093525
CREATED:20231208T010650Z
LAST-MODIFIED:20231208T010650Z
UID:35675-1702202400-1702227600@oldediblerenotahoe.com
SUMMARY:Holiday Chili Cash N' Carry
DESCRIPTION:
URL:https://oldediblerenotahoe.com/event/holiday-chili-cash-n-carry-2023-12-10/
LOCATION:The Wedge Ceramics Studio\, 2095 Dickerson Rd\, Reno\, NV
CATEGORIES:Holiday,Shopping
END:VEVENT
BEGIN:VEVENT
DTSTART;TZID=America/Los_Angeles:20231210T090000
DTEND;TZID=America/Los_Angeles:20231210T130000
DTSTAMP:20260424T093525
CREATED:20231103T014135Z
LAST-MODIFIED:20231103T014135Z
UID:35227-1702198800-1702213200@oldediblerenotahoe.com
SUMMARY:Riverside Farmers Market
DESCRIPTION:The Riverside Farmers Market stands as Reno’s authentic local market\, exclusively featuring vendors who cultivate\, rear\, or craft their products within the immediate vicinity of the city. Highlighting small-scale\, community-focused\, and sustainable farmers and ranchers\, the market is a testament to the belief that the foundation of healthy food lies in the health of the land. It also serves as a welcoming platform for Reno’s emerging agricultural talents\, providing a space for residents to connect with those who are dedicated to nourishing the Truckee Meadows community through locally grown produce.
URL:https://oldediblerenotahoe.com/event/riverside-farmers-market-3-2023-12-10/
LOCATION:Idlewild Park\, 1000 Cowan Dr.\, Reno\, NV\, 89509
CATEGORIES:Farmers Market,Shopping
END:VEVENT
BEGIN:VEVENT
DTSTART;TZID=America/Los_Angeles:20231209T120000
DTEND;TZID=America/Los_Angeles:20231209T170000
DTSTAMP:20260424T093525
CREATED:20231128T025944Z
LAST-MODIFIED:20231128T025944Z
UID:35584-1702123200-1702141200@oldediblerenotahoe.com
SUMMARY:Midtown Patio Holiday Market
DESCRIPTION:Join Elixir\, The Wheyfarer\, and Rare Tea for a fun filled afternoon at the MidTown Patio with vendors\, music\, wine tasting\, and specials.
URL:https://oldediblerenotahoe.com/event/midtown-patio-holiday-market/
LOCATION:The Wheyfarer\, 24 California Ave.\, Unit B\, Reno\, NV\, 89509
CATEGORIES:Holiday,Shopping
END:VEVENT
BEGIN:VEVENT
DTSTART;TZID=America/Los_Angeles:20231209T100000
DTEND;TZID=America/Los_Angeles:20231209T170000
DTSTAMP:20260424T093525
CREATED:20231208T010650Z
LAST-MODIFIED:20231208T010650Z
UID:35673-1702116000-1702141200@oldediblerenotahoe.com
SUMMARY:Holiday Chili Cash N' Carry
DESCRIPTION:
URL:https://oldediblerenotahoe.com/event/holiday-chili-cash-n-carry/
LOCATION:The Wedge Ceramics Studio\, 2095 Dickerson Rd\, Reno\, NV
CATEGORIES:Holiday,Shopping
END:VEVENT
BEGIN:VEVENT
DTSTART;TZID=America/Los_Angeles:20231209T100000
DTEND;TZID=America/Los_Angeles:20231209T150000
DTSTAMP:20260424T093525
CREATED:20231208T011410Z
LAST-MODIFIED:20231208T011410Z
UID:35680-1702116000-1702134000@oldediblerenotahoe.com
SUMMARY:Hi-Dez Holiday Market
DESCRIPTION:
URL:https://oldediblerenotahoe.com/event/hi-dez-holiday-market/
LOCATION:The Holland Project\, 140 Vesta Street\, Reno\, NV\, 89502
CATEGORIES:Holiday,Shopping
END:VEVENT
BEGIN:VEVENT
DTSTART;TZID=America/Los_Angeles:20231208T180000
DTEND;TZID=America/Los_Angeles:20231208T210000
DTSTAMP:20260424T093525
CREATED:20231128T020206Z
LAST-MODIFIED:20231128T020206Z
UID:35535-1702058400-1702069200@oldediblerenotahoe.com
SUMMARY:Cornish Christmas
DESCRIPTION:Downtown Grass Valley will be filled with the sights and sounds of an old-fashioned Christmas: carolers\, musicians\, and a fire pit to warm your hands.  Look for Santa and Mrs. Claus\, the Snow Queen\, the Tree Lady\, and other holiday characters.  The event hosts craft and food vendors\, and the town shops\, restaurants\, wine-tasting rooms\, tap houses\, and bars are open.  The streets will be awash in festive holiday décor\, lights\, and sparkling windows.
URL:https://oldediblerenotahoe.com/event/cornish-christmas-2023-12-08/
LOCATION:Downtown Grass Valley
CATEGORIES:Festival,Holiday,Shopping
ATTACH;FMTTYPE=image/jpeg:https://oldediblerenotahoe.com/wp-content/uploads/2023/11/DgC-DSBAkYeQn6aXgAwMl33f.jpg
END:VEVENT
BEGIN:VEVENT
DTSTART;TZID=America/Los_Angeles:20231208T160000
DTEND;TZID=America/Los_Angeles:20231208T200000
DTSTAMP:20260424T093525
CREATED:20231208T003949Z
LAST-MODIFIED:20231208T003949Z
UID:35662-1702051200-1702065600@oldediblerenotahoe.com
SUMMARY:Downtown Truckee's Festive Fridays
DESCRIPTION:Festive Fridays bring the holiday spirit with music\, themed fun\, and special sales to shop local and shop small this holiday season. Downtown businesses are keeping their doors open ’til 8:00 p.m.! TART Connect service to downtown will be FREE\, and they’ll have a weekly selfie contest on social media to give away some amazing gift card bundles.
URL:https://oldediblerenotahoe.com/event/downtown-truckees-festive-fridays-2023-12-08/
LOCATION:Downtown Truckee\, Truckee\, CA
CATEGORIES:Holiday,Shopping
END:VEVENT
BEGIN:VEVENT
DTSTART;TZID=America/Los_Angeles:20231207T163000
DTEND;TZID=America/Los_Angeles:20231207T203000
DTSTAMP:20260424T093525
CREATED:20231128T023310Z
LAST-MODIFIED:20231128T023310Z
UID:35559-1701966600-1701981000@oldediblerenotahoe.com
SUMMARY:Farmers + Makers Holiday Block Party
DESCRIPTION:Celebrate the holidays with local farmers and makers! Enjoy music\, food\, and drink while getting to buy organic produce\, specialty foods and local crafts. Meet the folks who grow our food and make the goods. Bounce between the Tahoe Food Hub\, Sierra Community House and Truckee Roundhouse for a nonprofit open house. Members of each organization will be on-hand to give tours and answer questions. Drinks and food available for purchase from Truckee River Winery\, Good Wolf Brewing and Folk Kombucha.
URL:https://oldediblerenotahoe.com/event/farmers-makers-holiday-block-party-2/
LOCATION:Tahoe Food Hub\, 12116 Chandelle way\, Truckee\, CA
CATEGORIES:Family friendly,Shopping
ATTACH;FMTTYPE=image/png:https://oldediblerenotahoe.com/wp-content/uploads/2023/11/2023_TahoeFoodHub_HolidayBlockParty_Post2.png
END:VEVENT
BEGIN:VEVENT
DTSTART;TZID=America/Los_Angeles:20231207T090000
DTEND;TZID=America/Los_Angeles:20231207T140000
DTSTAMP:20260424T093525
CREATED:20231004T015229Z
LAST-MODIFIED:20231004T015436Z
UID:34479-1701939600-1701957600@oldediblerenotahoe.com
SUMMARY:Tahoe City Harvest Market
DESCRIPTION:Don’t miss out on the remaining Farmers Markets of the season! Tahoe Wine Collective is excited to announce the Harvest Markets.While you shop for fresh produce and other market goodies\, visit Tahoe Wine Collective during these hours for wine bottles to go\, ready-to-bake pizza dough\, pasta and sauce pairings\, and delightful sweet treats. Explore the offerings\, pick up essentials for weekend dinners\, indulge in holiday treats\, or find the perfect gift items.
URL:https://oldediblerenotahoe.com/event/tahoecityharvestmarket-2023-12-07/
LOCATION:Boatworks Mall\, 760 North Lake Boulevard\, #2\, Tahoe City\, CA\, 96145
CATEGORIES:Shopping
ATTACH;FMTTYPE=image/jpeg:https://oldediblerenotahoe.com/wp-content/uploads/2023/10/boatworks.jpg
END:VEVENT
BEGIN:VEVENT
DTSTART;VALUE=DATE:20231207
DTEND;VALUE=DATE:20231211
DTSTAMP:20260424T093525
CREATED:20230922T192725Z
LAST-MODIFIED:20230922T192725Z
UID:33925-1701907200-1702252799@oldediblerenotahoe.com
SUMMARY:Nevada Museum of Art Holiday Sale
DESCRIPTION:Find unique gifts and specialty items at the Nevada Museum of Art’s Holiday Sale from December 7-10\, 2023. All sales support the exhibition and education programs of the Nevada Museum of Art.
URL:https://oldediblerenotahoe.com/event/nmaholidaysale2023/
LOCATION:Nevada Museum of Art\, 160 West Liberty\, Reno\, Nevada\, 89501
CATEGORIES:Holiday,Shopping
ATTACH;FMTTYPE=image/png:https://oldediblerenotahoe.com/wp-content/uploads/2023/09/artthoumerry.png
END:VEVENT
BEGIN:VEVENT
DTSTART;TZID=America/Los_Angeles:20231205T110000
DTEND;TZID=America/Los_Angeles:20231205T170000
DTSTAMP:20260424T093525
CREATED:20231128T030721Z
LAST-MODIFIED:20231128T030721Z
UID:35604-1701774000-1701795600@oldediblerenotahoe.com
SUMMARY:Deck the Halls at Reno Public Market
DESCRIPTION:
URL:https://oldediblerenotahoe.com/event/deck-the-halls-at-reno-public-market-2023-12-05/
LOCATION:Reno Public Market\, 299 E Plumb Ln\, Reno\, NV\, 89502
CATEGORIES:Holiday,Shopping
END:VEVENT
BEGIN:VEVENT
DTSTART;TZID=America/Los_Angeles:20231204T110000
DTEND;TZID=America/Los_Angeles:20231204T170000
DTSTAMP:20260424T093525
CREATED:20231128T030721Z
LAST-MODIFIED:20231128T030721Z
UID:35603-1701687600-1701709200@oldediblerenotahoe.com
SUMMARY:Deck the Halls at Reno Public Market
DESCRIPTION:
URL:https://oldediblerenotahoe.com/event/deck-the-halls-at-reno-public-market-2023-12-04/
LOCATION:Reno Public Market\, 299 E Plumb Ln\, Reno\, NV\, 89502
CATEGORIES:Holiday,Shopping
END:VEVENT
BEGIN:VEVENT
DTSTART;TZID=America/Los_Angeles:20231203T150000
DTEND;TZID=America/Los_Angeles:20231203T190000
DTSTAMP:20260424T093525
CREATED:20230925T192850Z
LAST-MODIFIED:20231002T204206Z
UID:34088-1701615600-1701630000@oldediblerenotahoe.com
SUMMARY:Park Farm Stand
DESCRIPTION:Venture into the fields and food forest\, meet the friendly goats named Oliver and June\, and immerse yourself in the vibrant atmosphere of a farm dedicated to combating food insecurity in the community. Explore an array of seasonal veggies\, herbs\, and pollinator plants available for sale. \nDon’t miss the opportunity to have Farmer Joe sharpen your knives between 5-7pm for just $5 per knife. Make sure to visit during the later part of the farm stand to get your knives expertly tuned while you shop for fresh produce!
URL:https://oldediblerenotahoe.com/event/parkfarmstand-2023-12-03/
LOCATION:Betsy Caughlin Donnelly Park\, 3295 Mayberry Dr.\, Reno\, NV\, 89519
CATEGORIES:Family friendly,Farmer's Market,Shopping
END:VEVENT
BEGIN:VEVENT
DTSTART;TZID=America/Los_Angeles:20231203T110000
DTEND;TZID=America/Los_Angeles:20231203T170000
DTSTAMP:20260424T093525
CREATED:20231128T030721Z
LAST-MODIFIED:20231128T030721Z
UID:35602-1701601200-1701622800@oldediblerenotahoe.com
SUMMARY:Deck the Halls at Reno Public Market
DESCRIPTION:
URL:https://oldediblerenotahoe.com/event/deck-the-halls-at-reno-public-market-2023-12-03/
LOCATION:Reno Public Market\, 299 E Plumb Ln\, Reno\, NV\, 89502
CATEGORIES:Holiday,Shopping
END:VEVENT
BEGIN:VEVENT
DTSTART;TZID=America/Los_Angeles:20231203T110000
DTEND;TZID=America/Los_Angeles:20231203T140000
DTSTAMP:20260424T093525
CREATED:20231128T034946Z
LAST-MODIFIED:20231128T034946Z
UID:35621-1701601200-1701612000@oldediblerenotahoe.com
SUMMARY:Handmade Holiday Faire
DESCRIPTION:Enjoy a hot beverage while you make your own crafts to give as gifts and shop for gifts from local vendors. Take a picture with Santa and Mrs. Claus! Browse the local vendor stalls for gifts for family and friends\, including jewelry\, pottery\, soap\, printmaking\, and more! Each ticket includes one free drink\, and two free DIY crafts.
URL:https://oldediblerenotahoe.com/event/handmade-holiday-faire/
LOCATION:Urban Teaching Farm\, 1700 E 2nd Street\, Reno\, NV\, 89502
CATEGORIES:Holiday,Shopping
END:VEVENT
BEGIN:VEVENT
DTSTART;TZID=America/Los_Angeles:20231203T090000
DTEND;TZID=America/Los_Angeles:20231203T130000
DTSTAMP:20260424T093525
CREATED:20231103T014135Z
LAST-MODIFIED:20231103T014135Z
UID:35226-1701594000-1701608400@oldediblerenotahoe.com
SUMMARY:Riverside Farmers Market
DESCRIPTION:The Riverside Farmers Market stands as Reno’s authentic local market\, exclusively featuring vendors who cultivate\, rear\, or craft their products within the immediate vicinity of the city. Highlighting small-scale\, community-focused\, and sustainable farmers and ranchers\, the market is a testament to the belief that the foundation of healthy food lies in the health of the land. It also serves as a welcoming platform for Reno’s emerging agricultural talents\, providing a space for residents to connect with those who are dedicated to nourishing the Truckee Meadows community through locally grown produce.
URL:https://oldediblerenotahoe.com/event/riverside-farmers-market-3-2023-12-03/
LOCATION:Idlewild Park\, 1000 Cowan Dr.\, Reno\, NV\, 89509
CATEGORIES:Farmers Market,Shopping
END:VEVENT
BEGIN:VEVENT
DTSTART;TZID=America/Los_Angeles:20231202T110000
DTEND;TZID=America/Los_Angeles:20231202T170000
DTSTAMP:20260424T093525
CREATED:20231128T030721Z
LAST-MODIFIED:20231128T030721Z
UID:35601-1701514800-1701536400@oldediblerenotahoe.com
SUMMARY:Deck the Halls at Reno Public Market
DESCRIPTION:
URL:https://oldediblerenotahoe.com/event/deck-the-halls-at-reno-public-market-2023-12-02/
LOCATION:Reno Public Market\, 299 E Plumb Ln\, Reno\, NV\, 89502
CATEGORIES:Holiday,Shopping
END:VEVENT
BEGIN:VEVENT
DTSTART;TZID=America/Los_Angeles:20231201T180000
DTEND;TZID=America/Los_Angeles:20231201T210000
DTSTAMP:20260424T093525
CREATED:20231128T020206Z
LAST-MODIFIED:20231128T020206Z
UID:35534-1701453600-1701464400@oldediblerenotahoe.com
SUMMARY:Cornish Christmas
DESCRIPTION:Downtown Grass Valley will be filled with the sights and sounds of an old-fashioned Christmas: carolers\, musicians\, and a fire pit to warm your hands.  Look for Santa and Mrs. Claus\, the Snow Queen\, the Tree Lady\, and other holiday characters.  The event hosts craft and food vendors\, and the town shops\, restaurants\, wine-tasting rooms\, tap houses\, and bars are open.  The streets will be awash in festive holiday décor\, lights\, and sparkling windows.
URL:https://oldediblerenotahoe.com/event/cornish-christmas-2023-12-01/
LOCATION:Downtown Grass Valley
CATEGORIES:Festival,Holiday,Shopping
ATTACH;FMTTYPE=image/jpeg:https://oldediblerenotahoe.com/wp-content/uploads/2023/11/DgC-DSBAkYeQn6aXgAwMl33f.jpg
END:VEVENT
END:VCALENDAR