BEGIN:VCALENDAR
VERSION:2.0
PRODID:-//Edible Reno-Tahoe - ECPv6.15.20//NONSGML v1.0//EN
CALSCALE:GREGORIAN
METHOD:PUBLISH
X-WR-CALNAME:Edible Reno-Tahoe
X-ORIGINAL-URL:https://oldediblerenotahoe.com
X-WR-CALDESC:Events for Edible Reno-Tahoe
REFRESH-INTERVAL;VALUE=DURATION:PT1H
X-Robots-Tag:noindex
X-PUBLISHED-TTL:PT1H
BEGIN:VTIMEZONE
TZID:America/Los_Angeles
BEGIN:DAYLIGHT
TZOFFSETFROM:-0800
TZOFFSETTO:-0700
TZNAME:PDT
DTSTART:20200308T100000
END:DAYLIGHT
BEGIN:STANDARD
TZOFFSETFROM:-0700
TZOFFSETTO:-0800
TZNAME:PST
DTSTART:20201101T090000
END:STANDARD
BEGIN:DAYLIGHT
TZOFFSETFROM:-0800
TZOFFSETTO:-0700
TZNAME:PDT
DTSTART:20210314T100000
END:DAYLIGHT
BEGIN:STANDARD
TZOFFSETFROM:-0700
TZOFFSETTO:-0800
TZNAME:PST
DTSTART:20211107T090000
END:STANDARD
BEGIN:DAYLIGHT
TZOFFSETFROM:-0800
TZOFFSETTO:-0700
TZNAME:PDT
DTSTART:20220313T100000
END:DAYLIGHT
BEGIN:STANDARD
TZOFFSETFROM:-0700
TZOFFSETTO:-0800
TZNAME:PST
DTSTART:20221106T090000
END:STANDARD
BEGIN:DAYLIGHT
TZOFFSETFROM:-0800
TZOFFSETTO:-0700
TZNAME:PDT
DTSTART:20230312T100000
END:DAYLIGHT
BEGIN:STANDARD
TZOFFSETFROM:-0700
TZOFFSETTO:-0800
TZNAME:PST
DTSTART:20231105T090000
END:STANDARD
BEGIN:DAYLIGHT
TZOFFSETFROM:-0800
TZOFFSETTO:-0700
TZNAME:PDT
DTSTART:20240310T100000
END:DAYLIGHT
BEGIN:STANDARD
TZOFFSETFROM:-0700
TZOFFSETTO:-0800
TZNAME:PST
DTSTART:20241103T090000
END:STANDARD
END:VTIMEZONE
BEGIN:VTIMEZONE
TZID:UTC
BEGIN:STANDARD
TZOFFSETFROM:+0000
TZOFFSETTO:+0000
TZNAME:UTC
DTSTART:20200101T000000
END:STANDARD
END:VTIMEZONE
BEGIN:VEVENT
DTSTART;TZID=America/Los_Angeles:20231114T193000
DTEND;TZID=America/Los_Angeles:20231114T213000
DTSTAMP:20260425T043037
CREATED:20231103T020222Z
LAST-MODIFIED:20231103T020222Z
UID:35301-1699990200-1699997400@oldediblerenotahoe.com
SUMMARY:Disney's The Lion King
DESCRIPTION:
URL:https://oldediblerenotahoe.com/event/disneys-the-lion-king-2023-11-14/
LOCATION:Grand Sierra Resort\, 2500 E 2nd St\, Reno\, NV
CATEGORIES:Music,Theatre
END:VEVENT
BEGIN:VEVENT
DTSTART;TZID=America/Los_Angeles:20231112T200000
DTEND;TZID=America/Los_Angeles:20231112T220000
DTSTAMP:20260425T043037
CREATED:20231103T020222Z
LAST-MODIFIED:20231103T020222Z
UID:35300-1699819200-1699826400@oldediblerenotahoe.com
SUMMARY:Disney's The Lion King
DESCRIPTION:
URL:https://oldediblerenotahoe.com/event/disneys-the-lion-king-2023-11-12-2/
LOCATION:Grand Sierra Resort\, 2500 E 2nd St\, Reno\, NV
CATEGORIES:Music,Theatre
END:VEVENT
BEGIN:VEVENT
DTSTART;TZID=America/Los_Angeles:20231112T130000
DTEND;TZID=America/Los_Angeles:20231112T150000
DTSTAMP:20260425T043037
CREATED:20231103T020222Z
LAST-MODIFIED:20231103T020222Z
UID:35299-1699794000-1699801200@oldediblerenotahoe.com
SUMMARY:Disney's The Lion King
DESCRIPTION:
URL:https://oldediblerenotahoe.com/event/disneys-the-lion-king-2023-11-12/
LOCATION:Grand Sierra Resort\, 2500 E 2nd St\, Reno\, NV
CATEGORIES:Music,Theatre
END:VEVENT
BEGIN:VEVENT
DTSTART;TZID=America/Los_Angeles:20231111T200000
DTEND;TZID=America/Los_Angeles:20231111T220000
DTSTAMP:20260425T043037
CREATED:20231103T020222Z
LAST-MODIFIED:20231103T020222Z
UID:35298-1699732800-1699740000@oldediblerenotahoe.com
SUMMARY:Disney's The Lion King
DESCRIPTION:
URL:https://oldediblerenotahoe.com/event/disneys-the-lion-king-2023-11-11-2/
LOCATION:Grand Sierra Resort\, 2500 E 2nd St\, Reno\, NV
CATEGORIES:Music,Theatre
END:VEVENT
BEGIN:VEVENT
DTSTART;TZID=America/Los_Angeles:20231111T140000
DTEND;TZID=America/Los_Angeles:20231111T160000
DTSTAMP:20260425T043037
CREATED:20231103T020222Z
LAST-MODIFIED:20231103T020222Z
UID:35297-1699711200-1699718400@oldediblerenotahoe.com
SUMMARY:Disney's The Lion King
DESCRIPTION:
URL:https://oldediblerenotahoe.com/event/disneys-the-lion-king-2023-11-11/
LOCATION:Grand Sierra Resort\, 2500 E 2nd St\, Reno\, NV
CATEGORIES:Music,Theatre
END:VEVENT
BEGIN:VEVENT
DTSTART;TZID=America/Los_Angeles:20231110T200000
DTEND;TZID=America/Los_Angeles:20231110T220000
DTSTAMP:20260425T043037
CREATED:20231103T020222Z
LAST-MODIFIED:20231103T020222Z
UID:35295-1699646400-1699653600@oldediblerenotahoe.com
SUMMARY:Disney's The Lion King
DESCRIPTION:
URL:https://oldediblerenotahoe.com/event/disneys-the-lion-king/
LOCATION:Grand Sierra Resort\, 2500 E 2nd St\, Reno\, NV
CATEGORIES:Music,Theatre
END:VEVENT
BEGIN:VEVENT
DTSTART;TZID=America/Los_Angeles:20230926T000000
DTEND;TZID=America/Los_Angeles:20231001T000000
DTSTAMP:20260425T043037
CREATED:20230919T193154Z
LAST-MODIFIED:20230919T193317Z
UID:33660-1695686400-1696118400@oldediblerenotahoe.com
SUMMARY:Tina: The Tina Turner Musical
DESCRIPTION:Don’t miss “TINA – The Tina Turner Musical\,” a powerful story of resilience and triumph\, featuring Tina Turner’s iconic hits. This electrifying production runs from September 26th to October 1st\, 2023\, at the Pioneer Center for the Performing Arts. Tickets are $35 each\, and please be advised that the show is recommended for ages 14+ due to intense elements like loud music\, strobe lighting\, haze\, gunshots\, scenes depicting domestic violence\, and strong language. \nView showtimes and secure your tickets here.
URL:https://oldediblerenotahoe.com/event/tinaturner/
LOCATION:Pioneer Center\, 100 S. Virginia St.\, Reno\, NV\, 89501
CATEGORIES:Music,Theatre
ATTACH;FMTTYPE=image/jpeg:https://oldediblerenotahoe.com/wp-content/uploads/2023/09/Reno_Tina_2000x742.jpg
END:VEVENT
BEGIN:VEVENT
DTSTART;VALUE=DATE:20220517
DTEND;VALUE=DATE:20220523
DTSTAMP:20260425T043037
CREATED:20220117T025531Z
LAST-MODIFIED:20220117T025547Z
UID:25773-1652745600-1653263999@oldediblerenotahoe.com
SUMMARY:Jesus Christ Superstar
DESCRIPTION:Jesus Christ Superstar is an iconic musical phenomenon with a world-wide fan base. In celebration of its 50th Anniversary\, a new mesmerizing production comes to North America. Originally staged by London’s Regent’s Park Open Air Theatre and helmed by the acclaimed director Timothy Sheader (Crazy for You\, Into the Woods) and award winning choreographer Drew McOnie (King Kong\, Strictly Ballroom)\, this production won the 2017 Olivier Award for Best Musical Revival garnering unprecedented reviews and accolades. Appealing to both theater audiences and concert music fans\, this production pays tribute to the historic 1971 Billboard Album of the Year while creating a modern\, theatrical world that is uniquely fresh and inspiring. \nFeaturing award-winning music by Andrew Lloyd Webber and lyrics by Tim Rice\, Jesus Christ Superstar is set against the backdrop of an extraordinary series of events during the final weeks in the life of Jesus Christ as seen through the eyes of Judas. Reflecting the rock roots that defined a generation\, the legendary score includes ‘I Don’t Know How to Love Him’\, ‘Gethsemane’ and ‘Superstar’.
URL:https://oldediblerenotahoe.com/event/jesus-christ-superstar/
LOCATION:Pioneer Center\, 100 S. Virginia St.\, Reno\, NV\, 89501
CATEGORIES:Arts,Community Events,Cultural,Family friendly,Theatre
END:VEVENT
BEGIN:VEVENT
DTSTART;VALUE=DATE:20220423
DTEND;VALUE=DATE:20220424
DTSTAMP:20260425T043037
CREATED:20220225T224559Z
LAST-MODIFIED:20220225T224559Z
UID:26018-1650672000-1650758399@oldediblerenotahoe.com
SUMMARY:A.V.A. Ballet Theatre Presents Beauty and the Beast
DESCRIPTION:A.V.A. Ballet Theatre Presents \nBeauty and the Beast at the Pioneer Center\n\nFeaturing the Reno Philharmonic Orchestra \nThe spring gala season for A.V.A. Ballet Theatre opens with the classic ballet Beauty and the Beast April 23rd and 24th at the Pioneer Center for the Performing Arts. Choreographed by Alexander Van Alstyne\, Beauty and the Beast is the captivating story of the handsome prince who is cursed by an evil witch and transformed into a hideous Beast. He will remain a Beast until someone falls in love with him. That someone is of course\, Beauty. \nThis classic story is filled with mesmerizing dance\, intrigue\, and is fun for the entire family. The Reno Philharmonic Orchestra will perform Tchaikovsky’s exciting score. \nOutstanding guest principal dancers who have danced with Ballet San Antonio and Ballet Idaho will perform with the large cast from A.V.A. Ballet Theatre. \nThe Saturday April 23rd performance will be held at 8pm and the Sunday April 24th performance will be at 2pm. Ticket prices for adults are $30 to $57. Ticket prices for children 12 and under and seniors 65 and older are $25 to $52. For tickets call the Pioneer Center at 775-434-1050 or on-line at pioneercenter.com. Box office hours are Monday through Friday 10am to 4pm. \nA.V.A. Ballet Theatre is the resident ballet company of the Pioneer Center for the Performing Arts. They are northern Nevada’s largest company under the instruction of a professional faculty with years of performing experience in renowned metropolitan ballet and production companies across the United States and Europe.
URL:https://oldediblerenotahoe.com/event/a-v-a-ballet-theatre-presents-beauty-and-the-beast/
LOCATION:Pioneer Center\, 100 S. Virginia St.\, Reno\, NV\, 89501
CATEGORIES:Arts,Dance,Family friendly,Theatre
END:VEVENT
BEGIN:VEVENT
DTSTART;TZID=America/Los_Angeles:20220401T180000
DTEND;TZID=America/Los_Angeles:20220401T180000
DTSTAMP:20260425T043037
CREATED:20220225T223051Z
LAST-MODIFIED:20220225T223051Z
UID:26005-1648836000-1648836000@oldediblerenotahoe.com
SUMMARY:Blippi the Musical
DESCRIPTION:Blippi The Musical brings the energetic and loveable character Blippi off the screen and onto the stage with world-class production\, audience engagement and amazing music. Children from the ages of 2 to 7 years old across the world have quickly taken a liking to Blippi s charismatic personality and innovative teaching lessons! In the Live show they will continue to learn about the world around them while singing and dancing along with this one of a kind show.
URL:https://oldediblerenotahoe.com/event/blippi-the-musical/
LOCATION:Reno Events Center\, 400 North Center St.\, Reno\, NV\, 89501
CATEGORIES:Family friendly,Music,Theatre
END:VEVENT
BEGIN:VEVENT
DTSTART;TZID=America/Los_Angeles:20220318T193000
DTEND;TZID=America/Los_Angeles:20220318T193000
DTSTAMP:20260425T043037
CREATED:20220225T225552Z
LAST-MODIFIED:20220225T225552Z
UID:26033-1647631800-1647631800@oldediblerenotahoe.com
SUMMARY:Shen Yun 2022
DESCRIPTION:Shen Yun is a brilliant artistic revival and celebration of China’s rich cultural heritage. Each performance consists of about 20 pieces\, quickly moving from one legend\, region\, or dynasty to the next. Themes range from the delicate elegance of Tang court ladies to the battlefield heroics of valiant generals\, from the timeless philosophical works of Lao-Tzu to spectacular scenes of magical realms. Some pieces also touch upon the topic of today’s China\, shedding light on the oppression many experience for their spiritual beliefs\, such as Falun Dafa. These tales of courage are often what audience members find the most touching and uplifting.
URL:https://oldediblerenotahoe.com/event/shen-yun-2022/
LOCATION:Pioneer Center\, 100 S. Virginia St.\, Reno\, NV\, 89501
CATEGORIES:Arts,Cultural,Dance,Music,Theatre
END:VEVENT
BEGIN:VEVENT
DTSTART;VALUE=DATE:20220309
DTEND;VALUE=DATE:20220310
DTSTAMP:20260425T043037
CREATED:20220225T224331Z
LAST-MODIFIED:20220225T224331Z
UID:26016-1646784000-1646870399@oldediblerenotahoe.com
SUMMARY:Bull in a China Shop
DESCRIPTION:Synopsis: Inspired by the real letters between Mary Woolley and Jeannette Marks spanning from 1899 to 1937\, this fast-paced comedy asks: What is revolution? What does it mean to be at odds with the world? How do we fulfill our potential? And how the hell do we grow old together? \nThemes: Aging. Betrayal. Feminism. Friendship. Love. Education. LGBTQ+ Interest. Women’s Interest. \nWarning: This production contains the use of explicit language.Cast: Evonne Kezios as Woolley Tara Rispin as Marks Sydney Tello as Pearl Terri Gray as Welsh Claire Hachenberger as Felicity Natalie Hurt – Understudy \nProduction Crew: Director: Melissa Taylor Assistant Director: Moira Bengochea Stage Manager: Erich Goldstein Assistant Stage Manager: Gage Bailie Costume Designer: Christina McSherry Intimacy Director: Adriano Cabral Assistant Intimacy Director: Thomas Rao Dramaturg: Megan Lee Aguas Scenic and Lighting Design: Chad Sweet \nBull in a China Shop is presented by arrangement with Concord Theatricals on behalf of Samuel French\, Inc. www.concordtheatricals.com
URL:https://oldediblerenotahoe.com/event/bull-in-a-china-shop/
LOCATION:Reno Little Theatre\, 147 E Pueblo St\, Reno
CATEGORIES:Arts,Theatre
END:VEVENT
BEGIN:VEVENT
DTSTART;VALUE=DATE:20211023
DTEND;VALUE=DATE:20211024
DTSTAMP:20260425T043037
CREATED:20210909T200116Z
LAST-MODIFIED:20210909T200116Z
UID:25020-1634947200-1635033599@oldediblerenotahoe.com
SUMMARY:All Day October Ghost Walk
DESCRIPTION:CARSON CITY’S GHOST WALKING TOURS REOPENS FOR THE 29th Season \nWITH MADAME CURRY & THE SPIRIT WRANGLERS \nAll Day October Ghost Walk – Saturday\, October 23\, 2021 \nThe Carson City Ghost Walk reopens to the public for evening walking tours!  Carson City’s rich and intriguing history is explored and theatrically re-lived in our seasonal tours\, led by Madame Curry\, a witty community spirit based on the widow of Carson City’s founder\, Abe Curry.  The Carson City Ghost Walks evening walking tours are a delightfully spooky and enjoyable way to experience Carson City’s Victorian era and diverse history.  Hear about lingering spirits of the long ago centuries\, haunted and paranormal stories and gossip from the past. \nThis is a spirit lead\, guided walking tour of the downtown district’s west side historic homes and businesses. This is an outside tour leaving rain or shine.  Please arrive at least 10 minutes before the walk begins.  Please dress for weather & walking. \nTickets: \nAll tickets $15 in advance with an additional online fee.  $20 at the door.  Under 3 Free.  Tickets in advance available online at: purplepass or by mail. \nLocation:  Tours depart from 3rd & Carson Street next to the St. Charles Hotel (Firkin & Fox Pub). \nEarly summer tours leave @ 7:00 PM.  September and October Tours leave @ 6:00 PM \n 
URL:https://oldediblerenotahoe.com/event/all-day-october-ghost-walk/
LOCATION:Downtown Carson City
CATEGORIES:Activity,Arts,Educational,Outdoors,Theatre
END:VEVENT
BEGIN:VEVENT
DTSTART;TZID=America/Los_Angeles:20210911T180000
DTEND;TZID=America/Los_Angeles:20210911T180000
DTSTAMP:20260425T043037
CREATED:20210909T195841Z
LAST-MODIFIED:20210909T195841Z
UID:25017-1631383200-1631383200@oldediblerenotahoe.com
SUMMARY:Out of the Shadows Ghost Walk
DESCRIPTION:CARSON CITY’S GHOST WALKING TOURS REOPENS FOR THE 29th Season \nWITH MADAME CURRY & THE SPIRIT WRANGLERS \nDATES:  9/11\, 9/18\, 9/25\, 10/2\, 10/9 TIME:  6 PM \nNinety Minute Evening Tours \nTickets: $15 Advance. $20 @ the Tour \nONLINE TICKET LINK (Purplepass) \nPrivate Tours Available by reservation.  Minimum 10 People.\n\nContact:  ghostwalkingtour@gmail.com  or (775) 348-6279 \nAll Day October Ghost Walk – Saturday\, October 23\, 2021 \nThe Carson City Ghost Walk reopens to the public for evening walking tours!  Carson City’s rich and intriguing history is explored and theatrically re-lived in our seasonal tours\, led by Madame Curry\, a witty community spirit based on the widow of Carson City’s founder\, Abe Curry.  The Carson City Ghost Walks evening walking tours are a delightfully spooky and enjoyable way to experience Carson City’s Victorian era and diverse history.  Hear about lingering spirits of the long ago centuries\, haunted and paranormal stories and gossip from the past. \nThis is a spirit lead\, guided walking tour of the downtown district’s west side historic homes and businesses. This is an outside tour leaving rain or shine.  Please arrive at least 10 minutes before the walk begins.  Please dress for weather & walking. \nTickets: \nAll tickets $15 in advance with an additional online fee.  $20 at the door.  Under 3 Free.  Tickets in advance available online at: purplepass or by mail. \nLocation:  Tours depart from 3rd & Carson Street next to the St. Charles Hotel (Firkin & Fox Pub). \nEarly summer tours leave @ 7:00 PM.  September and October Tours leave @ 6:00 PM \n 
URL:https://oldediblerenotahoe.com/event/out-of-the-shadows-ghost-walk/
LOCATION:Downtown Carson City
CATEGORIES:Activity,Arts,Community Events,Educational,Outdoors,Theatre
END:VEVENT
BEGIN:VEVENT
DTSTART;TZID=America/Los_Angeles:20210717T140000
DTEND;TZID=America/Los_Angeles:20210717T140000
DTSTAMP:20260425T043037
CREATED:20210629T212826Z
LAST-MODIFIED:20210629T212826Z
UID:24543-1626530400-1626530400@oldediblerenotahoe.com
SUMMARY:Midtown Mixtape
DESCRIPTION:Midtown Mixtape is an evening-length dance show that showcases the work of many talented choreographers in Reno\, NV. With a variety of dance genres\, the performance will include hip-hop\, R&B\, ballet\, contemporary\, modern\, heels\, and many other styles! Don’t miss out on an exciting evening of Reno dance! Featuring work from Kristina Desjardins\, Ray Martinez\, Alex Moya\, Shannise Mora\, Keely Cobb\, Sierra Taylor-Cline\, Kelly August\, Brandon Dabu\, and John Mojica.\n\n\nChoreographers: Kristina Desjardins\, Ray Martinez\, Alex Moya\, Shannise Mora\, Keely Cobb\, Sierra Taylor-Cline\, Kelly August\, Brandon Dabu\, and John Mojica.\n\n\nStage Manager: Benjamin Browder a student at Sage Ridge School\nA Keely Cobb Production
URL:https://oldediblerenotahoe.com/event/midtown-mixtape/
LOCATION:Reno Little Theatre\, 147 E Pueblo St\, Reno
CATEGORIES:Arts,Community Events,Dance,Music,Theatre
END:VEVENT
BEGIN:VEVENT
DTSTART;VALUE=DATE:20210717
DTEND;VALUE=DATE:20210823
DTSTAMP:20260425T043037
CREATED:20210513T211221Z
LAST-MODIFIED:20210513T211221Z
UID:24215-1626480000-1629676799@oldediblerenotahoe.com
SUMMARY:Lake Tahoe Shakespeare Festival
DESCRIPTION:Entertainment\, family\, friends and food/drink will converge under the stars again on the scenic shore of Lake Tahoe this summer as Lake Tahoe Shakespeare Festival (LTSF) launches its 2021 season. Showcasing live entertainment seven nights a week at Sand Harbor\, Lake Tahoe Nevada State Park\, Lake Tahoe Shakespeare Festival’s 2021 season is headlined by mega-hit productions of Much Ado About Nothing\, Shakespeare’s sublime battle of wits and wills\, and Mamma Mia!\, the smash hit feel-good musical. Mamma Mia! (Music and lyrics by Benny Andersson and Björn Ulvaeus / Some songs with Stig Anderson / Book by Catherine Johnson / Originally conceived by Judy Craymer) is presented through special arrangement with MUSIC THEATRE INTERNATIONAL (MTI). \n 
URL:https://oldediblerenotahoe.com/event/lake-tahoe-shakespeare-festival/
LOCATION:Sand Harbor State Park\, 2005 NV-28\, Incline Village\, NV\, 89451
CATEGORIES:Arts,Community Events,Festival,Outdoors,Theatre
END:VEVENT
BEGIN:VEVENT
DTSTART;VALUE=DATE:20210701
DTEND;VALUE=DATE:20210801
DTSTAMP:20260425T043037
CREATED:20210305T032130Z
LAST-MODIFIED:20210305T032130Z
UID:23412-1625097600-1627775999@oldediblerenotahoe.com
SUMMARY:Artown
DESCRIPTION:Artown’s mission is to strengthen Reno’s arts industry\, enhance our civic identity and national image\, thereby creating a climate for the cultural and economic rebirth of our region. \nArtown has been inspiring community through the arts since 1996. \nArtown’s primary goal is to encourage local artist participation and highlight the best performers in northern Nevada. Additionally\, we exist to market and promote these arts events locally\, regionally\, and nationally as a premier arts festival. Artown\, a month-long summer arts festival\, features about 500 events produced by more than 100 organizations and businesses in nearly 100 locations citywide. \nOur anchor events continue to be a mix of regional and national excellence. Most events are free or low cost. Support from corporate sponsors\, foundations and individual donors enables Artown to bring some of the world’s greatest artists and performances into our community. And in doing so\, Artown has given Reno a new reputation: that of a town with a vibrant artistic and cultural community. \nNone of this would be possible without the financial contributions of our primary supporter\, The City of Reno. Artown receives major funding from the following sponsors: NV Energy\, IGT\, Reno-Tahoe\, Nevada State Bank\, University of Nevada\, Reno\, Washoe County\, Wild River Grille\, Fox 11 News 4\, NSN TV\, KUNR Public Radio\, and KNPB Public Television with additional support from the Nevada Arts Council and the National Endowment for the Arts. \nThis project is funded\, in part\, by a grant from the Nevada Arts Council\, a state agency\, and the National Endowment for the Arts\, a federal agency. \nArtown is incorporated as a 501(c)(3) charitable nonprofit agency registered in the State of Nevada (EIN 88-0412311). Contributions may be tax deductible pursuant to the provisions of section 170 of the Internal Revenue Code.
URL:https://oldediblerenotahoe.com/event/artown/
LOCATION:NV
CATEGORIES:Arts,Community Events,Theatre
END:VEVENT
BEGIN:VEVENT
DTSTART;TZID=America/Los_Angeles:20210604T193000
DTEND;TZID=America/Los_Angeles:20210604T193000
DTSTAMP:20260425T043037
CREATED:20210512T210000Z
LAST-MODIFIED:20210512T210000Z
UID:24073-1622835000-1622835000@oldediblerenotahoe.com
SUMMARY:Brew\, Brats and Ballet\, drive-in Carson City edition
DESCRIPTION:Enjoy a casual atmosphere\, original dance on the big BAC screen and a root beer and a brat to boot via food truck June 4-5 at 7:30 p.m.\, at the Brewery Arts Center in Carson City. Sierra Nevada Ballet partners with the Brewery Arts Center and the Reno Little Theater to produce an exciting program that has become an annual tradition. \nBrew\, Brats and Ballet — A Celebration of New Choreography is modeled after Sacramento Ballet’s highly successful tradition of Beer and Ballet features brand new short choreographic works by local and out of state choreographers. Brew\, Brats and Ballet offers audiences a chance to sample yummy brats while enjoying new eclectic choreographic offerings. \nThis year’s program features new works by Barbara Land (former Head of UNR Dance Program)\, Jennifer August (former Artistic Director of Black Rock Dance Company)\, Oliver Adams (dancer/choreographer from England and former dancer with Sacramento Ballet and Smuin Ballet)\, Ananda Bena-Weber (NY professional multidiscipline artist/choreographer/director)\, Alexander Biber (former Sacramento Ballet dancer/choreographer and SNB Choreographer in Residence) and SNB Artistic Director\, Rosine Bena.
URL:https://oldediblerenotahoe.com/event/brew-brats-and-ballet-drive-in-carson-city-edition/
LOCATION:Brewery Arts Center\, 449 W King St.\, Carson City\, NV\, 89703
CATEGORIES:Arts,Community Events,Dance,Music,Theatre
END:VEVENT
BEGIN:VEVENT
DTSTART;VALUE=DATE:20210501
DTEND;VALUE=DATE:20210502
DTSTAMP:20260425T043037
CREATED:20210319T101438Z
LAST-MODIFIED:20210319T101438Z
UID:23549-1619827200-1619913599@oldediblerenotahoe.com
SUMMARY:A.V.A. Ballet Theatre's THE LITTLE MERMAID
DESCRIPTION:A.V.A. Ballet Theatre presents The Little Mermaid\, rescheduled from 2020.
URL:https://oldediblerenotahoe.com/event/a-v-a-ballet-theatres-the-little-mermaid/
LOCATION:Pioneer Center\, 100 S. Virginia St.\, Reno\, NV\, 89501
CATEGORIES:Arts,Music,Theatre
END:VEVENT
END:VCALENDAR