BEGIN:VCALENDAR
VERSION:2.0
PRODID:-//Edible Reno-Tahoe - ECPv6.15.20//NONSGML v1.0//EN
CALSCALE:GREGORIAN
METHOD:PUBLISH
X-WR-CALNAME:Edible Reno-Tahoe
X-ORIGINAL-URL:https://oldediblerenotahoe.com
X-WR-CALDESC:Events for Edible Reno-Tahoe
REFRESH-INTERVAL;VALUE=DURATION:PT1H
X-Robots-Tag:noindex
X-PUBLISHED-TTL:PT1H
BEGIN:VTIMEZONE
TZID:America/Los_Angeles
BEGIN:DAYLIGHT
TZOFFSETFROM:-0800
TZOFFSETTO:-0700
TZNAME:PDT
DTSTART:20230312T100000
END:DAYLIGHT
BEGIN:STANDARD
TZOFFSETFROM:-0700
TZOFFSETTO:-0800
TZNAME:PST
DTSTART:20231105T090000
END:STANDARD
BEGIN:DAYLIGHT
TZOFFSETFROM:-0800
TZOFFSETTO:-0700
TZNAME:PDT
DTSTART:20240310T100000
END:DAYLIGHT
BEGIN:STANDARD
TZOFFSETFROM:-0700
TZOFFSETTO:-0800
TZNAME:PST
DTSTART:20241103T090000
END:STANDARD
BEGIN:DAYLIGHT
TZOFFSETFROM:-0800
TZOFFSETTO:-0700
TZNAME:PDT
DTSTART:20250309T100000
END:DAYLIGHT
BEGIN:STANDARD
TZOFFSETFROM:-0700
TZOFFSETTO:-0800
TZNAME:PST
DTSTART:20251102T090000
END:STANDARD
END:VTIMEZONE
BEGIN:VEVENT
DTSTART;TZID=America/Los_Angeles:20240630T140000
DTEND;TZID=America/Los_Angeles:20240630T160000
DTSTAMP:20260424T115017
CREATED:20231216T191555Z
LAST-MODIFIED:20231216T191555Z
UID:35794-1719756000-1719763200@oldediblerenotahoe.com
SUMMARY:Side Show The Musical - 2014 Revival
DESCRIPTION:
URL:https://oldediblerenotahoe.com/event/side-show-the-musical-2014-revival-2024-06-30/
LOCATION:Brüka Theatre\, 99 North Virginia Street\, Reno\, NV\, 89501
CATEGORIES:Theatre
END:VEVENT
BEGIN:VEVENT
DTSTART;TZID=America/Los_Angeles:20240629T193000
DTEND;TZID=America/Los_Angeles:20240629T213000
DTSTAMP:20260424T115017
CREATED:20231216T195728Z
LAST-MODIFIED:20231216T195728Z
UID:35819-1719689400-1719696600@oldediblerenotahoe.com
SUMMARY:Lake Tahoe Shakespeare Festival: Always ... Patsy Cline
DESCRIPTION:Enjoy the touching true story of Patsy Cline’s friendship with a fan\, Louise Seger\, which started in 1961 and continued until the premature death of the renowned country star. Told through Cline’s music\, this humorous and heartfelt tribute features 27 songs and many of her unforgettable hits such as “Crazy\,” “I Fall to Pieces\,” “Sweet Dreams” and “Walking After Midnight.”
URL:https://oldediblerenotahoe.com/event/ltsfalways-2024-06-29/
LOCATION:Sand Harbor State Park\, 2005 NV-28\, Incline Village\, NV\, 89451
CATEGORIES:Festival,Theatre
ATTACH;FMTTYPE=image/png:https://oldediblerenotahoe.com/wp-content/uploads/2023/12/PatsyCline-ShowPage.png
END:VEVENT
BEGIN:VEVENT
DTSTART;TZID=America/Los_Angeles:20240629T193000
DTEND;TZID=America/Los_Angeles:20240629T213000
DTSTAMP:20260424T115017
CREATED:20231216T191555Z
LAST-MODIFIED:20231216T191555Z
UID:35793-1719689400-1719696600@oldediblerenotahoe.com
SUMMARY:Side Show The Musical - 2014 Revival
DESCRIPTION:
URL:https://oldediblerenotahoe.com/event/side-show-the-musical-2014-revival-2024-06-29/
LOCATION:Brüka Theatre\, 99 North Virginia Street\, Reno\, NV\, 89501
CATEGORIES:Theatre
END:VEVENT
BEGIN:VEVENT
DTSTART;TZID=America/Los_Angeles:20240628T193000
DTEND;TZID=America/Los_Angeles:20240628T213000
DTSTAMP:20260424T115017
CREATED:20231216T195728Z
LAST-MODIFIED:20231216T195728Z
UID:35817-1719603000-1719610200@oldediblerenotahoe.com
SUMMARY:Lake Tahoe Shakespeare Festival: Always ... Patsy Cline
DESCRIPTION:Enjoy the touching true story of Patsy Cline’s friendship with a fan\, Louise Seger\, which started in 1961 and continued until the premature death of the renowned country star. Told through Cline’s music\, this humorous and heartfelt tribute features 27 songs and many of her unforgettable hits such as “Crazy\,” “I Fall to Pieces\,” “Sweet Dreams” and “Walking After Midnight.”
URL:https://oldediblerenotahoe.com/event/ltsfalways/
LOCATION:Sand Harbor State Park\, 2005 NV-28\, Incline Village\, NV\, 89451
CATEGORIES:Festival,Theatre
ATTACH;FMTTYPE=image/png:https://oldediblerenotahoe.com/wp-content/uploads/2023/12/PatsyCline-ShowPage.png
END:VEVENT
BEGIN:VEVENT
DTSTART;TZID=America/Los_Angeles:20240628T193000
DTEND;TZID=America/Los_Angeles:20240628T213000
DTSTAMP:20260424T115017
CREATED:20231216T191555Z
LAST-MODIFIED:20231216T191555Z
UID:35792-1719603000-1719610200@oldediblerenotahoe.com
SUMMARY:Side Show The Musical - 2014 Revival
DESCRIPTION:
URL:https://oldediblerenotahoe.com/event/side-show-the-musical-2014-revival-2024-06-28/
LOCATION:Brüka Theatre\, 99 North Virginia Street\, Reno\, NV\, 89501
CATEGORIES:Theatre
END:VEVENT
BEGIN:VEVENT
DTSTART;TZID=America/Los_Angeles:20240627T193000
DTEND;TZID=America/Los_Angeles:20240627T213000
DTSTAMP:20260424T115017
CREATED:20231216T191555Z
LAST-MODIFIED:20231216T191555Z
UID:35791-1719516600-1719523800@oldediblerenotahoe.com
SUMMARY:Side Show The Musical - 2014 Revival
DESCRIPTION:
URL:https://oldediblerenotahoe.com/event/side-show-the-musical-2014-revival-2024-06-27/
LOCATION:Brüka Theatre\, 99 North Virginia Street\, Reno\, NV\, 89501
CATEGORIES:Theatre
END:VEVENT
BEGIN:VEVENT
DTSTART;TZID=America/Los_Angeles:20240626T193000
DTEND;TZID=America/Los_Angeles:20240626T213000
DTSTAMP:20260424T115017
CREATED:20231216T191555Z
LAST-MODIFIED:20231216T191555Z
UID:35790-1719430200-1719437400@oldediblerenotahoe.com
SUMMARY:Side Show The Musical - 2014 Revival
DESCRIPTION:
URL:https://oldediblerenotahoe.com/event/side-show-the-musical-2014-revival-2024-06-26/
LOCATION:Brüka Theatre\, 99 North Virginia Street\, Reno\, NV\, 89501
CATEGORIES:Theatre
END:VEVENT
BEGIN:VEVENT
DTSTART;TZID=America/Los_Angeles:20240623T193000
DTEND;TZID=America/Los_Angeles:20240623T213000
DTSTAMP:20260424T115017
CREATED:20231216T210027Z
LAST-MODIFIED:20231216T210027Z
UID:35917-1719171000-1719178200@oldediblerenotahoe.com
SUMMARY:To Kill A Mockingbird
DESCRIPTION:All rise for Academy Award® winner Aaron Sorkin’s adaptation of Harper Lee’s Pulitzer Prize-winning masterwork. The New York Times Critic’s Pick TO KILL A MOCKINGBIRD is “the most successful American play in Broadway history” (60 Minutes). Rolling Stone gives it 5 stars\, calling it “an emotionally shattering landmark production of an American classic\,” and New York Magazine calls it “a real phenomenon. Majestic and incandescent\, it’s filled with breath and nuance and soul.” With direction by Tony Award® winner Bartlett Sher\, TO KILL A MOCKINGBIRD – “the greatest novel of all time” (Chicago Tribune) – has quickly become “one of the greatest plays in history” (NPR).
URL:https://oldediblerenotahoe.com/event/to-kill-a-mockingbird-2024-06-23/
LOCATION:Pioneer Center\, 100 S. Virginia St.\, Reno\, NV\, 89501
CATEGORIES:Theatre
ATTACH;FMTTYPE=image/jpeg:https://oldediblerenotahoe.com/wp-content/uploads/2023/12/Reno_TKAM_2000x742.jpeg
END:VEVENT
BEGIN:VEVENT
DTSTART;TZID=America/Los_Angeles:20240622T193000
DTEND;TZID=America/Los_Angeles:20240622T213000
DTSTAMP:20260424T115017
CREATED:20231216T210027Z
LAST-MODIFIED:20231216T210027Z
UID:35916-1719084600-1719091800@oldediblerenotahoe.com
SUMMARY:To Kill A Mockingbird
DESCRIPTION:All rise for Academy Award® winner Aaron Sorkin’s adaptation of Harper Lee’s Pulitzer Prize-winning masterwork. The New York Times Critic’s Pick TO KILL A MOCKINGBIRD is “the most successful American play in Broadway history” (60 Minutes). Rolling Stone gives it 5 stars\, calling it “an emotionally shattering landmark production of an American classic\,” and New York Magazine calls it “a real phenomenon. Majestic and incandescent\, it’s filled with breath and nuance and soul.” With direction by Tony Award® winner Bartlett Sher\, TO KILL A MOCKINGBIRD – “the greatest novel of all time” (Chicago Tribune) – has quickly become “one of the greatest plays in history” (NPR).
URL:https://oldediblerenotahoe.com/event/to-kill-a-mockingbird-2024-06-22/
LOCATION:Pioneer Center\, 100 S. Virginia St.\, Reno\, NV\, 89501
CATEGORIES:Theatre
ATTACH;FMTTYPE=image/jpeg:https://oldediblerenotahoe.com/wp-content/uploads/2023/12/Reno_TKAM_2000x742.jpeg
END:VEVENT
BEGIN:VEVENT
DTSTART;TZID=America/Los_Angeles:20240622T193000
DTEND;TZID=America/Los_Angeles:20240622T213000
DTSTAMP:20260424T115017
CREATED:20231216T191555Z
LAST-MODIFIED:20231216T191555Z
UID:35789-1719084600-1719091800@oldediblerenotahoe.com
SUMMARY:Side Show The Musical - 2014 Revival
DESCRIPTION:
URL:https://oldediblerenotahoe.com/event/side-show-the-musical-2014-revival-2024-06-22/
LOCATION:Brüka Theatre\, 99 North Virginia Street\, Reno\, NV\, 89501
CATEGORIES:Theatre
END:VEVENT
BEGIN:VEVENT
DTSTART;TZID=America/Los_Angeles:20240621T193000
DTEND;TZID=America/Los_Angeles:20240621T213000
DTSTAMP:20260424T115017
CREATED:20231216T210027Z
LAST-MODIFIED:20231216T210027Z
UID:35915-1718998200-1719005400@oldediblerenotahoe.com
SUMMARY:To Kill A Mockingbird
DESCRIPTION:All rise for Academy Award® winner Aaron Sorkin’s adaptation of Harper Lee’s Pulitzer Prize-winning masterwork. The New York Times Critic’s Pick TO KILL A MOCKINGBIRD is “the most successful American play in Broadway history” (60 Minutes). Rolling Stone gives it 5 stars\, calling it “an emotionally shattering landmark production of an American classic\,” and New York Magazine calls it “a real phenomenon. Majestic and incandescent\, it’s filled with breath and nuance and soul.” With direction by Tony Award® winner Bartlett Sher\, TO KILL A MOCKINGBIRD – “the greatest novel of all time” (Chicago Tribune) – has quickly become “one of the greatest plays in history” (NPR).
URL:https://oldediblerenotahoe.com/event/to-kill-a-mockingbird-2024-06-21/
LOCATION:Pioneer Center\, 100 S. Virginia St.\, Reno\, NV\, 89501
CATEGORIES:Theatre
ATTACH;FMTTYPE=image/jpeg:https://oldediblerenotahoe.com/wp-content/uploads/2023/12/Reno_TKAM_2000x742.jpeg
END:VEVENT
BEGIN:VEVENT
DTSTART;TZID=America/Los_Angeles:20240621T193000
DTEND;TZID=America/Los_Angeles:20240621T213000
DTSTAMP:20260424T115017
CREATED:20231216T191555Z
LAST-MODIFIED:20231216T191555Z
UID:35788-1718998200-1719005400@oldediblerenotahoe.com
SUMMARY:Side Show The Musical - 2014 Revival
DESCRIPTION:
URL:https://oldediblerenotahoe.com/event/side-show-the-musical-2014-revival/
LOCATION:Brüka Theatre\, 99 North Virginia Street\, Reno\, NV\, 89501
CATEGORIES:Theatre
END:VEVENT
BEGIN:VEVENT
DTSTART;TZID=America/Los_Angeles:20240620T193000
DTEND;TZID=America/Los_Angeles:20240620T213000
DTSTAMP:20260424T115017
CREATED:20231216T210027Z
LAST-MODIFIED:20231216T210027Z
UID:35914-1718911800-1718919000@oldediblerenotahoe.com
SUMMARY:To Kill A Mockingbird
DESCRIPTION:All rise for Academy Award® winner Aaron Sorkin’s adaptation of Harper Lee’s Pulitzer Prize-winning masterwork. The New York Times Critic’s Pick TO KILL A MOCKINGBIRD is “the most successful American play in Broadway history” (60 Minutes). Rolling Stone gives it 5 stars\, calling it “an emotionally shattering landmark production of an American classic\,” and New York Magazine calls it “a real phenomenon. Majestic and incandescent\, it’s filled with breath and nuance and soul.” With direction by Tony Award® winner Bartlett Sher\, TO KILL A MOCKINGBIRD – “the greatest novel of all time” (Chicago Tribune) – has quickly become “one of the greatest plays in history” (NPR).
URL:https://oldediblerenotahoe.com/event/to-kill-a-mockingbird-2024-06-20/
LOCATION:Pioneer Center\, 100 S. Virginia St.\, Reno\, NV\, 89501
CATEGORIES:Theatre
ATTACH;FMTTYPE=image/jpeg:https://oldediblerenotahoe.com/wp-content/uploads/2023/12/Reno_TKAM_2000x742.jpeg
END:VEVENT
BEGIN:VEVENT
DTSTART;TZID=America/Los_Angeles:20240619T193000
DTEND;TZID=America/Los_Angeles:20240619T213000
DTSTAMP:20260424T115017
CREATED:20231216T210027Z
LAST-MODIFIED:20231216T210027Z
UID:35913-1718825400-1718832600@oldediblerenotahoe.com
SUMMARY:To Kill A Mockingbird
DESCRIPTION:All rise for Academy Award® winner Aaron Sorkin’s adaptation of Harper Lee’s Pulitzer Prize-winning masterwork. The New York Times Critic’s Pick TO KILL A MOCKINGBIRD is “the most successful American play in Broadway history” (60 Minutes). Rolling Stone gives it 5 stars\, calling it “an emotionally shattering landmark production of an American classic\,” and New York Magazine calls it “a real phenomenon. Majestic and incandescent\, it’s filled with breath and nuance and soul.” With direction by Tony Award® winner Bartlett Sher\, TO KILL A MOCKINGBIRD – “the greatest novel of all time” (Chicago Tribune) – has quickly become “one of the greatest plays in history” (NPR).
URL:https://oldediblerenotahoe.com/event/to-kill-a-mockingbird-2024-06-19/
LOCATION:Pioneer Center\, 100 S. Virginia St.\, Reno\, NV\, 89501
CATEGORIES:Theatre
ATTACH;FMTTYPE=image/jpeg:https://oldediblerenotahoe.com/wp-content/uploads/2023/12/Reno_TKAM_2000x742.jpeg
END:VEVENT
BEGIN:VEVENT
DTSTART;TZID=America/Los_Angeles:20240618T193000
DTEND;TZID=America/Los_Angeles:20240618T213000
DTSTAMP:20260424T115017
CREATED:20231216T210027Z
LAST-MODIFIED:20231216T210027Z
UID:35911-1718739000-1718746200@oldediblerenotahoe.com
SUMMARY:To Kill A Mockingbird
DESCRIPTION:All rise for Academy Award® winner Aaron Sorkin’s adaptation of Harper Lee’s Pulitzer Prize-winning masterwork. The New York Times Critic’s Pick TO KILL A MOCKINGBIRD is “the most successful American play in Broadway history” (60 Minutes). Rolling Stone gives it 5 stars\, calling it “an emotionally shattering landmark production of an American classic\,” and New York Magazine calls it “a real phenomenon. Majestic and incandescent\, it’s filled with breath and nuance and soul.” With direction by Tony Award® winner Bartlett Sher\, TO KILL A MOCKINGBIRD – “the greatest novel of all time” (Chicago Tribune) – has quickly become “one of the greatest plays in history” (NPR).
URL:https://oldediblerenotahoe.com/event/to-kill-a-mockingbird/
LOCATION:Pioneer Center\, 100 S. Virginia St.\, Reno\, NV\, 89501
CATEGORIES:Theatre
ATTACH;FMTTYPE=image/jpeg:https://oldediblerenotahoe.com/wp-content/uploads/2023/12/Reno_TKAM_2000x742.jpeg
END:VEVENT
BEGIN:VEVENT
DTSTART;TZID=America/Los_Angeles:20240511T193000
DTEND;TZID=America/Los_Angeles:20240511T213000
DTSTAMP:20260424T115017
CREATED:20231216T191156Z
LAST-MODIFIED:20231216T191156Z
UID:35786-1715455800-1715463000@oldediblerenotahoe.com
SUMMARY:Ken Ludwig's Moon Over Buffalo
DESCRIPTION:
URL:https://oldediblerenotahoe.com/event/ken-ludwigs-moon-over-buffalo-2024-05-11/
LOCATION:Brüka Theatre\, 99 North Virginia Street\, Reno\, NV\, 89501
CATEGORIES:Theatre
END:VEVENT
BEGIN:VEVENT
DTSTART;TZID=America/Los_Angeles:20240510T193000
DTEND;TZID=America/Los_Angeles:20240510T213000
DTSTAMP:20260424T115017
CREATED:20231216T191156Z
LAST-MODIFIED:20231216T191156Z
UID:35785-1715369400-1715376600@oldediblerenotahoe.com
SUMMARY:Ken Ludwig's Moon Over Buffalo
DESCRIPTION:
URL:https://oldediblerenotahoe.com/event/ken-ludwigs-moon-over-buffalo-2024-05-10/
LOCATION:Brüka Theatre\, 99 North Virginia Street\, Reno\, NV\, 89501
CATEGORIES:Theatre
END:VEVENT
BEGIN:VEVENT
DTSTART;TZID=America/Los_Angeles:20240509T193000
DTEND;TZID=America/Los_Angeles:20240509T213000
DTSTAMP:20260424T115017
CREATED:20231216T191156Z
LAST-MODIFIED:20231216T191156Z
UID:35784-1715283000-1715290200@oldediblerenotahoe.com
SUMMARY:Ken Ludwig's Moon Over Buffalo
DESCRIPTION:
URL:https://oldediblerenotahoe.com/event/ken-ludwigs-moon-over-buffalo-2024-05-09/
LOCATION:Brüka Theatre\, 99 North Virginia Street\, Reno\, NV\, 89501
CATEGORIES:Theatre
END:VEVENT
BEGIN:VEVENT
DTSTART;TZID=America/Los_Angeles:20240508T193000
DTEND;TZID=America/Los_Angeles:20240508T213000
DTSTAMP:20260424T115017
CREATED:20231216T191156Z
LAST-MODIFIED:20231216T191156Z
UID:35783-1715196600-1715203800@oldediblerenotahoe.com
SUMMARY:Ken Ludwig's Moon Over Buffalo
DESCRIPTION:
URL:https://oldediblerenotahoe.com/event/ken-ludwigs-moon-over-buffalo-2024-05-08/
LOCATION:Brüka Theatre\, 99 North Virginia Street\, Reno\, NV\, 89501
CATEGORIES:Theatre
END:VEVENT
BEGIN:VEVENT
DTSTART;TZID=America/Los_Angeles:20240505T140000
DTEND;TZID=America/Los_Angeles:20240505T160000
DTSTAMP:20260424T115017
CREATED:20231216T191156Z
LAST-MODIFIED:20231216T191156Z
UID:35782-1714917600-1714924800@oldediblerenotahoe.com
SUMMARY:Ken Ludwig's Moon Over Buffalo
DESCRIPTION:
URL:https://oldediblerenotahoe.com/event/ken-ludwigs-moon-over-buffalo-2024-05-05/
LOCATION:Brüka Theatre\, 99 North Virginia Street\, Reno\, NV\, 89501
CATEGORIES:Theatre
END:VEVENT
BEGIN:VEVENT
DTSTART;TZID=America/Los_Angeles:20240504T193000
DTEND;TZID=America/Los_Angeles:20240504T213000
DTSTAMP:20260424T115017
CREATED:20231216T191156Z
LAST-MODIFIED:20231216T191156Z
UID:35781-1714851000-1714858200@oldediblerenotahoe.com
SUMMARY:Ken Ludwig's Moon Over Buffalo
DESCRIPTION:
URL:https://oldediblerenotahoe.com/event/ken-ludwigs-moon-over-buffalo-2024-05-04/
LOCATION:Brüka Theatre\, 99 North Virginia Street\, Reno\, NV\, 89501
CATEGORIES:Theatre
END:VEVENT
BEGIN:VEVENT
DTSTART;TZID=America/Los_Angeles:20240503T193000
DTEND;TZID=America/Los_Angeles:20240503T213000
DTSTAMP:20260424T115017
CREATED:20231216T191156Z
LAST-MODIFIED:20231216T191156Z
UID:35780-1714764600-1714771800@oldediblerenotahoe.com
SUMMARY:Ken Ludwig's Moon Over Buffalo
DESCRIPTION:
URL:https://oldediblerenotahoe.com/event/ken-ludwigs-moon-over-buffalo-2024-05-03/
LOCATION:Brüka Theatre\, 99 North Virginia Street\, Reno\, NV\, 89501
CATEGORIES:Theatre
END:VEVENT
BEGIN:VEVENT
DTSTART;TZID=America/Los_Angeles:20240502T193000
DTEND;TZID=America/Los_Angeles:20240502T213000
DTSTAMP:20260424T115017
CREATED:20231216T191156Z
LAST-MODIFIED:20231216T191156Z
UID:35779-1714678200-1714685400@oldediblerenotahoe.com
SUMMARY:Ken Ludwig's Moon Over Buffalo
DESCRIPTION:
URL:https://oldediblerenotahoe.com/event/ken-ludwigs-moon-over-buffalo-2024-05-02/
LOCATION:Brüka Theatre\, 99 North Virginia Street\, Reno\, NV\, 89501
CATEGORIES:Theatre
END:VEVENT
BEGIN:VEVENT
DTSTART;TZID=America/Los_Angeles:20240428T140000
DTEND;TZID=America/Los_Angeles:20240428T170000
DTSTAMP:20260424T115017
CREATED:20231228T003411Z
LAST-MODIFIED:20231228T003411Z
UID:36534-1714312800-1714323600@oldediblerenotahoe.com
SUMMARY:The Quality of Life
DESCRIPTION:From award-winning writer Jane Anderson comes this “magnetic work of theater” (The San Francisco Chronicle) filled with compassion and humor. Dinah and Bill\, a devout\, church-going couple from the Midwest are struggling to keep their lives intact after the loss of their daughter. Dinah is compelled to reconnect with her left-leaning cousins in Northern California who’re going through their own trials. Jeannette and Neil have lost their home to a wildfire and Neil has cancer. However they seem to have accepted their situation with astounding good humor\, living in a yurt on their burn site and celebrating life with hits of pot and glasses of good red wine. The couples clash over their beliefs about life\, death\, and religion\, but do so with a healthy dose of humor and heart leading to some hilarious and poignant moments.
URL:https://oldediblerenotahoe.com/event/the-quality-of-life-2024-04-28/
LOCATION:Reno Little Theatre\, 147 E Pueblo St\, Reno
CATEGORIES:Theatre
END:VEVENT
BEGIN:VEVENT
DTSTART;TZID=America/Los_Angeles:20240428T140000
DTEND;TZID=America/Los_Angeles:20240428T160000
DTSTAMP:20260424T115017
CREATED:20231216T191156Z
LAST-MODIFIED:20231216T191156Z
UID:35778-1714312800-1714320000@oldediblerenotahoe.com
SUMMARY:Ken Ludwig's Moon Over Buffalo
DESCRIPTION:
URL:https://oldediblerenotahoe.com/event/ken-ludwigs-moon-over-buffalo-2024-04-28/
LOCATION:Brüka Theatre\, 99 North Virginia Street\, Reno\, NV\, 89501
CATEGORIES:Theatre
END:VEVENT
BEGIN:VEVENT
DTSTART;TZID=America/Los_Angeles:20240427T193000
DTEND;TZID=America/Los_Angeles:20240427T213000
DTSTAMP:20260424T115017
CREATED:20231228T003411Z
LAST-MODIFIED:20231228T003411Z
UID:36533-1714246200-1714253400@oldediblerenotahoe.com
SUMMARY:The Quality of Life
DESCRIPTION:From award-winning writer Jane Anderson comes this “magnetic work of theater” (The San Francisco Chronicle) filled with compassion and humor. Dinah and Bill\, a devout\, church-going couple from the Midwest are struggling to keep their lives intact after the loss of their daughter. Dinah is compelled to reconnect with her left-leaning cousins in Northern California who’re going through their own trials. Jeannette and Neil have lost their home to a wildfire and Neil has cancer. However they seem to have accepted their situation with astounding good humor\, living in a yurt on their burn site and celebrating life with hits of pot and glasses of good red wine. The couples clash over their beliefs about life\, death\, and religion\, but do so with a healthy dose of humor and heart leading to some hilarious and poignant moments.
URL:https://oldediblerenotahoe.com/event/the-quality-of-life-2024-04-27/
LOCATION:Reno Little Theatre\, 147 E Pueblo St\, Reno
CATEGORIES:Theatre
END:VEVENT
BEGIN:VEVENT
DTSTART;TZID=America/Los_Angeles:20240427T193000
DTEND;TZID=America/Los_Angeles:20240427T213000
DTSTAMP:20260424T115017
CREATED:20231216T191156Z
LAST-MODIFIED:20231216T191156Z
UID:35777-1714246200-1714253400@oldediblerenotahoe.com
SUMMARY:Ken Ludwig's Moon Over Buffalo
DESCRIPTION:
URL:https://oldediblerenotahoe.com/event/ken-ludwigs-moon-over-buffalo-2024-04-27/
LOCATION:Brüka Theatre\, 99 North Virginia Street\, Reno\, NV\, 89501
CATEGORIES:Theatre
END:VEVENT
BEGIN:VEVENT
DTSTART;TZID=America/Los_Angeles:20240426T193000
DTEND;TZID=America/Los_Angeles:20240426T213000
DTSTAMP:20260424T115017
CREATED:20231228T003411Z
LAST-MODIFIED:20231228T003411Z
UID:36532-1714159800-1714167000@oldediblerenotahoe.com
SUMMARY:The Quality of Life
DESCRIPTION:From award-winning writer Jane Anderson comes this “magnetic work of theater” (The San Francisco Chronicle) filled with compassion and humor. Dinah and Bill\, a devout\, church-going couple from the Midwest are struggling to keep their lives intact after the loss of their daughter. Dinah is compelled to reconnect with her left-leaning cousins in Northern California who’re going through their own trials. Jeannette and Neil have lost their home to a wildfire and Neil has cancer. However they seem to have accepted their situation with astounding good humor\, living in a yurt on their burn site and celebrating life with hits of pot and glasses of good red wine. The couples clash over their beliefs about life\, death\, and religion\, but do so with a healthy dose of humor and heart leading to some hilarious and poignant moments.
URL:https://oldediblerenotahoe.com/event/the-quality-of-life-2024-04-26/
LOCATION:Reno Little Theatre\, 147 E Pueblo St\, Reno
CATEGORIES:Theatre
END:VEVENT
BEGIN:VEVENT
DTSTART;TZID=America/Los_Angeles:20240426T193000
DTEND;TZID=America/Los_Angeles:20240426T213000
DTSTAMP:20260424T115017
CREATED:20231216T191156Z
LAST-MODIFIED:20231216T191156Z
UID:35776-1714159800-1714167000@oldediblerenotahoe.com
SUMMARY:Ken Ludwig's Moon Over Buffalo
DESCRIPTION:
URL:https://oldediblerenotahoe.com/event/ken-ludwigs-moon-over-buffalo/
LOCATION:Brüka Theatre\, 99 North Virginia Street\, Reno\, NV\, 89501
CATEGORIES:Theatre
END:VEVENT
BEGIN:VEVENT
DTSTART;TZID=America/Los_Angeles:20240425T193000
DTEND;TZID=America/Los_Angeles:20240425T213000
DTSTAMP:20260424T115017
CREATED:20231228T003411Z
LAST-MODIFIED:20231228T003411Z
UID:36531-1714073400-1714080600@oldediblerenotahoe.com
SUMMARY:The Quality of Life
DESCRIPTION:From award-winning writer Jane Anderson comes this “magnetic work of theater” (The San Francisco Chronicle) filled with compassion and humor. Dinah and Bill\, a devout\, church-going couple from the Midwest are struggling to keep their lives intact after the loss of their daughter. Dinah is compelled to reconnect with her left-leaning cousins in Northern California who’re going through their own trials. Jeannette and Neil have lost their home to a wildfire and Neil has cancer. However they seem to have accepted their situation with astounding good humor\, living in a yurt on their burn site and celebrating life with hits of pot and glasses of good red wine. The couples clash over their beliefs about life\, death\, and religion\, but do so with a healthy dose of humor and heart leading to some hilarious and poignant moments.
URL:https://oldediblerenotahoe.com/event/the-quality-of-life-2024-04-25/
LOCATION:Reno Little Theatre\, 147 E Pueblo St\, Reno
CATEGORIES:Theatre
END:VEVENT
END:VCALENDAR