BEGIN:VCALENDAR
VERSION:2.0
PRODID:-//Edible Reno-Tahoe - ECPv6.15.20//NONSGML v1.0//EN
CALSCALE:GREGORIAN
METHOD:PUBLISH
X-ORIGINAL-URL:https://oldediblerenotahoe.com
X-WR-CALDESC:Events for Edible Reno-Tahoe
REFRESH-INTERVAL;VALUE=DURATION:PT1H
X-Robots-Tag:noindex
X-PUBLISHED-TTL:PT1H
BEGIN:VTIMEZONE
TZID:America/Los_Angeles
BEGIN:DAYLIGHT
TZOFFSETFROM:-0800
TZOFFSETTO:-0700
TZNAME:PDT
DTSTART:20230312T100000
END:DAYLIGHT
BEGIN:STANDARD
TZOFFSETFROM:-0700
TZOFFSETTO:-0800
TZNAME:PST
DTSTART:20231105T090000
END:STANDARD
BEGIN:DAYLIGHT
TZOFFSETFROM:-0800
TZOFFSETTO:-0700
TZNAME:PDT
DTSTART:20240310T100000
END:DAYLIGHT
BEGIN:STANDARD
TZOFFSETFROM:-0700
TZOFFSETTO:-0800
TZNAME:PST
DTSTART:20241103T090000
END:STANDARD
BEGIN:DAYLIGHT
TZOFFSETFROM:-0800
TZOFFSETTO:-0700
TZNAME:PDT
DTSTART:20250309T100000
END:DAYLIGHT
BEGIN:STANDARD
TZOFFSETFROM:-0700
TZOFFSETTO:-0800
TZNAME:PST
DTSTART:20251102T090000
END:STANDARD
END:VTIMEZONE
BEGIN:VEVENT
DTSTART;TZID=America/Los_Angeles:20240314T193000
DTEND;TZID=America/Los_Angeles:20240314T213000
DTSTAMP:20260424T200930
CREATED:20231216T204608Z
LAST-MODIFIED:20231216T204608Z
UID:35888-1710444600-1710451800@oldediblerenotahoe.com
SUMMARY:Mean Girls
DESCRIPTION:Direct from Broadway\, MEAN GIRLS is the hilarious hit musical from book writer Tina Fey (“30 Rock”)\, composer Jeff Richmond (“Unbreakable Kimmy Schmidt”)\, lyricist Nell Benjamin (Legally Blonde) and original director and choreographer Casey Nicholaw (The Book of Mormon). The story of a naïve newbie who falls prey to a trio of lionized frenemies\, MEAN GIRLS “delivers with immense energy\, a wicked sense of humor and joyful inside-jokery.”
URL:https://oldediblerenotahoe.com/event/mean-girls-2024-03-14/
LOCATION:Pioneer Center\, 100 S. Virginia St.\, Reno\, NV\, 89501
CATEGORIES:Music,Theatre
ATTACH;FMTTYPE=image/jpeg:https://oldediblerenotahoe.com/wp-content/uploads/2023/12/Reno_MeanGirls_2000x742.jpeg
END:VEVENT
BEGIN:VEVENT
DTSTART;TZID=America/Los_Angeles:20240314T193000
DTEND;TZID=America/Los_Angeles:20240314T213000
DTSTAMP:20260424T200930
CREATED:20231216T185951Z
LAST-MODIFIED:20231216T185951Z
UID:35758-1710444600-1710451800@oldediblerenotahoe.com
SUMMARY:The Book of Will
DESCRIPTION:
URL:https://oldediblerenotahoe.com/event/the-book-of-will-2024-03-14/
LOCATION:Brüka Theatre\, 99 North Virginia Street\, Reno\, NV\, 89501
CATEGORIES:Theatre
END:VEVENT
BEGIN:VEVENT
DTSTART;TZID=America/Los_Angeles:20240313T193000
DTEND;TZID=America/Los_Angeles:20240313T213000
DTSTAMP:20260424T200930
CREATED:20231216T204608Z
LAST-MODIFIED:20231216T204608Z
UID:35887-1710358200-1710365400@oldediblerenotahoe.com
SUMMARY:Mean Girls
DESCRIPTION:Direct from Broadway\, MEAN GIRLS is the hilarious hit musical from book writer Tina Fey (“30 Rock”)\, composer Jeff Richmond (“Unbreakable Kimmy Schmidt”)\, lyricist Nell Benjamin (Legally Blonde) and original director and choreographer Casey Nicholaw (The Book of Mormon). The story of a naïve newbie who falls prey to a trio of lionized frenemies\, MEAN GIRLS “delivers with immense energy\, a wicked sense of humor and joyful inside-jokery.”
URL:https://oldediblerenotahoe.com/event/mean-girls-2024-03-13/
LOCATION:Pioneer Center\, 100 S. Virginia St.\, Reno\, NV\, 89501
CATEGORIES:Music,Theatre
ATTACH;FMTTYPE=image/jpeg:https://oldediblerenotahoe.com/wp-content/uploads/2023/12/Reno_MeanGirls_2000x742.jpeg
END:VEVENT
BEGIN:VEVENT
DTSTART;TZID=America/Los_Angeles:20240313T193000
DTEND;TZID=America/Los_Angeles:20240313T213000
DTSTAMP:20260424T200930
CREATED:20231216T185951Z
LAST-MODIFIED:20231216T185951Z
UID:35757-1710358200-1710365400@oldediblerenotahoe.com
SUMMARY:The Book of Will
DESCRIPTION:
URL:https://oldediblerenotahoe.com/event/the-book-of-will-2024-03-13/
LOCATION:Brüka Theatre\, 99 North Virginia Street\, Reno\, NV\, 89501
CATEGORIES:Theatre
END:VEVENT
BEGIN:VEVENT
DTSTART;TZID=America/Los_Angeles:20240312T193000
DTEND;TZID=America/Los_Angeles:20240312T213000
DTSTAMP:20260424T200930
CREATED:20231216T204608Z
LAST-MODIFIED:20231216T204608Z
UID:35885-1710271800-1710279000@oldediblerenotahoe.com
SUMMARY:Mean Girls
DESCRIPTION:Direct from Broadway\, MEAN GIRLS is the hilarious hit musical from book writer Tina Fey (“30 Rock”)\, composer Jeff Richmond (“Unbreakable Kimmy Schmidt”)\, lyricist Nell Benjamin (Legally Blonde) and original director and choreographer Casey Nicholaw (The Book of Mormon). The story of a naïve newbie who falls prey to a trio of lionized frenemies\, MEAN GIRLS “delivers with immense energy\, a wicked sense of humor and joyful inside-jokery.”
URL:https://oldediblerenotahoe.com/event/mean-girls/
LOCATION:Pioneer Center\, 100 S. Virginia St.\, Reno\, NV\, 89501
CATEGORIES:Music,Theatre
ATTACH;FMTTYPE=image/jpeg:https://oldediblerenotahoe.com/wp-content/uploads/2023/12/Reno_MeanGirls_2000x742.jpeg
END:VEVENT
BEGIN:VEVENT
DTSTART;TZID=America/Los_Angeles:20240310T140000
DTEND;TZID=America/Los_Angeles:20240310T160000
DTSTAMP:20260424T200930
CREATED:20231216T185951Z
LAST-MODIFIED:20231216T185951Z
UID:35756-1710079200-1710086400@oldediblerenotahoe.com
SUMMARY:The Book of Will
DESCRIPTION:
URL:https://oldediblerenotahoe.com/event/the-book-of-will-2024-03-10/
LOCATION:Brüka Theatre\, 99 North Virginia Street\, Reno\, NV\, 89501
CATEGORIES:Theatre
END:VEVENT
BEGIN:VEVENT
DTSTART;TZID=America/Los_Angeles:20240309T193000
DTEND;TZID=America/Los_Angeles:20240309T213000
DTSTAMP:20260424T200930
CREATED:20231216T185951Z
LAST-MODIFIED:20231216T185951Z
UID:35755-1710012600-1710019800@oldediblerenotahoe.com
SUMMARY:The Book of Will
DESCRIPTION:
URL:https://oldediblerenotahoe.com/event/the-book-of-will-2024-03-09/
LOCATION:Brüka Theatre\, 99 North Virginia Street\, Reno\, NV\, 89501
CATEGORIES:Theatre
END:VEVENT
BEGIN:VEVENT
DTSTART;TZID=America/Los_Angeles:20240308T193000
DTEND;TZID=America/Los_Angeles:20240308T213000
DTSTAMP:20260424T200930
CREATED:20231216T185951Z
LAST-MODIFIED:20231216T185951Z
UID:35754-1709926200-1709933400@oldediblerenotahoe.com
SUMMARY:The Book of Will
DESCRIPTION:
URL:https://oldediblerenotahoe.com/event/the-book-of-will-2024-03-08/
LOCATION:Brüka Theatre\, 99 North Virginia Street\, Reno\, NV\, 89501
CATEGORIES:Theatre
END:VEVENT
BEGIN:VEVENT
DTSTART;TZID=America/Los_Angeles:20240307T193000
DTEND;TZID=America/Los_Angeles:20240307T213000
DTSTAMP:20260424T200930
CREATED:20231216T185951Z
LAST-MODIFIED:20231216T185951Z
UID:35753-1709839800-1709847000@oldediblerenotahoe.com
SUMMARY:The Book of Will
DESCRIPTION:
URL:https://oldediblerenotahoe.com/event/the-book-of-will-2024-03-07/
LOCATION:Brüka Theatre\, 99 North Virginia Street\, Reno\, NV\, 89501
CATEGORIES:Theatre
END:VEVENT
BEGIN:VEVENT
DTSTART;TZID=America/Los_Angeles:20240302T193000
DTEND;TZID=America/Los_Angeles:20240302T213000
DTSTAMP:20260424T200930
CREATED:20231216T185951Z
LAST-MODIFIED:20231216T185951Z
UID:35752-1709407800-1709415000@oldediblerenotahoe.com
SUMMARY:The Book of Will
DESCRIPTION:
URL:https://oldediblerenotahoe.com/event/the-book-of-will-2024-03-02/
LOCATION:Brüka Theatre\, 99 North Virginia Street\, Reno\, NV\, 89501
CATEGORIES:Theatre
END:VEVENT
BEGIN:VEVENT
DTSTART;TZID=America/Los_Angeles:20240301T193000
DTEND;TZID=America/Los_Angeles:20240301T213000
DTSTAMP:20260424T200930
CREATED:20231216T185951Z
LAST-MODIFIED:20231216T185951Z
UID:35751-1709321400-1709328600@oldediblerenotahoe.com
SUMMARY:The Book of Will
DESCRIPTION:
URL:https://oldediblerenotahoe.com/event/the-book-of-will/
LOCATION:Brüka Theatre\, 99 North Virginia Street\, Reno\, NV\, 89501
CATEGORIES:Theatre
END:VEVENT
BEGIN:VEVENT
DTSTART;TZID=America/Los_Angeles:20240215T193000
DTEND;TZID=America/Los_Angeles:20240215T213000
DTSTAMP:20260424T200930
CREATED:20231216T203724Z
LAST-MODIFIED:20231216T203724Z
UID:35878-1708025400-1708032600@oldediblerenotahoe.com
SUMMARY:Artown Presents Paul Taylor Dance Company
DESCRIPTION:The northern Nevada Premier of one of the most iconic and dynamic modern dance ensembles of our time\, the Paul Taylor Dance Company has been innovating and transforming the artform of modern dance since 1954. With a history of multidisciplinary collaborations\, passionate expression and thrilling athleticism\, the Company is known worldwide for its vast repertory\, performing work from the Founder’s canon; new works created by some of today’s most engaging and established choreographers; and important historical dance from the 20th and 21st centuries. Dedicated to sharing modern dance with the broadest possible audience\, the Company has toured to over 600 cities in 65 countries with performances and a variety of educational programs and engagement offerings.
URL:https://oldediblerenotahoe.com/event/artown-presents-paul-taylor-dance-company/
LOCATION:Pioneer Center\, 100 S. Virginia St.\, Reno\, NV\, 89501
CATEGORIES:Theatre
ATTACH;FMTTYPE=image/png:https://oldediblerenotahoe.com/wp-content/uploads/2023/12/5Browns.png
END:VEVENT
BEGIN:VEVENT
DTSTART;TZID=America/Los_Angeles:20240204T140000
DTEND;TZID=America/Los_Angeles:20240204T160000
DTSTAMP:20260424T200930
CREATED:20231216T190532Z
LAST-MODIFIED:20231216T190532Z
UID:35774-1707055200-1707062400@oldediblerenotahoe.com
SUMMARY:Every Brilliant Thing
DESCRIPTION:
URL:https://oldediblerenotahoe.com/event/every-brilliant-thing-2024-02-04/
LOCATION:Brüka Theatre\, 99 North Virginia Street\, Reno\, NV\, 89501
CATEGORIES:Theatre
END:VEVENT
BEGIN:VEVENT
DTSTART;TZID=America/Los_Angeles:20240203T193000
DTEND;TZID=America/Los_Angeles:20240203T213000
DTSTAMP:20260424T200930
CREATED:20231216T190532Z
LAST-MODIFIED:20231216T190532Z
UID:35773-1706988600-1706995800@oldediblerenotahoe.com
SUMMARY:Every Brilliant Thing
DESCRIPTION:
URL:https://oldediblerenotahoe.com/event/every-brilliant-thing-2024-02-03/
LOCATION:Brüka Theatre\, 99 North Virginia Street\, Reno\, NV\, 89501
CATEGORIES:Theatre
END:VEVENT
BEGIN:VEVENT
DTSTART;TZID=America/Los_Angeles:20240202T193000
DTEND;TZID=America/Los_Angeles:20240202T213000
DTSTAMP:20260424T200930
CREATED:20231216T190532Z
LAST-MODIFIED:20231216T190532Z
UID:35772-1706902200-1706909400@oldediblerenotahoe.com
SUMMARY:Every Brilliant Thing
DESCRIPTION:
URL:https://oldediblerenotahoe.com/event/every-brilliant-thing-2024-02-02/
LOCATION:Brüka Theatre\, 99 North Virginia Street\, Reno\, NV\, 89501
CATEGORIES:Theatre
END:VEVENT
BEGIN:VEVENT
DTSTART;TZID=America/Los_Angeles:20240201T193000
DTEND;TZID=America/Los_Angeles:20240201T213000
DTSTAMP:20260424T200930
CREATED:20231216T190532Z
LAST-MODIFIED:20231216T190532Z
UID:35771-1706815800-1706823000@oldediblerenotahoe.com
SUMMARY:Every Brilliant Thing
DESCRIPTION:
URL:https://oldediblerenotahoe.com/event/every-brilliant-thing-2024-02-01/
LOCATION:Brüka Theatre\, 99 North Virginia Street\, Reno\, NV\, 89501
CATEGORIES:Theatre
END:VEVENT
BEGIN:VEVENT
DTSTART;TZID=America/Los_Angeles:20240131T193000
DTEND;TZID=America/Los_Angeles:20240131T213000
DTSTAMP:20260424T200930
CREATED:20231216T190532Z
LAST-MODIFIED:20231216T190532Z
UID:35770-1706729400-1706736600@oldediblerenotahoe.com
SUMMARY:Every Brilliant Thing
DESCRIPTION:
URL:https://oldediblerenotahoe.com/event/every-brilliant-thing-2024-01-31/
LOCATION:Brüka Theatre\, 99 North Virginia Street\, Reno\, NV\, 89501
CATEGORIES:Theatre
END:VEVENT
BEGIN:VEVENT
DTSTART;TZID=America/Los_Angeles:20240131T180000
DTEND;TZID=America/Los_Angeles:20240131T200000
DTSTAMP:20260424T200930
CREATED:20231216T202749Z
LAST-MODIFIED:20231216T202749Z
UID:35865-1706724000-1706731200@oldediblerenotahoe.com
SUMMARY:Bluey's Big Play: The Stage Show
DESCRIPTION:
URL:https://oldediblerenotahoe.com/event/blueys-big-play-the-stage-show/
LOCATION:Pioneer Center\, 100 S. Virginia St.\, Reno\, NV\, 89501
CATEGORIES:Family friendly,Theatre
ATTACH;FMTTYPE=image/jpeg:https://oldediblerenotahoe.com/wp-content/uploads/2023/12/blueyhero.jpeg
END:VEVENT
BEGIN:VEVENT
DTSTART;TZID=America/Los_Angeles:20240128T193000
DTEND;TZID=America/Los_Angeles:20240128T213000
DTSTAMP:20260424T200930
CREATED:20231216T202515Z
LAST-MODIFIED:20231216T202515Z
UID:35863-1706470200-1706477400@oldediblerenotahoe.com
SUMMARY:Spanish Nights
DESCRIPTION:Grab your passports and travel to Spain for an evening of unforgettable music with the Reno Phil! Spanish conductor Ramon Tebar will lead the orchestra on a musical journey with colorful works by Spanish composers. Multi award-winning Spanish guitarist Rafael Aguirre will join the program for a performance of Rodrigo’s Fantasia para un Gentilhombre\, a work of lyrical beauty and virtuosity. Join us for a night you won’t soon forget! Olé!
URL:https://oldediblerenotahoe.com/event/spanish-nights-2024-01-28-2/
LOCATION:Pioneer Center\, 100 S. Virginia St.\, Reno\, NV\, 89501
CATEGORIES:Music,Theatre
END:VEVENT
BEGIN:VEVENT
DTSTART;TZID=America/Los_Angeles:20240128T160000
DTEND;TZID=America/Los_Angeles:20240128T180000
DTSTAMP:20260424T200930
CREATED:20231216T202515Z
LAST-MODIFIED:20231216T202515Z
UID:35862-1706457600-1706464800@oldediblerenotahoe.com
SUMMARY:Spanish Nights
DESCRIPTION:Grab your passports and travel to Spain for an evening of unforgettable music with the Reno Phil! Spanish conductor Ramon Tebar will lead the orchestra on a musical journey with colorful works by Spanish composers. Multi award-winning Spanish guitarist Rafael Aguirre will join the program for a performance of Rodrigo’s Fantasia para un Gentilhombre\, a work of lyrical beauty and virtuosity. Join us for a night you won’t soon forget! Olé!
URL:https://oldediblerenotahoe.com/event/spanish-nights-2024-01-28/
LOCATION:Pioneer Center\, 100 S. Virginia St.\, Reno\, NV\, 89501
CATEGORIES:Music,Theatre
END:VEVENT
BEGIN:VEVENT
DTSTART;TZID=America/Los_Angeles:20240128T140000
DTEND;TZID=America/Los_Angeles:20240128T160000
DTSTAMP:20260424T200930
CREATED:20231216T190532Z
LAST-MODIFIED:20231216T190532Z
UID:35769-1706450400-1706457600@oldediblerenotahoe.com
SUMMARY:Every Brilliant Thing
DESCRIPTION:
URL:https://oldediblerenotahoe.com/event/every-brilliant-thing-2024-01-28/
LOCATION:Brüka Theatre\, 99 North Virginia Street\, Reno\, NV\, 89501
CATEGORIES:Theatre
END:VEVENT
BEGIN:VEVENT
DTSTART;TZID=America/Los_Angeles:20240127T193000
DTEND;TZID=America/Los_Angeles:20240127T213000
DTSTAMP:20260424T200930
CREATED:20231216T202515Z
LAST-MODIFIED:20231216T202515Z
UID:35861-1706383800-1706391000@oldediblerenotahoe.com
SUMMARY:Spanish Nights
DESCRIPTION:Grab your passports and travel to Spain for an evening of unforgettable music with the Reno Phil! Spanish conductor Ramon Tebar will lead the orchestra on a musical journey with colorful works by Spanish composers. Multi award-winning Spanish guitarist Rafael Aguirre will join the program for a performance of Rodrigo’s Fantasia para un Gentilhombre\, a work of lyrical beauty and virtuosity. Join us for a night you won’t soon forget! Olé!
URL:https://oldediblerenotahoe.com/event/spanish-nights/
LOCATION:Pioneer Center\, 100 S. Virginia St.\, Reno\, NV\, 89501
CATEGORIES:Music,Theatre
END:VEVENT
BEGIN:VEVENT
DTSTART;TZID=America/Los_Angeles:20240127T193000
DTEND;TZID=America/Los_Angeles:20240127T213000
DTSTAMP:20260424T200930
CREATED:20231216T190532Z
LAST-MODIFIED:20231216T190532Z
UID:35768-1706383800-1706391000@oldediblerenotahoe.com
SUMMARY:Every Brilliant Thing
DESCRIPTION:
URL:https://oldediblerenotahoe.com/event/every-brilliant-thing-2024-01-27/
LOCATION:Brüka Theatre\, 99 North Virginia Street\, Reno\, NV\, 89501
CATEGORIES:Theatre
END:VEVENT
BEGIN:VEVENT
DTSTART;TZID=America/Los_Angeles:20240126T193000
DTEND;TZID=America/Los_Angeles:20240126T213000
DTSTAMP:20260424T200930
CREATED:20231216T190532Z
LAST-MODIFIED:20231216T190532Z
UID:35767-1706297400-1706304600@oldediblerenotahoe.com
SUMMARY:Every Brilliant Thing
DESCRIPTION:
URL:https://oldediblerenotahoe.com/event/every-brilliant-thing/
LOCATION:Brüka Theatre\, 99 North Virginia Street\, Reno\, NV\, 89501
CATEGORIES:Theatre
END:VEVENT
BEGIN:VEVENT
DTSTART;TZID=America/Los_Angeles:20240120T120000
DTEND;TZID=America/Los_Angeles:20240120T213000
DTSTAMP:20260424T200930
CREATED:20231216T190325Z
LAST-MODIFIED:20231216T190325Z
UID:35765-1705752000-1705786200@oldediblerenotahoe.com
SUMMARY:The Biggest Little Theatre Festival
DESCRIPTION:The thirteenth annual BIGGEST little Theatre Festival at Brüka Theatre is a showcase for original theatre pieces featuring traditional and nontraditional performances created by local and regional artists. Aligning with Brüka Theatre’s Mission:  To create and share the experience of innovative theatre\, this small festival features performances in our downtown Sub-Brüka space. Each performance is 60 minutes in length or under and followed by a talk-back.
URL:https://oldediblerenotahoe.com/event/the-biggest-little-theatre-festival-2024-01-20/
LOCATION:Brüka Theatre\, 99 North Virginia Street\, Reno\, NV\, 89501
CATEGORIES:Festival,Theatre
END:VEVENT
BEGIN:VEVENT
DTSTART;TZID=America/Los_Angeles:20240119T183000
DTEND;TZID=America/Los_Angeles:20240119T213000
DTSTAMP:20260424T200930
CREATED:20231216T190325Z
LAST-MODIFIED:20231216T190325Z
UID:35764-1705689000-1705699800@oldediblerenotahoe.com
SUMMARY:The Biggest Little Theatre Festival
DESCRIPTION:The thirteenth annual BIGGEST little Theatre Festival at Brüka Theatre is a showcase for original theatre pieces featuring traditional and nontraditional performances created by local and regional artists. Aligning with Brüka Theatre’s Mission:  To create and share the experience of innovative theatre\, this small festival features performances in our downtown Sub-Brüka space. Each performance is 60 minutes in length or under and followed by a talk-back.
URL:https://oldediblerenotahoe.com/event/the-biggest-little-theatre-festival-2024-01-19/
LOCATION:Brüka Theatre\, 99 North Virginia Street\, Reno\, NV\, 89501
CATEGORIES:Festival,Theatre
END:VEVENT
BEGIN:VEVENT
DTSTART;TZID=America/Los_Angeles:20240118T180000
DTEND;TZID=America/Los_Angeles:20240118T200000
DTSTAMP:20260424T200930
CREATED:20231216T190325Z
LAST-MODIFIED:20231216T190325Z
UID:35763-1705600800-1705608000@oldediblerenotahoe.com
SUMMARY:The Biggest Little Theatre Festival
DESCRIPTION:The thirteenth annual BIGGEST little Theatre Festival at Brüka Theatre is a showcase for original theatre pieces featuring traditional and nontraditional performances created by local and regional artists. Aligning with Brüka Theatre’s Mission:  To create and share the experience of innovative theatre\, this small festival features performances in our downtown Sub-Brüka space. Each performance is 60 minutes in length or under and followed by a talk-back.
URL:https://oldediblerenotahoe.com/event/the-biggest-little-theatre-festival/
LOCATION:Brüka Theatre\, 99 North Virginia Street\, Reno\, NV\, 89501
CATEGORIES:Festival,Theatre
END:VEVENT
BEGIN:VEVENT
DTSTART;TZID=America/Los_Angeles:20240107T190000
DTEND;TZID=America/Los_Angeles:20240107T210000
DTSTAMP:20260424T200930
CREATED:20231216T202133Z
LAST-MODIFIED:20231216T202133Z
UID:35859-1704654000-1704661200@oldediblerenotahoe.com
SUMMARY:SIX The Musical
DESCRIPTION:From Tudor Queens to Pop Icons\, the SIX wives of Henry VIII take the microphone to remix five hundred years of historical heartbreak into a Euphoric Celebration of 21st century girl power! This new original musical is the global sensation that everyone is losing their head over!
URL:https://oldediblerenotahoe.com/event/six-the-musical-2024-01-07-2/
LOCATION:Pioneer Center\, 100 S. Virginia St.\, Reno\, NV\, 89501
CATEGORIES:Theatre
ATTACH;FMTTYPE=image/jpeg:https://oldediblerenotahoe.com/wp-content/uploads/2023/12/Reno_Six_2000x742.jpeg
END:VEVENT
BEGIN:VEVENT
DTSTART;TZID=America/Los_Angeles:20240107T130000
DTEND;TZID=America/Los_Angeles:20240107T150000
DTSTAMP:20260424T200930
CREATED:20231216T202133Z
LAST-MODIFIED:20231216T202133Z
UID:35858-1704632400-1704639600@oldediblerenotahoe.com
SUMMARY:SIX The Musical
DESCRIPTION:From Tudor Queens to Pop Icons\, the SIX wives of Henry VIII take the microphone to remix five hundred years of historical heartbreak into a Euphoric Celebration of 21st century girl power! This new original musical is the global sensation that everyone is losing their head over!
URL:https://oldediblerenotahoe.com/event/six-the-musical-2024-01-07/
LOCATION:Pioneer Center\, 100 S. Virginia St.\, Reno\, NV\, 89501
CATEGORIES:Theatre
ATTACH;FMTTYPE=image/jpeg:https://oldediblerenotahoe.com/wp-content/uploads/2023/12/Reno_Six_2000x742.jpeg
END:VEVENT
BEGIN:VEVENT
DTSTART;TZID=America/Los_Angeles:20240106T140000
DTEND;TZID=America/Los_Angeles:20240106T170000
DTSTAMP:20260424T200930
CREATED:20231216T202133Z
LAST-MODIFIED:20231216T202133Z
UID:35857-1704549600-1704560400@oldediblerenotahoe.com
SUMMARY:SIX The Musical
DESCRIPTION:From Tudor Queens to Pop Icons\, the SIX wives of Henry VIII take the microphone to remix five hundred years of historical heartbreak into a Euphoric Celebration of 21st century girl power! This new original musical is the global sensation that everyone is losing their head over!
URL:https://oldediblerenotahoe.com/event/six-the-musical-2024-01-06/
LOCATION:Pioneer Center\, 100 S. Virginia St.\, Reno\, NV\, 89501
CATEGORIES:Theatre
ATTACH;FMTTYPE=image/jpeg:https://oldediblerenotahoe.com/wp-content/uploads/2023/12/Reno_Six_2000x742.jpeg
END:VEVENT
END:VCALENDAR