BEGIN:VCALENDAR
VERSION:2.0
PRODID:-//Edible Reno-Tahoe - ECPv6.15.20//NONSGML v1.0//EN
CALSCALE:GREGORIAN
METHOD:PUBLISH
X-ORIGINAL-URL:https://oldediblerenotahoe.com
X-WR-CALDESC:Events for Edible Reno-Tahoe
REFRESH-INTERVAL;VALUE=DURATION:PT1H
X-Robots-Tag:noindex
X-PUBLISHED-TTL:PT1H
BEGIN:VTIMEZONE
TZID:America/Los_Angeles
BEGIN:DAYLIGHT
TZOFFSETFROM:-0800
TZOFFSETTO:-0700
TZNAME:PDT
DTSTART:20220313T100000
END:DAYLIGHT
BEGIN:STANDARD
TZOFFSETFROM:-0700
TZOFFSETTO:-0800
TZNAME:PST
DTSTART:20221106T090000
END:STANDARD
BEGIN:DAYLIGHT
TZOFFSETFROM:-0800
TZOFFSETTO:-0700
TZNAME:PDT
DTSTART:20230312T100000
END:DAYLIGHT
BEGIN:STANDARD
TZOFFSETFROM:-0700
TZOFFSETTO:-0800
TZNAME:PST
DTSTART:20231105T090000
END:STANDARD
BEGIN:DAYLIGHT
TZOFFSETFROM:-0800
TZOFFSETTO:-0700
TZNAME:PDT
DTSTART:20240310T100000
END:DAYLIGHT
BEGIN:STANDARD
TZOFFSETFROM:-0700
TZOFFSETTO:-0800
TZNAME:PST
DTSTART:20241103T090000
END:STANDARD
BEGIN:DAYLIGHT
TZOFFSETFROM:-0800
TZOFFSETTO:-0700
TZNAME:PDT
DTSTART:20250309T100000
END:DAYLIGHT
BEGIN:STANDARD
TZOFFSETFROM:-0700
TZOFFSETTO:-0800
TZNAME:PST
DTSTART:20251102T090000
END:STANDARD
BEGIN:DAYLIGHT
TZOFFSETFROM:-0800
TZOFFSETTO:-0700
TZNAME:PDT
DTSTART:20260308T100000
END:DAYLIGHT
BEGIN:STANDARD
TZOFFSETFROM:-0700
TZOFFSETTO:-0800
TZNAME:PST
DTSTART:20261101T090000
END:STANDARD
END:VTIMEZONE
BEGIN:VEVENT
DTSTART;VALUE=DATE:20250918
DTEND;VALUE=DATE:20250922
DTSTAMP:20260423T231159
CREATED:20240114T152438Z
LAST-MODIFIED:20240114T152438Z
UID:36983-1758153600-1758499199@oldediblerenotahoe.com
SUMMARY:Lake Tahoe Wine + Feast
DESCRIPTION:
URL:https://oldediblerenotahoe.com/event/lake-tahoe-wine-feast/
LOCATION:Tahoe Blue Event Center\, Stateline\, NV
CATEGORIES:Festival,Food & Drink,Wine
END:VEVENT
BEGIN:VEVENT
DTSTART;TZID=America/Los_Angeles:20241024T180000
DTEND;TZID=America/Los_Angeles:20241024T210000
DTSTAMP:20260423T231159
CREATED:20240526T220329Z
LAST-MODIFIED:20240526T220329Z
UID:38842-1729792800-1729803600@oldediblerenotahoe.com
SUMMARY:Anthony's Chophouse Winemaker Dinner: Opus One & Robert Mondavi Winery
DESCRIPTION:
URL:https://oldediblerenotahoe.com/event/anthonys-chophouse-winemaker-dinner-opus-one-robert-mondavi-winery/
LOCATION:Nugget Casino Resort\, 1100 Nugget Avenue\,\, Sparks\, NV
CATEGORIES:Food & Drink,Wine
END:VEVENT
BEGIN:VEVENT
DTSTART;TZID=America/Los_Angeles:20240926T180000
DTEND;TZID=America/Los_Angeles:20240926T210000
DTSTAMP:20260423T231159
CREATED:20240515T000501Z
LAST-MODIFIED:20240923T002002Z
UID:38766-1727373600-1727384400@oldediblerenotahoe.com
SUMMARY:Winemaker Dinner - Chalk Hill
DESCRIPTION:
URL:https://oldediblerenotahoe.com/event/winemaker-dinner-chalk-hill/
LOCATION:Anthony’s Chophouse\, 1100 Nugget Ave\, Sparks\, NV\, 89431
CATEGORIES:Food & Drink,Wine
END:VEVENT
BEGIN:VEVENT
DTSTART;TZID=America/Los_Angeles:20240725T180000
DTEND;TZID=America/Los_Angeles:20240725T210000
DTSTAMP:20260423T231159
CREATED:20240318T032402Z
LAST-MODIFIED:20240318T032402Z
UID:37880-1721930400-1721941200@oldediblerenotahoe.com
SUMMARY:Winemaker Dinner - Frank Family Vineyards
DESCRIPTION:
URL:https://oldediblerenotahoe.com/event/winemaker-dinner-frank-family-vineyards/
LOCATION:Nugget Casino Resort\, 1100 Nugget Avenue\,\, Sparks\, NV
CATEGORIES:21+,Food & Drink,Wine
END:VEVENT
BEGIN:VEVENT
DTSTART;TZID=America/Los_Angeles:20240628T170000
DTEND;TZID=America/Los_Angeles:20240628T203000
DTSTAMP:20260423T231159
CREATED:20240618T053524Z
LAST-MODIFIED:20240618T053524Z
UID:38876-1719594000-1719606600@oldediblerenotahoe.com
SUMMARY:Achieve Tahoe's Summer Wine Tasting
DESCRIPTION:Support outdoor recreation programs that build health\, confidence\, and independence for people with disabilities while enjoying wine from some of Northern California’s top wineries at Achieve Tahoe’s Summer Wine Tasting.
URL:https://oldediblerenotahoe.com/event/achieve-tahoes-summer-wine-tasting-2/
LOCATION:PlumpJack Cafe & Bar\, 1920 Olympic Valley Rd\, Olympic Valley\, CA\, 96146
CATEGORIES:21+,Food & Drink,Nonprofit,Wine
ATTACH;FMTTYPE=image/png:https://oldediblerenotahoe.com/wp-content/uploads/2024/06/AT_SummerWine-banner200x150.png
END:VEVENT
BEGIN:VEVENT
DTSTART;TZID=America/Los_Angeles:20240627T183000
DTEND;TZID=America/Los_Angeles:20240627T213000
DTSTAMP:20260423T231159
CREATED:20240119T000835Z
LAST-MODIFIED:20240119T000835Z
UID:37182-1719513000-1719523800@oldediblerenotahoe.com
SUMMARY:Winemaker Dinner: Far Niente & Nickel & Nickel
DESCRIPTION:
URL:https://oldediblerenotahoe.com/event/winemaker-dinner-far-niente-nickel-nickel/
LOCATION:Anthony’s Chophouse\, 1100 Nugget Ave\, Sparks\, NV\, 89431
CATEGORIES:21+,Food & Drink,Wine
END:VEVENT
BEGIN:VEVENT
DTSTART;VALUE=DATE:20240615
DTEND;VALUE=DATE:20240616
DTSTAMP:20260423T231159
CREATED:20240415T024439Z
LAST-MODIFIED:20240415T024439Z
UID:38120-1718409600-1718495999@oldediblerenotahoe.com
SUMMARY:Sierra Chef 2024 Wine Tour Day
DESCRIPTION:Guests will start the day with a full gourmet breakfast at Sierra Chef in beautiful\, historic Genoa before boarding a luxury bus to explore the El Dorado Wine Country.
URL:https://oldediblerenotahoe.com/event/sierra-chef-2024-wine-tour-day/
LOCATION:CA
CATEGORIES:Wine
END:VEVENT
BEGIN:VEVENT
DTSTART;TZID=America/Los_Angeles:20240603T080000
DTEND;TZID=America/Los_Angeles:20240603T170000
DTSTAMP:20260423T231159
CREATED:20240603T230821Z
LAST-MODIFIED:20240603T230821Z
UID:38860-1717401600-1717434000@oldediblerenotahoe.com
SUMMARY:Achieve Tahoe's Summer Wine Tasting
DESCRIPTION:
URL:https://oldediblerenotahoe.com/event/achieve-tahoes-summer-wine-tasting/
LOCATION:PlumpJack Cafe & Bar\, 1920 Olympic Valley Rd\, Olympic Valley\, CA\, 96146
CATEGORIES:21+,Nonprofit,Wine
ATTACH;FMTTYPE=image/png:https://oldediblerenotahoe.com/wp-content/uploads/2024/06/AT_SummerWine-banner200x150.png
END:VEVENT
BEGIN:VEVENT
DTSTART;TZID=America/Los_Angeles:20240530T183000
DTEND;TZID=America/Los_Angeles:20240530T213000
DTSTAMP:20260423T231159
CREATED:20231228T000215Z
LAST-MODIFIED:20240119T000739Z
UID:36511-1717093800-1717104600@oldediblerenotahoe.com
SUMMARY:Winemaker Dinner: Stag's Leap Wine Cellars
DESCRIPTION:
URL:https://oldediblerenotahoe.com/event/winemaker-dinner-stags-leap-wine-cellars/
LOCATION:Anthony’s Chophouse\, 1100 Nugget Ave\, Sparks\, NV\, 89431
CATEGORIES:21+,Food & Drink,Wine
END:VEVENT
BEGIN:VEVENT
DTSTART;TZID=America/Los_Angeles:20240516T170000
DTEND;TZID=America/Los_Angeles:20240516T190000
DTSTAMP:20260423T231159
CREATED:20240506T031418Z
LAST-MODIFIED:20240506T031418Z
UID:38481-1715878800-1715886000@oldediblerenotahoe.com
SUMMARY:Dorinda's Wine Pairing with Rickshaw Wines
DESCRIPTION:An exquisitely handcrafted chocolate and wine pairing experience featuring Rickshaw Wines!\nBring Mom to try 4 wines paired with 4 of Dorinda’s handcrafted chocolates. \nEach month Dorinda’s brings in a new winery and a representative who truly knows their vino!\nWhere are the grapes grown? How do I pick up on those specific flavor notes? How long should you let it breathe? This is a perfect time and place to ask these questions and enjoy some truly incredible wines. And of course\, each wine will be paired with a piece of chocolate\, some new\, some classic\, and some you’ve never tried before!
URL:https://oldediblerenotahoe.com/event/dorindas-wine-pairing-with-rickshaw-wines/
LOCATION:Dorinda’s Chocolates (Downtown)\, 727 Riverside Drive\, Reno\, NV
CATEGORIES:Food & Drink,Wine
END:VEVENT
BEGIN:VEVENT
DTSTART;TZID=America/Los_Angeles:20240504T120000
DTEND;TZID=America/Los_Angeles:20240504T160000
DTSTAMP:20260423T231159
CREATED:20231227T224539Z
LAST-MODIFIED:20231227T224539Z
UID:36322-1714824000-1714838400@oldediblerenotahoe.com
SUMMARY:Four Fires Food & Wine Festival
DESCRIPTION:Celebrating four iconic wine regions\, South of France (Rhône)\, Italy\, Spain/Portugal (Iberia)\, and “Heritage California”\, that inspire the award-winning winemaking of Amador Wine Country at the outdoor Amador County Fair and Events Center. The festival will pay homage to the regions with chefs preparing open-fire locavore dishes\, musicians playing regional melodies\, and tasting of more than 100 award-winning wines.
URL:https://oldediblerenotahoe.com/event/four-fires-food-wine-festival/
LOCATION:Amador County Fairgrounds & Event Center\, 18621 Sherwood Street\, Plymouth\, CA\, 95669
CATEGORIES:Food & Drink,Wine
END:VEVENT
BEGIN:VEVENT
DTSTART;TZID=America/Los_Angeles:20240403T190000
DTEND;TZID=America/Los_Angeles:20240403T210000
DTSTAMP:20260423T231159
CREATED:20240318T043148Z
LAST-MODIFIED:20240318T043148Z
UID:37937-1712170800-1712178000@oldediblerenotahoe.com
SUMMARY:Crystal Basin Cellars Winemakers Dinner
DESCRIPTION:Come and enjoy a prix fixe menu designed by the Cafe Whitney culinary team\, paired with exquisite wines from Crystal Basin Cellars.
URL:https://oldediblerenotahoe.com/event/crystal-basin-cellars-winemakers-dinner/
LOCATION:Cafe Whitney\, 255 North Virginia Street\, Reno\, NV\, 89501
CATEGORIES:Food & Drink,Wine
END:VEVENT
BEGIN:VEVENT
DTSTART;TZID=America/Los_Angeles:20240328T183000
DTEND;TZID=America/Los_Angeles:20240328T213000
DTSTAMP:20260423T231159
CREATED:20231227T235812Z
LAST-MODIFIED:20231227T235812Z
UID:36506-1711650600-1711661400@oldediblerenotahoe.com
SUMMARY:Winemaker Dinner - Silver Oak | Twomey Winery
DESCRIPTION:If exceptional food and wine pairings are your passion or if you simply enjoy wonderful wine and delectable dining in an attractive atmosphere\, Anthony’s Chophouse Winemaker Dinners are for you. The dinners offer several courses\, paired with the perfect wine from the featured winemaker.
URL:https://oldediblerenotahoe.com/event/winemaker-dinner-silver-oak-twomey-winery/
LOCATION:Anthony’s Chophouse\, 1100 Nugget Ave\, Sparks\, NV\, 89431
CATEGORIES:21+,Food & Drink,Wine
END:VEVENT
BEGIN:VEVENT
DTSTART;TZID=America/Los_Angeles:20240316T130000
DTEND;TZID=America/Los_Angeles:20240316T160000
DTSTAMP:20260423T231159
CREATED:20231227T230902Z
LAST-MODIFIED:20231227T230902Z
UID:36369-1710594000-1710604800@oldediblerenotahoe.com
SUMMARY:Foothills Celebration
DESCRIPTION:A Unique Food and Wine Tasting Event – Stroll\, Sip\, Sample\, Shop! Hosted by the Grass Valley Downtown Association\, the Foothills Celebration event has continued to grow in popularity each and every year. Sample chef specialties and delectable sweets from some of the areas finest restaurants and confectioners while you sip fine wine from over 20 foothill wineries and stroll through the streets of historic downtown Grass Valley.
URL:https://oldediblerenotahoe.com/event/foothills-celebration/
LOCATION:Downtown Grass Valley
CATEGORIES:Food & Drink,Wine
END:VEVENT
BEGIN:VEVENT
DTSTART;TZID=America/Los_Angeles:20240308T120000
DTEND;TZID=America/Los_Angeles:20240308T190000
DTSTAMP:20260423T231159
CREATED:20240226T201311Z
LAST-MODIFIED:20240226T201311Z
UID:37424-1709899200-1709924400@oldediblerenotahoe.com
SUMMARY:Wine N Ice Fest
DESCRIPTION:Truckee River Winery’s 2024 Wine n’ Ice benefits the Truckee River Watershed Council\, a local nonprofit dedicated to protecting and restoring our watershed. Watch as competitors sculpt 300lb blocks of ice into awe-inspiring sculptures. This year’s carving competition will be centered around a theme and each sculpture must be inspired by Truckee Big Life! The Top 3 contestants will win an assortment of prizes. The Grand Prize Winner will receive a trophy\, prizes\, and more! \nThe carving will begin at 12pm with judging taking place around 5pm. The main attraction will be the ice carving\, but we’ll also have costume contest with awards going to an Individual\, Couple\, and a Group at 4:00p\, photo back drop for guests\, food and beer from Alibi Ale Works\, outdoor games and – of course – wine from Truckee River!
URL:https://oldediblerenotahoe.com/event/wine-n-ice-fest/
LOCATION:Alibi Ale Works\, 10069 Bridge St\, Truckee\, CA
CATEGORIES:21+,Nonprofit,Wine
ATTACH;FMTTYPE=image/png:https://oldediblerenotahoe.com/wp-content/uploads/2024/02/m.png
END:VEVENT
BEGIN:VEVENT
DTSTART;TZID=America/Los_Angeles:20240224T150000
DTEND;TZID=America/Los_Angeles:20240224T190000
DTSTAMP:20260423T231159
CREATED:20240215T011853Z
LAST-MODIFIED:20240215T011918Z
UID:37325-1708786800-1708801200@oldediblerenotahoe.com
SUMMARY:Cookies & Wine
DESCRIPTION:This event features 4 Girl Scout Cookies paired with 4 wines: \n\nNevada White and Lemonades\nSweet Riesling and Adventurefuls\nMalbec and Peanut Butter Patties\nBasque Red and Toast-yay
URL:https://oldediblerenotahoe.com/event/cookies-wine/
LOCATION:Nevada Sunset Winery\, 415 E 4th St.\, Unit B\, Reno\, NV\, 89512
CATEGORIES:21+,Food & Drink,Wine
END:VEVENT
BEGIN:VEVENT
DTSTART;TZID=America/Los_Angeles:20240127T180000
DTEND;TZID=America/Los_Angeles:20240127T200000
DTSTAMP:20260423T231159
CREATED:20240112T003710Z
LAST-MODIFIED:20240112T003710Z
UID:36972-1706378400-1706385600@oldediblerenotahoe.com
SUMMARY:Element 79 Vineyards Chef’s Pairing Dinner
DESCRIPTION:Sierra Chef welcomes Chef Brian Overhauser of Element 79 Vineyards to Cucina Campagna for a 10 course\, Chef’s Choice tasting menu paired with exquisite Element 79 varietals.
URL:https://oldediblerenotahoe.com/event/element-79-vineyards-chefs-pairing-dinner/
LOCATION:Sierra Chef\, 2292 Main Street\, Genoa\, NV
CATEGORIES:Food & Drink,Wine
END:VEVENT
BEGIN:VEVENT
DTSTART;TZID=America/Los_Angeles:20240106T120000
DTEND;TZID=America/Los_Angeles:20240106T160000
DTSTAMP:20260423T231159
CREATED:20231227T225846Z
LAST-MODIFIED:20240811T002021Z
UID:36354-1704542400-1704556800@oldediblerenotahoe.com
SUMMARY:Carson City Wine Walk
DESCRIPTION:Stroll Downtown Carson City and delight in wine poured by participating businesses. This is the perfect opportunity to experience everything Downtown has to offer while enjoying special deals\, entertainment and a variety of wines.
URL:https://oldediblerenotahoe.com/event/carson-city-wine-walk/
LOCATION:Downtown Carson City
CATEGORIES:21+,Wine
END:VEVENT
BEGIN:VEVENT
DTSTART;TZID=America/Los_Angeles:20231216T140000
DTEND;TZID=America/Los_Angeles:20231216T170000
DTSTAMP:20260423T231159
CREATED:20231213T180609Z
LAST-MODIFIED:20231213T180609Z
UID:35700-1702735200-1702746000@oldediblerenotahoe.com
SUMMARY:Ugly Sweater Wine Walk
DESCRIPTION:Join the small businesses of the Riverwalk Merchants Association along the Truckee River and neighboring streets in downtown Reno for this festive wine walk.
URL:https://oldediblerenotahoe.com/event/ugly-sweater-wine-walk-3/
LOCATION:Downtown Reno
CATEGORIES:21+,Wine
END:VEVENT
BEGIN:VEVENT
DTSTART;TZID=America/Los_Angeles:20231202T140000
DTEND;TZID=America/Los_Angeles:20231202T160000
DTSTAMP:20260423T231159
CREATED:20231110T014316Z
LAST-MODIFIED:20231110T014316Z
UID:35447-1701525600-1701532800@oldediblerenotahoe.com
SUMMARY:Holiday Wreath Building Workshop
DESCRIPTION:Join Heartwood Florist and Tahoe Wine Collective from 2pm-4pm Saturday December 2nd to welcome the holiday season with an afternoon of wine and wreath building. \nRegistration fee includes all the supplies and fixings to create your own wreath\, glass of wine\, and small snacks (cheese\, almonds\, olives\, and crackers.
URL:https://oldediblerenotahoe.com/event/holiday-wreath-building-workshop/
LOCATION:Tahoe Wine Collective\, 760 North Lake Boulevard\, Tahoe City\, CA
CATEGORIES:Activity,Holiday,Wine
ATTACH;FMTTYPE=image/png:https://oldediblerenotahoe.com/wp-content/uploads/2023/11/Heartwoodsara.png
END:VEVENT
BEGIN:VEVENT
DTSTART;TZID=America/Los_Angeles:20231114T170000
DTEND;TZID=America/Los_Angeles:20231114T170000
DTSTAMP:20260423T231159
CREATED:20231106T221055Z
LAST-MODIFIED:20231106T221055Z
UID:35384-1699981200-1699981200@oldediblerenotahoe.com
SUMMARY:Cocktails with Kelly
DESCRIPTION:Join the Reno Chamber Orchestra’s Maestro Kelly Kuo for happy hour cocktails at the Revive Bar in the Element Hotel Lobby. Each attendee will receive one complimentary beer or wine drink ticket courtesy of the Element Hotel\, the Reno Chamber Orchestra’s partner for out of town musician lodging for the 23/24 season! Additional drinks and light bites are available for purchase.
URL:https://oldediblerenotahoe.com/event/cocktails-with-kelly/
LOCATION:Revive Bar in the Element Hotel Lobby\, 2030 Element Lane\, Reno
CATEGORIES:21+,Beer,Music,Wine
ATTACH;FMTTYPE=image/jpeg:https://oldediblerenotahoe.com/wp-content/uploads/2023/11/kelly.jpg
END:VEVENT
BEGIN:VEVENT
DTSTART;TZID=America/Los_Angeles:20231109T180000
DTEND;TZID=America/Los_Angeles:20231109T210000
DTSTAMP:20260423T231159
CREATED:20231024T224429Z
LAST-MODIFIED:20231024T224429Z
UID:34839-1699552800-1699563600@oldediblerenotahoe.com
SUMMARY:Pride Mountain Vineyard Wine Dinner
DESCRIPTION:The Shore Room invites guests to an exclusive event on November 9th from 6-9 PM—a six-course wine dinner with the Owner and Winemaker from Pride\, in collaboration with Executive Chef Sean Munshaw. This exceptional evening promises a curated selection of Pride wines paired with delectable cuisine\, thoughtfully designed to accentuate the flavors of both food and wine.
URL:https://oldediblerenotahoe.com/event/pride-mountain-vineyard-wine-dinner/
LOCATION:The Shore Room\, 1 S Lake Street\, Reno\, NV\, 89501
CATEGORIES:Food & Drink,Wine
END:VEVENT
BEGIN:VEVENT
DTSTART;TZID=America/Los_Angeles:20231106T053000
DTEND;TZID=America/Los_Angeles:20231106T083000
DTSTAMP:20260423T231159
CREATED:20231106T220104Z
LAST-MODIFIED:20231106T220104Z
UID:35375-1699248600-1699259400@oldediblerenotahoe.com
SUMMARY:Italian Wine Dinner
DESCRIPTION:Mo’s By The River joins Bella Italia for an Italian Wine Dinner with wines from August Imports presented by Winemaker and Importer\, Antonio Sanguinetti. RSVP is required. Call 510.205.3611.
URL:https://oldediblerenotahoe.com/event/italian-wine-dinner/
LOCATION:Bella Italia\, 8155 S Virginia St\, Reno\, NV\, 89511
CATEGORIES:Food & Drink,Wine
END:VEVENT
BEGIN:VEVENT
DTSTART;TZID=America/Los_Angeles:20231031T170000
DTEND;TZID=America/Los_Angeles:20231031T210000
DTSTAMP:20260423T231159
CREATED:20231004T020351Z
LAST-MODIFIED:20231004T020351Z
UID:34502-1698771600-1698786000@oldediblerenotahoe.com
SUMMARY:Halloween Wine & Movie Nights
DESCRIPTION:Join in for a delightful blend of sips and scares this Halloween at Wine and Movie Nights! Enjoy seasonal classics while savoring a glass of wine\, providing a perfect atmosphere for relaxation. The movies commence at 5 pm\, and this event is exclusively for adults aged 21 and over. Admission is free!
URL:https://oldediblerenotahoe.com/event/wineandmovienights-2023-10-31/
LOCATION:Tahoe Wine Collective\, 760 North Lake Boulevard\, Tahoe City\, CA
CATEGORIES:21+,Activity,Wine
ATTACH;FMTTYPE=image/png:https://oldediblerenotahoe.com/wp-content/uploads/2023/10/halloweenmovie.png
END:VEVENT
BEGIN:VEVENT
DTSTART;TZID=America/Los_Angeles:20231030T170000
DTEND;TZID=America/Los_Angeles:20231030T210000
DTSTAMP:20260423T231159
CREATED:20231004T020351Z
LAST-MODIFIED:20231004T020351Z
UID:34501-1698685200-1698699600@oldediblerenotahoe.com
SUMMARY:Halloween Wine & Movie Nights
DESCRIPTION:Join in for a delightful blend of sips and scares this Halloween at Wine and Movie Nights! Enjoy seasonal classics while savoring a glass of wine\, providing a perfect atmosphere for relaxation. The movies commence at 5 pm\, and this event is exclusively for adults aged 21 and over. Admission is free!
URL:https://oldediblerenotahoe.com/event/wineandmovienights-2023-10-30/
LOCATION:Tahoe Wine Collective\, 760 North Lake Boulevard\, Tahoe City\, CA
CATEGORIES:21+,Activity,Wine
ATTACH;FMTTYPE=image/png:https://oldediblerenotahoe.com/wp-content/uploads/2023/10/halloweenmovie.png
END:VEVENT
BEGIN:VEVENT
DTSTART;TZID=America/Los_Angeles:20231029T170000
DTEND;TZID=America/Los_Angeles:20231029T210000
DTSTAMP:20260423T231159
CREATED:20231004T020351Z
LAST-MODIFIED:20231004T020351Z
UID:34500-1698598800-1698613200@oldediblerenotahoe.com
SUMMARY:Halloween Wine & Movie Nights
DESCRIPTION:Join in for a delightful blend of sips and scares this Halloween at Wine and Movie Nights! Enjoy seasonal classics while savoring a glass of wine\, providing a perfect atmosphere for relaxation. The movies commence at 5 pm\, and this event is exclusively for adults aged 21 and over. Admission is free!
URL:https://oldediblerenotahoe.com/event/wineandmovienights-2023-10-29/
LOCATION:Tahoe Wine Collective\, 760 North Lake Boulevard\, Tahoe City\, CA
CATEGORIES:21+,Activity,Wine
ATTACH;FMTTYPE=image/png:https://oldediblerenotahoe.com/wp-content/uploads/2023/10/halloweenmovie.png
END:VEVENT
BEGIN:VEVENT
DTSTART;TZID=America/Los_Angeles:20231028T170000
DTEND;TZID=America/Los_Angeles:20231028T210000
DTSTAMP:20260423T231159
CREATED:20231004T020351Z
LAST-MODIFIED:20231004T020351Z
UID:34496-1698512400-1698526800@oldediblerenotahoe.com
SUMMARY:Halloween Wine & Movie Nights
DESCRIPTION:Join in for a delightful blend of sips and scares this Halloween at Wine and Movie Nights! Enjoy seasonal classics while savoring a glass of wine\, providing a perfect atmosphere for relaxation. The movies commence at 5 pm\, and this event is exclusively for adults aged 21 and over. Admission is free!
URL:https://oldediblerenotahoe.com/event/wineandmovienights/
LOCATION:Tahoe Wine Collective\, 760 North Lake Boulevard\, Tahoe City\, CA
CATEGORIES:21+,Activity,Wine
ATTACH;FMTTYPE=image/png:https://oldediblerenotahoe.com/wp-content/uploads/2023/10/halloweenmovie.png
END:VEVENT
BEGIN:VEVENT
DTSTART;TZID=America/Los_Angeles:20231007T120000
DTEND;TZID=America/Los_Angeles:20231007T160000
DTSTAMP:20260423T231159
CREATED:20230908T214948Z
LAST-MODIFIED:20230918T212728Z
UID:32659-1696680000-1696694400@oldediblerenotahoe.com
SUMMARY:Downtown Truckee Wine Walk
DESCRIPTION:The 20th annual Downtown Truckee Wine\, Walk & Shop is on Saturday\, Oct. 7\, from noon to 4 p.m. This event offers a delightful experience in historic downtown Truckee\, Calif.\, featuring a diverse selection of wines\, local boutiques\, and culinary delights. More than 30 wineries will be in attendance\, including well-known favorites and boutique labels. The event has a long-standing tradition of supporting local non-profit organizations\, with this year’s beneficiary being Friends of the Truckee Library\, dedicated to constructing a modern library facility. Attendees can enhance their experience with an exclusive “Prosecco and Pastries” VIP hour and are encouraged to plan their route\, savor food samples\, and responsibly arrange transportation options. \nAdvanced tickets are $65 and include a commemorative wine glass\, program\, food tastings\, and access to wines from over 30 wineries. Limited day-of tickets will be available for $75. \nFor ticket purchases and more information\, please visit TruckeeWineWalk.com.
URL:https://oldediblerenotahoe.com/event/downtown-truckee-wine-walk/
LOCATION:Downtown Truckee\, Truckee\, CA
CATEGORIES:Community Events,Outdoors,Shopping,Wine
ATTACH;FMTTYPE=image/png:https://oldediblerenotahoe.com/wp-content/uploads/2023/09/truckeewinenew.png
END:VEVENT
BEGIN:VEVENT
DTSTART;TZID=America/Los_Angeles:20231006T170000
DTEND;TZID=America/Los_Angeles:20231006T190000
DTSTAMP:20260423T231159
CREATED:20231004T014755Z
LAST-MODIFIED:20231004T014755Z
UID:34470-1696611600-1696618800@oldediblerenotahoe.com
SUMMARY:Explore Burgundy in Tahoe City
DESCRIPTION:Explore the renowned wines of France’s Burgundy region with Tahoe Wine Collective. Enjoy a three or five glass tasting flight. Ted Talley from Terra Firma Wine Company will lead the tasting\, providing insights into what makes each Burgundy region unique. \nReserve your flight here.
URL:https://oldediblerenotahoe.com/event/exploreburgundy/
LOCATION:Tahoe Wine Collective\, 760 North Lake Boulevard\, Tahoe City\, CA
CATEGORIES:Wine
ATTACH;FMTTYPE=image/png:https://oldediblerenotahoe.com/wp-content/uploads/2023/10/oct-6-wine.png
END:VEVENT
BEGIN:VEVENT
DTSTART;VALUE=DATE:20231006
DTEND;VALUE=DATE:20231009
DTSTAMP:20260423T231159
CREATED:20230922T200846Z
LAST-MODIFIED:20230922T200929Z
UID:33957-1696550400-1696809599@oldediblerenotahoe.com
SUMMARY:Big Crush 2023
DESCRIPTION:Experience the Big Crush Harvest Wine Festival by Amador Vintners in Amador County\, CA from October 6th to 8th\, 2023. Over 45 wineries offer barrel tastings\, tours\, and grape crushing. Your ticket covers six wineries daily\, featuring tailored wine tastings\, harvest activities\, bites\, and live music. \nLearn more and secure your ticket(s) here.
URL:https://oldediblerenotahoe.com/event/bigcrush2023/
LOCATION:Amador County\, CA
CATEGORIES:Wine
ATTACH;FMTTYPE=image/jpeg:https://oldediblerenotahoe.com/wp-content/uploads/2023/09/bigcrush.jpg
END:VEVENT
END:VCALENDAR