BEGIN:VCALENDAR
VERSION:2.0
PRODID:-//Edible Reno-Tahoe - ECPv6.15.20//NONSGML v1.0//EN
CALSCALE:GREGORIAN
METHOD:PUBLISH
X-ORIGINAL-URL:https://oldediblerenotahoe.com
X-WR-CALDESC:Events for Edible Reno-Tahoe
REFRESH-INTERVAL;VALUE=DURATION:PT1H
X-Robots-Tag:noindex
X-PUBLISHED-TTL:PT1H
BEGIN:VTIMEZONE
TZID:America/Los_Angeles
BEGIN:DAYLIGHT
TZOFFSETFROM:-0800
TZOFFSETTO:-0700
TZNAME:PDT
DTSTART:20230312T100000
END:DAYLIGHT
BEGIN:STANDARD
TZOFFSETFROM:-0700
TZOFFSETTO:-0800
TZNAME:PST
DTSTART:20231105T090000
END:STANDARD
BEGIN:DAYLIGHT
TZOFFSETFROM:-0800
TZOFFSETTO:-0700
TZNAME:PDT
DTSTART:20240310T100000
END:DAYLIGHT
BEGIN:STANDARD
TZOFFSETFROM:-0700
TZOFFSETTO:-0800
TZNAME:PST
DTSTART:20241103T090000
END:STANDARD
BEGIN:DAYLIGHT
TZOFFSETFROM:-0800
TZOFFSETTO:-0700
TZNAME:PDT
DTSTART:20250309T100000
END:DAYLIGHT
BEGIN:STANDARD
TZOFFSETFROM:-0700
TZOFFSETTO:-0800
TZNAME:PST
DTSTART:20251102T090000
END:STANDARD
END:VTIMEZONE
BEGIN:VEVENT
DTSTART;VALUE=DATE:20240909
DTEND;VALUE=DATE:20240916
DTSTAMP:20260425T200238
CREATED:20240713T213029Z
LAST-MODIFIED:20240713T213029Z
UID:39308-1725840000-1726444799@oldediblerenotahoe.com
SUMMARY:Reno Snaffle Bit Futurity
DESCRIPTION:The Tradition Continues! The Reno Snaffle Bit Futurity is a showcase for the Spanish Vaquero’s horse training methods dating back to the early American West. The competition is a family-friendly\, adrenaline-charged sports event for all horse enthusiasts. Three-year-old equine athletes compete in herd work\, rein work and fence work. Shoppers can enjoy western vendors offering a variety of clothing\, art\, jewelry\, gear and supplies.
URL:https://oldediblerenotahoe.com/event/reno-snaffle-bit-futurity/
LOCATION:Reno-Sparks Livestock Events Center\, 1350 North Wells Ave\, Reno\, NV\, 89512
END:VEVENT
BEGIN:VEVENT
DTSTART;TZID=America/Los_Angeles:20240910T080000
DTEND;TZID=America/Los_Angeles:20240910T130000
DTSTAMP:20260425T200238
CREATED:20240912T164300Z
LAST-MODIFIED:20240912T164300Z
UID:40017-1725955200-1725973200@oldediblerenotahoe.com
SUMMARY:Truckee Certified Farmer's Market
DESCRIPTION:Come to the Truckee Farmers Market every Tuesday for fresh and local fruits\, veggies\, flowers\, meats\, cheeses\, olive oil\, fresh baked breads\, artisan crafts\, food trucks and more!
URL:https://oldediblerenotahoe.com/event/truckee-certified-farmers-market-3-2024-09-10/
LOCATION:Truckee River Regional Park
END:VEVENT
BEGIN:VEVENT
DTSTART;TZID=America/Los_Angeles:20240910T160000
DTEND;TZID=America/Los_Angeles:20240910T180000
DTSTAMP:20260425T200238
CREATED:20240811T004456Z
LAST-MODIFIED:20240811T010030Z
UID:39559-1725984000-1725991200@oldediblerenotahoe.com
SUMMARY:Teens Cook
DESCRIPTION:
URL:https://oldediblerenotahoe.com/event/teens-cook/
LOCATION:Nothing To It!\, 225 Crummer Lane\, Reno\, NV\, 89502\, United States
END:VEVENT
BEGIN:VEVENT
DTSTART;TZID=America/Los_Angeles:20240911T160000
DTEND;TZID=America/Los_Angeles:20240911T180000
DTSTAMP:20260425T200238
CREATED:20240811T004534Z
LAST-MODIFIED:20240811T010150Z
UID:39561-1726070400-1726077600@oldediblerenotahoe.com
SUMMARY:Kids Cook
DESCRIPTION:
URL:https://oldediblerenotahoe.com/event/kids-cook/
LOCATION:Nothing To It!\, 225 Crummer Lane\, Reno\, NV\, 89502\, United States
END:VEVENT
BEGIN:VEVENT
DTSTART;TZID=America/Los_Angeles:20240911T170000
DTEND;TZID=America/Los_Angeles:20240911T203000
DTSTAMP:20260425T200238
CREATED:20240514T234745Z
LAST-MODIFIED:20240514T234745Z
UID:38600-1726074000-1726086600@oldediblerenotahoe.com
SUMMARY:Susanville Certified Farmers' Market
DESCRIPTION:
URL:https://oldediblerenotahoe.com/event/susanville-certified-farmers-market-2024-09-11/
LOCATION:NV
CATEGORIES:Farmer's Market,Farmers Market
END:VEVENT
BEGIN:VEVENT
DTSTART;TZID=America/Los_Angeles:20240911T180000
DTEND;TZID=America/Los_Angeles:20240911T200000
DTSTAMP:20260425T200238
CREATED:20240811T020121Z
LAST-MODIFIED:20240811T020121Z
UID:39701-1726077600-1726084800@oldediblerenotahoe.com
SUMMARY:Ayurveda
DESCRIPTION:Reconnect with your mind\, body and spirit through the ancient Indian system of health care\, Ayurveda. Create balance and identify disharmonies in your life through the use of food\, herbs and a variety of sense therapies taught in this unique and dynamic class.
URL:https://oldediblerenotahoe.com/event/ayurveda/
LOCATION:TMCC Meadowood Center\, 5270 Neil Rd.\, South Bldg.\, Reno\, NV\, 89502\, United States
END:VEVENT
BEGIN:VEVENT
DTSTART;TZID=America/Los_Angeles:20240911T200000
DTEND;TZID=America/Los_Angeles:20240911T220000
DTSTAMP:20260425T200238
CREATED:20240713T215617Z
LAST-MODIFIED:20240713T215617Z
UID:39336-1726084800-1726092000@oldediblerenotahoe.com
SUMMARY:Coheed and Cambria
DESCRIPTION:Progressive rock group Coheed and Cambria blend epic science fiction storytelling with creative\, punk rock style riffs and original takes with an old school style. Heavily influenced by groups like Led Zeppelin and Pink Floyd\, Coheed and Cambria created a unique sound catapulting their songs into the Billboard’s Top 10 multiple times\, including their 2018 #1 hit\, The Dark Sentencer. \nEach of the group’s albums\, with the exception of 2015’s The Color Before the Sun\, are based on lead vocalist Claudio Sanchez’s science fiction storyline\, called The Amory Wars\, which has become both a comic book series and a full-length novel.
URL:https://oldediblerenotahoe.com/event/coheed-and-cambria/
LOCATION:Grand Sierra Resort\, 2500 E 2nd St\, Reno\, NV
END:VEVENT
BEGIN:VEVENT
DTSTART;VALUE=DATE:20240912
DTEND;VALUE=DATE:20240916
DTSTAMP:20260425T200238
CREATED:20231128T023553Z
LAST-MODIFIED:20231128T023553Z
UID:35562-1726099200-1726444799@oldediblerenotahoe.com
SUMMARY:RTIA Show 2024
DESCRIPTION:The Reno Tahoe International Art Show (RTIA Show) is the premiere art fair of the West. Set against the backdrop of the Sierra\, the four-day RTIA Show is uniquely structured with exhibiting national and international galleries\, independent artists\, short film programming from around the world\, and one of the nation’s largest presentations of sculpture. The RTIA Show anchors The Reno Creative Movement\, a vision to position Reno Tahoe as a nationally recognized center for arts and culture. The annual event is intrinsically tied to its location\, featuring the ‘Heart of Reno’ showcase\, locally created bespoke furniture\, musical talent from the region\, and ongoing local hospitality. The third edition\, September 2024\, will present over 130\,000’ of fine art\, design\, sculpture\, film and music – see you there.
URL:https://oldediblerenotahoe.com/event/rtia-show-2024/
LOCATION:NV
CATEGORIES:Arts
END:VEVENT
BEGIN:VEVENT
DTSTART;TZID=America/Los_Angeles:20240912T180000
DTEND;TZID=America/Los_Angeles:20240912T210000
DTSTAMP:20260425T200238
CREATED:20240811T004631Z
LAST-MODIFIED:20240811T004631Z
UID:39563-1726164000-1726174800@oldediblerenotahoe.com
SUMMARY:Taste of Tuscany Class
DESCRIPTION:
URL:https://oldediblerenotahoe.com/event/taste-of-tuscany-class/
LOCATION:Nothing To It!\, 225 Crummer Lane\, Reno\, NV\, 89502\, United States
END:VEVENT
BEGIN:VEVENT
DTSTART;TZID=America/Los_Angeles:20240912T183000
DTEND;TZID=America/Los_Angeles:20240912T203000
DTSTAMP:20260425T200238
CREATED:20240624T191618Z
LAST-MODIFIED:20240624T191618Z
UID:38909-1726165800-1726173000@oldediblerenotahoe.com
SUMMARY:Harmony on the River
DESCRIPTION:A monthly community show by the Reno Philharmonic.
URL:https://oldediblerenotahoe.com/event/harmony-on-the-river-2024-09-12/
LOCATION:West Street Plaza
END:VEVENT
BEGIN:VEVENT
DTSTART;TZID=America/Los_Angeles:20240912T190000
DTEND;TZID=America/Los_Angeles:20240912T210000
DTSTAMP:20260425T200238
CREATED:20240713T222254Z
LAST-MODIFIED:20240713T222254Z
UID:39360-1726167600-1726174800@oldediblerenotahoe.com
SUMMARY:Testament and Kreator
DESCRIPTION:Gritty\, edgy\, and unfiltered sonic warfare is scheduled to hit the Grand Theatre this fall. West Coast rock group Testament teams up with the legendary German rockers Kreator hit the stage with special guest\, Possessed\, in an epic clash of West Coast and European metal sure to thrill.
URL:https://oldediblerenotahoe.com/event/testament-and-kreator/
LOCATION:Grand Sierra Resort\, 2500 E 2nd St\, Reno\, NV
END:VEVENT
BEGIN:VEVENT
DTSTART;TZID=America/Los_Angeles:20240912T193000
DTEND;TZID=America/Los_Angeles:20240912T220000
DTSTAMP:20260425T200238
CREATED:20240514T225444Z
LAST-MODIFIED:20240514T225654Z
UID:38504-1726169400-1726178400@oldediblerenotahoe.com
SUMMARY:Northern Nevada Night Skies featuring The Infamous Stringdusters
DESCRIPTION:
URL:https://oldediblerenotahoe.com/event/the-infamous-stringdusters/
LOCATION:Bartley Ranch
CATEGORIES:Music
END:VEVENT
BEGIN:VEVENT
DTSTART;TZID=America/Los_Angeles:20240912T200000
DTEND;TZID=America/Los_Angeles:20240912T220000
DTSTAMP:20260425T200238
CREATED:20240713T230609Z
LAST-MODIFIED:20240713T230609Z
UID:39445-1726171200-1726178400@oldediblerenotahoe.com
SUMMARY:Teresa Caputo
DESCRIPTION:
URL:https://oldediblerenotahoe.com/event/teresa-caputo/
LOCATION:Silver Legacy Resort & Casino\, 407 North Virginia Street\, Reno\, NV\, 89501
END:VEVENT
BEGIN:VEVENT
DTSTART;TZID=America/Los_Angeles:20240913T160000
DTEND;TZID=America/Los_Angeles:20240913T220000
DTSTAMP:20260425T200238
CREATED:20240713T230034Z
LAST-MODIFIED:20240713T230034Z
UID:39436-1726243200-1726264800@oldediblerenotahoe.com
SUMMARY:The Biggest Little Latin Festival
DESCRIPTION:Join The Biggest Little Latin Festival in Reno for an event filled with Latin-style food\, drinks\, vendors\, and live entertainment. We’ll celebrate with a live taco judging contest and taco vendors from all over.
URL:https://oldediblerenotahoe.com/event/the-biggest-little-latin-festival/
LOCATION:Downtown Reno
END:VEVENT
BEGIN:VEVENT
DTSTART;TZID=America/Los_Angeles:20240913T180000
DTEND;TZID=America/Los_Angeles:20240913T200000
DTSTAMP:20260425T200238
CREATED:20240624T192830Z
LAST-MODIFIED:20240624T192830Z
UID:38937-1726250400-1726257600@oldediblerenotahoe.com
SUMMARY:Starbucks Carson Valley Roasting Plant & Distribution Center 2024 Summer Concert Series
DESCRIPTION:
URL:https://oldediblerenotahoe.com/event/starbucks-carson-valley-roasting-plant-distribution-center-2024-summer-concert-series-2024-09-13/
LOCATION:Minden Park\, 1610 Esmeralda Ave.\, Minden\, NV\, 89423
END:VEVENT
BEGIN:VEVENT
DTSTART;TZID=America/Los_Angeles:20240913T200000
DTEND;TZID=America/Los_Angeles:20240913T220000
DTSTAMP:20260425T200238
CREATED:20240713T220256Z
LAST-MODIFIED:20240713T220256Z
UID:39338-1726257600-1726264800@oldediblerenotahoe.com
SUMMARY:Ben Folds
DESCRIPTION:Ben Folds is widely regarded as one of the major music influencers of our generation as the creator of fan favorites like Brick\, Landed\, and The Luckiest. \nThe Emmy-nominated singer-songwriter-composer has created an enormous body of genre-bending music that includes pop albums with Ben Folds Five\, multiple solo albums\, and numerous collaborative records. \nFor the past three decades\, he’s toured as a pop artist\, while also performing with some of the world’s greatest symphony orchestras. He currently serves as the Artistic Advisor to the National Symphony Orchestra at the Kennedy Center in Washington\, DC.
URL:https://oldediblerenotahoe.com/event/ben-folds/
LOCATION:Grand Sierra Resort\, 2500 E 2nd St\, Reno\, NV
END:VEVENT
BEGIN:VEVENT
DTSTART;TZID=America/Los_Angeles:20240914T060000
DTEND;TZID=America/Los_Angeles:20240914T090000
DTSTAMP:20260425T200238
CREATED:20240913T034647Z
LAST-MODIFIED:20240913T034647Z
UID:40066-1726293600-1726304400@oldediblerenotahoe.com
SUMMARY:Garden Gnomads
DESCRIPTION:The McConnell Arboretum & Botanical Gardens at the Turtle Bay Exploration Park campus features over 200 acres of native and non-native trees and plants. McConnell is listed among the 10 best botanical gardens in the United States for 2024 by USA Today.
URL:https://oldediblerenotahoe.com/event/garden-gnomads/
LOCATION:Wilbur D. May Arboretum and Botanical Garden\, Reno
END:VEVENT
BEGIN:VEVENT
DTSTART;TZID=America/Los_Angeles:20240914T090000
DTEND;TZID=America/Los_Angeles:20240914T120000
DTSTAMP:20260425T200238
CREATED:20240811T013009Z
LAST-MODIFIED:20240811T013009Z
UID:39632-1726304400-1726315200@oldediblerenotahoe.com
SUMMARY:High Desert Gardening Basic Techniques Class
DESCRIPTION:Get better results in your garden by understanding the unique horticultural conditions of Northern Nevada. Save time and money by learning proper pruning of trees\, shrubs\, perennials and roses to deal with hard soil\, harsh weather conditions and water restrictions. Learn how to improve soil characteristics and discuss the Peavine myth. Discover how to recognize damage from insects\, diseases and cultural problems. Bring your questions and discuss overall maintenance techniques.
URL:https://oldediblerenotahoe.com/event/high-desert-gardening-basic-techniques-class/
LOCATION:TMCC Meadowood Center\, 5270 Neil Rd.\, South Bldg.\, Reno\, NV\, 89502\, United States
END:VEVENT
BEGIN:VEVENT
DTSTART;TZID=America/Los_Angeles:20240914T100000
DTEND;TZID=America/Los_Angeles:20240914T150000
DTSTAMP:20260425T200238
CREATED:20240713T210620Z
LAST-MODIFIED:20240713T210620Z
UID:39288-1726308000-1726326000@oldediblerenotahoe.com
SUMMARY:Adventure Van Expo
DESCRIPTION:Enjoy a family-friendly weekend open to all ages celebrating the van life community and the opportunity to view an array of van vendors and overland products. In addition to the great van builds the event will feature live music\, food\, and local brews all weekend long. And those looking to show off their custom builds are encouraged to sign up for the DYI Contest where they will have their rigs viewed by hundreds of event goers and rated by van build experts. Looking to buy or sell? Expect to find roof racks\, bumpers\, solar panels\, interior storage\, water filters\, window coverings\, beds\, bedding\, and 4×4 recovery items….and of course coffee cups\, t-shirts\, and more!
URL:https://oldediblerenotahoe.com/event/adventure-van-expo/
LOCATION:The Village at Palisades Tahoe\, Olympic Valley\, CA
END:VEVENT
BEGIN:VEVENT
DTSTART;TZID=America/Los_Angeles:20240914T100000
DTEND;TZID=America/Los_Angeles:20240914T180000
DTSTAMP:20260425T200238
CREATED:20231216T223823Z
LAST-MODIFIED:20231216T223823Z
UID:36094-1726308000-1726336800@oldediblerenotahoe.com
SUMMARY:Hands ON! Second Saturday
DESCRIPTION:Estelle J. Kelsey Foundation Hands ON! Second Saturdays offers monthly free admission\, hands-on art activities\, storytelling\, docent-guided tours\, live performances\, and community collaborations.  “Art Expeditions” provides children the opportunity to engage with Museum staff and take a closer look at current work on view. New exhibitions\, community collaborations\, guest performances and monthly themes rotate in this engaging series of monthly programs.
URL:https://oldediblerenotahoe.com/event/hands-on-second-saturday-2024-09-14/
LOCATION:Nevada Museum of Art\, 160 West Liberty\, Reno\, Nevada\, 89501
CATEGORIES:Arts,Community Class
END:VEVENT
BEGIN:VEVENT
DTSTART;TZID=America/Los_Angeles:20240914T110000
DTEND;TZID=America/Los_Angeles:20240914T130000
DTSTAMP:20260425T200238
CREATED:20240912T155022Z
LAST-MODIFIED:20240912T155022Z
UID:39910-1726311600-1726318800@oldediblerenotahoe.com
SUMMARY:Pickles 101 Class
DESCRIPTION:Doreen Spires will teach you all about canning your cucumbers that you worked so hard to grow and make them into delicious dill pickles. Doreen will cover how to get started\, the difference between the different canning methods\, materials needed\, altitude adjustments\, head space\, temperatures and shelf stability. They will also have canning jars available for purchase. Attendees are required to bring the following: knife\, cutting board and measuring spoons.
URL:https://oldediblerenotahoe.com/event/pickles-101-class/
LOCATION:Rail City Garden Center\, 1720 Brierley Way\, Sparks\, NV\, 89434
END:VEVENT
BEGIN:VEVENT
DTSTART;TZID=America/Los_Angeles:20240914T110000
DTEND;TZID=America/Los_Angeles:20240914T200000
DTSTAMP:20260425T200238
CREATED:20240713T230034Z
LAST-MODIFIED:20240713T230034Z
UID:39437-1726311600-1726344000@oldediblerenotahoe.com
SUMMARY:The Biggest Little Latin Festival
DESCRIPTION:Join The Biggest Little Latin Festival in Reno for an event filled with Latin-style food\, drinks\, vendors\, and live entertainment. We’ll celebrate with a live taco judging contest and taco vendors from all over.
URL:https://oldediblerenotahoe.com/event/the-biggest-little-latin-festival-2024-09-14/
LOCATION:Downtown Reno
END:VEVENT
BEGIN:VEVENT
DTSTART;TZID=America/Los_Angeles:20240914T120000
DTEND;TZID=America/Los_Angeles:20240914T200000
DTSTAMP:20260425T200238
CREATED:20240514T234031Z
LAST-MODIFIED:20240514T234031Z
UID:38547-1726315200-1726344000@oldediblerenotahoe.com
SUMMARY:Sassabration
DESCRIPTION:Join the fun group of pirate ships\, art cars\, bicycles and walkers as we make our way 2 miles down Carson Street to the event held at the location of Sassafras Eclectic Food Joint\, Carson Hot Springs & Shoe Tree Brewing at 1500 Old Hot Springs Road where food\, music and great vendors await your arrival. Our very own Adam Whitney\, as Bea Arthur\, is our very special Grand Marshal leading the very sassy Parade. Costumes are highly encouraged.
URL:https://oldediblerenotahoe.com/event/sassabration/
LOCATION:Sassafras Eclectic Food Joint\, 1500 Old Hot Springs Rd\, Carson City\, NV
CATEGORIES:Community Events
END:VEVENT
BEGIN:VEVENT
DTSTART;TZID=America/Los_Angeles:20240914T140000
DTEND;TZID=America/Los_Angeles:20240914T220000
DTSTAMP:20260425T200238
CREATED:20240713T212146Z
LAST-MODIFIED:20240713T212146Z
UID:39301-1726322400-1726351200@oldediblerenotahoe.com
SUMMARY:Outbound Music Series | Experience an Enchanting Night with RY X\, An Intimate Outdoor Concert Under the Stars
DESCRIPTION:Join us for a weekend surrounded by mountains\, makers\, and music\, leading up to an exclusive outdoor performance by recording artist RY X. All guests and ticket holders will enjoy activities that include a pop-up marketplace showcasing local artisans\, food and beverage offerings\, and live music performances. Additionally\, hotel guests will receive complimentary tickets to the mainstage performance by RY X with their room booking and specially curated welcome packages and experiences from our brand partners.
URL:https://oldediblerenotahoe.com/event/outbound-music-series-experience-an-enchanting-night-with-ry-x-an-intimate-outdoor-concert-under-the-stars/
LOCATION:Bar Sierra\, Mammoth\, CA
END:VEVENT
BEGIN:VEVENT
DTSTART;TZID=America/Los_Angeles:20240914T160000
DTEND;TZID=America/Los_Angeles:20240914T220000
DTSTAMP:20260425T200238
CREATED:20240624T190648Z
LAST-MODIFIED:20240713T211850Z
UID:38888-1726329600-1726351200@oldediblerenotahoe.com
SUMMARY:Reno Rodeo Foundation's Rhythm & Rawhide Reimagined
DESCRIPTION:Enjoy an unforgettable evening at the Reno Ballroom on September 14\, 2024 at the Reno Rodeo Foundation’s Rhythm & Rawhide Reimagined. This year\, the event features performances by three incredible local artists: Patrice\, Huckleberry Road\, and Madeiros Drive. \nThe Reno Rodeo Foundation\, in partnership with Dolan Auto Group\, proudly presents this much-anticipated country western-infused fundraising event that has been delightfully reimagined. \nIt’s a night where cowboy hats\, jeans\, summer dresses\, and cowboy boots are all welcome\, blending the charm of country music with a festive atmosphere. Over the years\, Rhythm & Rawhide has become the place to be for musical enthusiasts and social butterflies alike. And\, this year\, there are a few options depending on when you want to join in!
URL:https://oldediblerenotahoe.com/event/rhythm-rawhide/
LOCATION:Downtown Reno Ballroom\, 401 N Center St.\, Reno\, NV
CATEGORIES:Food & Drink,Gala,Music,Nonprofit
ATTACH;FMTTYPE=image/jpeg:https://oldediblerenotahoe.com/wp-content/uploads/2024/06/ROFOU_109382_May2024_FacebookEventCover_1920x1005-2.jpg
END:VEVENT
BEGIN:VEVENT
DTSTART;TZID=America/Los_Angeles:20240914T170000
DTEND;TZID=America/Los_Angeles:20240914T190000
DTSTAMP:20260425T200238
CREATED:20240624T190747Z
LAST-MODIFIED:20240624T190747Z
UID:38890-1726333200-1726340400@oldediblerenotahoe.com
SUMMARY:Cowgirls + Cocktails
DESCRIPTION:Cowgirls and cowboys are invited to gather for an early evening trail ride followed by a fun social hour with beer\, wine and appetizers. This event is for adults ages 21+.
URL:https://oldediblerenotahoe.com/event/cowgirls-cocktails/
LOCATION:Alder Creek Adventure Center\, 15275 Alder Creek Rd\, Truckee\, CA\, 96161
CATEGORIES:21+
END:VEVENT
BEGIN:VEVENT
DTSTART;TZID=America/Los_Angeles:20240914T190000
DTEND;TZID=America/Los_Angeles:20240914T210000
DTSTAMP:20260425T200238
CREATED:20240713T220953Z
LAST-MODIFIED:20240713T220953Z
UID:39342-1726340400-1726347600@oldediblerenotahoe.com
SUMMARY:Tina Burner's Witch Perfect
DESCRIPTION:The Travel Daddyz present Witch Perfect. The hysterical and award-winning spooktacular\, is a live-singing\, comedy parody based on the cult-classic and audience favorite Disney film\, Hocus Pocus. Witch Perfect features THREE Emmy-winning stars from RuPaul’s Drag Race: Season 13’s Tina Burner as Winifred\, Scarlet Envy from Season 11\, All Stars Season 6\, and UK vs the World Season 2\, as Sara\, and Alexis Michelle from Season 9 and All Stars Season 8\, as Mary. \nThe show features hits from pop icons\, Disney classics\, Broadway standards\, and more\, including the infamous showstopper “I Put a Spell on You.” \nMusic arranged and orchestrated by award-winning composer Blake Allen.
URL:https://oldediblerenotahoe.com/event/tina-burners-witch-perfect/
LOCATION:Nugget Casino Resort\, 1100 Nugget Avenue\,\, Sparks\, NV
END:VEVENT
BEGIN:VEVENT
DTSTART;TZID=America/Los_Angeles:20240914T190000
DTEND;TZID=America/Los_Angeles:20240914T210000
DTSTAMP:20260425T200238
CREATED:20240811T003956Z
LAST-MODIFIED:20240811T003956Z
UID:39550-1726340400-1726347600@oldediblerenotahoe.com
SUMMARY:Carson City's Ghost Walking Tour
DESCRIPTION:Carson City’s rich and intriguing history officially celebrates 31 years as we explore\, narrate and theatrically embrace Carson City’s beautiful Victorian westside in these seasonal evening walking tours\, led by Madame Curry (a spirited and historically fictional character named after the widow of Carson City’s founder\, Abe Curry) some special guests and her Spirit Wranglers. These ghostly and witty community spirits lead you through Carson City’s Historically Haunted West Side highlighting the stories and legends of the Wild West town. This season Madame Curry will share her Penny Dreadful’s on each tour.
URL:https://oldediblerenotahoe.com/event/carson-citys-ghost-walking-tour-2024-09-14/
LOCATION:NV
END:VEVENT
BEGIN:VEVENT
DTSTART;TZID=America/Los_Angeles:20240914T200000
DTEND;TZID=America/Los_Angeles:20240914T220000
DTSTAMP:20260425T200238
CREATED:20240713T220800Z
LAST-MODIFIED:20240713T220800Z
UID:39340-1726344000-1726351200@oldediblerenotahoe.com
SUMMARY:Banda MS de Sergio Lizzarraga
DESCRIPTION:See the top regional Mexican musical group in Mexico and the US\, La Banda MS de Sergio Lizarraga\, winner of 16 Billboard Music Awards\, four Latin American Music Awards\, one American Music Award\, three Lo Nuestro Awards\, and many more. \nBanda MS was formed in 2003 in Mazatlan\, Sinaloa\, Mexico – hence the initials MS. They released the album “Que Bendición” in 2016 featuring the hit singles “Tengo Que Colgar”\, “Me vas a Extrañar”\, and “Mala Experiencia”. The massive success of “Que Bendición” catapulted Banda MS to new heights. \nIn 2017 “La Mejor Version de Mi” was released and provided the hit singles “Tu Postura”\, “El Color de Tus Ojos” y “Dificil de Olvidar”. \nIn September of 2018\, Banda MS Released the record “Con Todas Las Fuerzas”. The lead single “Mejor Me Alejo” was an instant success. \nDon’t miss out on the chance to watch Banda MS perform their catalog of romantic banda and ranchera songs live from the Grand Theatre.
URL:https://oldediblerenotahoe.com/event/banda-ms-de-sergio-lizzarraga/
LOCATION:Grand Sierra Resort\, 2500 E 2nd St\, Reno\, NV
END:VEVENT
BEGIN:VEVENT
DTSTART;TZID=America/Los_Angeles:20240915T073000
DTEND;TZID=America/Los_Angeles:20240915T120000
DTSTAMP:20260425T200238
CREATED:20240514T225844Z
LAST-MODIFIED:20240514T225844Z
UID:38510-1726385400-1726401600@oldediblerenotahoe.com
SUMMARY:7th Reno 10 Miler & Relay
DESCRIPTION:
URL:https://oldediblerenotahoe.com/event/7th-reno-10-miler-relay/
LOCATION:NV
CATEGORIES:Activity,Sports
END:VEVENT
END:VCALENDAR