BEGIN:VCALENDAR
VERSION:2.0
PRODID:-//Edible Reno-Tahoe - ECPv6.15.20//NONSGML v1.0//EN
CALSCALE:GREGORIAN
METHOD:PUBLISH
X-ORIGINAL-URL:https://oldediblerenotahoe.com
X-WR-CALDESC:Events for Edible Reno-Tahoe
REFRESH-INTERVAL;VALUE=DURATION:PT1H
X-Robots-Tag:noindex
X-PUBLISHED-TTL:PT1H
BEGIN:VTIMEZONE
TZID:America/Los_Angeles
BEGIN:DAYLIGHT
TZOFFSETFROM:-0800
TZOFFSETTO:-0700
TZNAME:PDT
DTSTART:20230312T100000
END:DAYLIGHT
BEGIN:STANDARD
TZOFFSETFROM:-0700
TZOFFSETTO:-0800
TZNAME:PST
DTSTART:20231105T090000
END:STANDARD
BEGIN:DAYLIGHT
TZOFFSETFROM:-0800
TZOFFSETTO:-0700
TZNAME:PDT
DTSTART:20240310T100000
END:DAYLIGHT
BEGIN:STANDARD
TZOFFSETFROM:-0700
TZOFFSETTO:-0800
TZNAME:PST
DTSTART:20241103T090000
END:STANDARD
BEGIN:DAYLIGHT
TZOFFSETFROM:-0800
TZOFFSETTO:-0700
TZNAME:PDT
DTSTART:20250309T100000
END:DAYLIGHT
BEGIN:STANDARD
TZOFFSETFROM:-0700
TZOFFSETTO:-0800
TZNAME:PST
DTSTART:20251102T090000
END:STANDARD
END:VTIMEZONE
BEGIN:VEVENT
DTSTART;TZID=America/Los_Angeles:20240921T090000
DTEND;TZID=America/Los_Angeles:20240921T120000
DTSTAMP:20260425T211853
CREATED:20240216T231956Z
LAST-MODIFIED:20240216T231956Z
UID:37396-1726909200-1726920000@oldediblerenotahoe.com
SUMMARY:KTMB Truckee River Cleanup
DESCRIPTION:
URL:https://oldediblerenotahoe.com/event/ktmb-truckee-river-cleanup/
LOCATION:NV
CATEGORIES:Community Events
END:VEVENT
BEGIN:VEVENT
DTSTART;TZID=America/Los_Angeles:20240921T090000
DTEND;TZID=America/Los_Angeles:20240921T120000
DTSTAMP:20260425T211853
CREATED:20240811T013134Z
LAST-MODIFIED:20240811T013134Z
UID:39634-1726909200-1726920000@oldediblerenotahoe.com
SUMMARY:Pruning Woody Plants Class
DESCRIPTION:Preserve the attractiveness of your landscape and extend the life of your plants through the discovery of pruning times\, techniques and types. Explore the different needs of roses\, shrubs\, fruit trees\, pines and more. Review which types of plants enjoy spring or fall pruning\, find out why tomatoes are topped but trees aren’t and discover the best ornamental trims for specific plants. Implement your knowledge to keep your plants healthy.
URL:https://oldediblerenotahoe.com/event/pruning-woody-plants-class/
LOCATION:TMCC Meadowood Center\, 5270 Neil Rd.\, South Bldg.\, Reno\, NV\, 89502\, United States
END:VEVENT
BEGIN:VEVENT
DTSTART;TZID=America/Los_Angeles:20240921T090000
DTEND;TZID=America/Los_Angeles:20240921T120000
DTSTAMP:20260425T211853
CREATED:20240811T013930Z
LAST-MODIFIED:20240811T013930Z
UID:39654-1726909200-1726920000@oldediblerenotahoe.com
SUMMARY:Coffee 101: Roasting and Tasting
DESCRIPTION:Discover the science behind the rich aroma and nuanced flavors of this magical beverage enjoyed by millions worldwide. Take the first step in a lifetime of coffee enjoyment by understanding coffee plants and the techniques behind processing and roasting. Identify the differences between coffee beans by sampling and using your sensory skills to reveal taste profiles. You’ll take home a gift bag of your favorite coffee as a delicious treat. $10 materials fee
URL:https://oldediblerenotahoe.com/event/coffee-101-roasting-and-tasting/
LOCATION:Hub Coffee Roasters\, 727 Riverside Drive\, Reno\, NV\, 89503\, United States
END:VEVENT
BEGIN:VEVENT
DTSTART;TZID=America/Los_Angeles:20240921T090000
DTEND;TZID=America/Los_Angeles:20240921T130000
DTSTAMP:20260425T211853
CREATED:20240415T031826Z
LAST-MODIFIED:20240415T031826Z
UID:38153-1726909200-1726923600@oldediblerenotahoe.com
SUMMARY:Monthly Poultry Swap
DESCRIPTION:Northern Nevada Poultry Fanciers Association host a local poultry swap and sale the 3rd Saturday of each month March through September at the Reno CAL Ranch Store. More than just chickens are for sale at this swap. Members bring hatching eggs\, chicks\, fresh farm eating eggs\, sometimes the local 4-H youth bring fruit or fresh picked flowers as fundraising. You might also see a few bunnies\, goats and pigs! The Association also takes in unwanted roosters for rehoming at these events for those who cannot keep roosters in their neighborhood.
URL:https://oldediblerenotahoe.com/event/monthly-poultry-swap-2024-09-21/
LOCATION:CAL Ranch Home & Ranch Store\, 3400 Kietzke Ln\, Reno\, NV\, 89502
END:VEVENT
BEGIN:VEVENT
DTSTART;TZID=America/Los_Angeles:20240921T093000
DTEND;TZID=America/Los_Angeles:20240921T113000
DTSTAMP:20260425T211853
CREATED:20240811T004815Z
LAST-MODIFIED:20240811T004815Z
UID:39569-1726911000-1726918200@oldediblerenotahoe.com
SUMMARY:Knife Skills Workshop
DESCRIPTION:
URL:https://oldediblerenotahoe.com/event/knife-skills-workshop-2/
LOCATION:Nothing To It!\, 225 Crummer Lane\, Reno\, NV\, 89502\, United States
END:VEVENT
BEGIN:VEVENT
DTSTART;TZID=America/Los_Angeles:20240921T100000
DTEND;TZID=America/Los_Angeles:20240921T140000
DTSTAMP:20260425T211853
CREATED:20240514T235934Z
LAST-MODIFIED:20240514T235934Z
UID:38750-1726912800-1726927200@oldediblerenotahoe.com
SUMMARY:The Market at Markleeville
DESCRIPTION:
URL:https://oldediblerenotahoe.com/event/the-market-at-markleeville-2024-09-21/
LOCATION:NV
END:VEVENT
BEGIN:VEVENT
DTSTART;TZID=America/Los_Angeles:20240921T113000
DTEND;TZID=America/Los_Angeles:20240921T160000
DTSTAMP:20260425T211853
CREATED:20240811T011558Z
LAST-MODIFIED:20240811T011558Z
UID:39611-1726918200-1726934400@oldediblerenotahoe.com
SUMMARY:Reno Chamber Orchestra’s Season Fifty Gala
DESCRIPTION:Featuring a musical tribute to the RCO’s roots by members of the Reno Chamber Orchestra\, presented by Maestro Kelly Kuo\, and live and silent auctions!
URL:https://oldediblerenotahoe.com/event/reno-chamber-orchestras-season-fifty-gala/
LOCATION:Atlantis Casino Resort Spa\, 3800 S. Virginia Street\, Reno\, NV\, 89502\, United States
END:VEVENT
BEGIN:VEVENT
DTSTART;TZID=America/Los_Angeles:20240921T120000
DTEND;TZID=America/Los_Angeles:20240921T170000
DTSTAMP:20260425T211853
CREATED:20240526T212638Z
LAST-MODIFIED:20240526T212638Z
UID:38793-1726920000-1726938000@oldediblerenotahoe.com
SUMMARY:Tahoe City Oktoberfest
DESCRIPTION:This exciting family-friendly event offers a wide selection of Bavarian-themed food options and delicious craft beers brewed by regional breweries. Enjoy live music and the sounds of an authentic accordion player\, Christiane Georgi.
URL:https://oldediblerenotahoe.com/event/tahoe-city-oktoberfest-2/
LOCATION:Layton State Park\, Tahoe City\, CA
CATEGORIES:Family friendly,Festival
END:VEVENT
BEGIN:VEVENT
DTSTART;TZID=America/Los_Angeles:20240921T120000
DTEND;TZID=America/Los_Angeles:20240921T170000
DTSTAMP:20260425T211853
CREATED:20240826T043223Z
LAST-MODIFIED:20240826T043223Z
UID:39724-1726920000-1726938000@oldediblerenotahoe.com
SUMMARY:10th Festival of Colors
DESCRIPTION:Live Bands | DJ’S | Dance | Color Throws | Yoga | Food & Drinks* | Kids Area | Arts & Crafts | Lotsa Love & Hugs
URL:https://oldediblerenotahoe.com/event/10th-festival-of-colors/
LOCATION:Dick Taylor Park\, 1140 Beech St.\, Reno\, NV
END:VEVENT
BEGIN:VEVENT
DTSTART;TZID=America/Los_Angeles:20240921T120000
DTEND;TZID=America/Los_Angeles:20240921T220000
DTSTAMP:20260425T211853
CREATED:20240919T014954Z
LAST-MODIFIED:20240919T014954Z
UID:40157-1726920000-1726956000@oldediblerenotahoe.com
SUMMARY:Oktoberfest at Schussboom Brewing Company
DESCRIPTION:
URL:https://oldediblerenotahoe.com/event/oktoberfest-at-schussboom-brewing-company/
LOCATION:Schussboom Brewing Co.\, 12245 S Virginia St.\, Reno\, NV\, 89511
END:VEVENT
BEGIN:VEVENT
DTSTART;TZID=America/Los_Angeles:20240921T130000
DTEND;TZID=America/Los_Angeles:20240921T130000
DTSTAMP:20260425T211853
CREATED:20240526T220013Z
LAST-MODIFIED:20240722T000309Z
UID:38840-1726923600-1726923600@oldediblerenotahoe.com
SUMMARY:Sample the Sierra
DESCRIPTION:The much-anticipated Sample the Sierra Farm-to-Fork Festival is back and better than ever\, ready to delight attendees with an array of local flavors and artisanal products. Set against the scenic backdrop of Bijou Community Park\, this year’s festival will take place on September 21 from 1-4 pm\, promising a day of unforgettable culinary experiences and community spirit.\nAfter a brief hiatus\, Sample the Sierra returns to showcase the best of the Sierra Nevada’s culinary scene. This beloved festival pairs local chefs and restaurants with regional growers and producers\, creating unique and delicious samples that highlight the finest local ingredients. Attendees will enjoy a diverse range of food and beverages\, from gourmet dishes to craft brews\, exquisite wines\, and artisanal spirits.
URL:https://oldediblerenotahoe.com/event/sample-the-sierra-2/
LOCATION:Bijou Community Park\, 1201 Al Tahoe Blvd\, South Lake Tahoe\, CA
CATEGORIES:Food & Drink
END:VEVENT
BEGIN:VEVENT
DTSTART;TZID=America/Los_Angeles:20240921T140000
DTEND;TZID=America/Los_Angeles:20240921T200000
DTSTAMP:20260425T211853
CREATED:20240919T012016Z
LAST-MODIFIED:20240919T012016Z
UID:40150-1726927200-1726948800@oldediblerenotahoe.com
SUMMARY:The Par's Official Launch Party
DESCRIPTION:
URL:https://oldediblerenotahoe.com/event/the-pars-official-launch-party/
LOCATION:The Par\, 1041 South Virginia St\, Reno\, NV
ATTACH;FMTTYPE=image/png:https://oldediblerenotahoe.com/wp-content/uploads/2024/09/Launch-Insta-Post_20240917_101603_0000.png
END:VEVENT
BEGIN:VEVENT
DTSTART;TZID=America/Los_Angeles:20240921T160000
DTEND;TZID=America/Los_Angeles:20240921T210000
DTSTAMP:20260425T211853
CREATED:20240624T191446Z
LAST-MODIFIED:20240624T191446Z
UID:38903-1726934400-1726952400@oldediblerenotahoe.com
SUMMARY:Dancing on the River
DESCRIPTION:A bi-monthly community Cumbia dance event.
URL:https://oldediblerenotahoe.com/event/dancing-on-the-river-2024-09-21/
LOCATION:West Street Plaza
END:VEVENT
BEGIN:VEVENT
DTSTART;TZID=America/Los_Angeles:20240921T170000
DTEND;TZID=America/Los_Angeles:20240921T190000
DTSTAMP:20260425T211853
CREATED:20240721T235320Z
LAST-MODIFIED:20240721T235320Z
UID:39476-1726938000-1726945200@oldediblerenotahoe.com
SUMMARY:Toast of the Canyon Train Ride
DESCRIPTION:The V&T Railway Commission is excited to announce the return of the much-loved wine train experience Toast of the Canyon Train Ride with two special trips scheduled for this year. After a five-year hiatus\, wine enthusiasts and adventure seekers can once again embark on a scenic journey through the stunning Carson River Canyon. The first Toast of the Canyon Train Ride will run on Saturday\, August 17\, followed by the second on Saturday\, September 21. \nPassengers will embark on a 45-minute round trip from Carson City’s Eastgate Depot\, featuring specially prepared appetizers and a selection of refreshing white wines\, all while taking in breathtaking views of the river canyon. \nEvent Highlights Include: \n\nScenic Ride: Travel two-and-a-half miles of newly laid track\, showcasing historic locations\, including Comstock stamp and reduction mills\, as well as timber processing mills.\nNoteworthy Mills: View historic sites such as the Santiago\, Vivian\, Merrimac\, Brunswick\, and Morgan Mills along the route\, in addition to the iconic Eureka Mill.\nUnique Encounters: Capture memorable moments as the “Iron Horse” steams past\, reconnecting to the train and “High Balling” it back up the canyon\, with the steam train whistle echoing off the canyon walls.\n\n 
URL:https://oldediblerenotahoe.com/event/toast-of-the-canyon-train-ride-2024-09-21/
LOCATION:NV
END:VEVENT
BEGIN:VEVENT
DTSTART;TZID=America/Los_Angeles:20240921T170000
DTEND;TZID=America/Los_Angeles:20240921T200000
DTSTAMP:20260425T211853
CREATED:20240912T161014Z
LAST-MODIFIED:20240912T161014Z
UID:39922-1726938000-1726948800@oldediblerenotahoe.com
SUMMARY:Supper and Spirits: Urban Roots' Fundraiser
DESCRIPTION:Join Local Food Group and El Sativo for an unforgettable evening supporting Urban Roots. Enjoy stunning views of a hidden urban oasis in downtown Reno and indulge in a unique pairing of organic El Sativo tequilas and the culinary delights crafted by Local Food Group’s Chef Mark Estee and Tommy Linnett. It’s an evening of taste\, innovation and community spirit you won’t want to miss!
URL:https://oldediblerenotahoe.com/event/supper-and-spirits-urban-roots-fundraiser/
LOCATION:Urban Teaching Farm\, 1700 E 2nd Street\, Reno\, NV\, 89502
END:VEVENT
BEGIN:VEVENT
DTSTART;TZID=America/Los_Angeles:20240921T190000
DTEND;TZID=America/Los_Angeles:20240921T210000
DTSTAMP:20260425T211853
CREATED:20240811T003956Z
LAST-MODIFIED:20240811T003956Z
UID:39551-1726945200-1726952400@oldediblerenotahoe.com
SUMMARY:Carson City's Ghost Walking Tour
DESCRIPTION:Carson City’s rich and intriguing history officially celebrates 31 years as we explore\, narrate and theatrically embrace Carson City’s beautiful Victorian westside in these seasonal evening walking tours\, led by Madame Curry (a spirited and historically fictional character named after the widow of Carson City’s founder\, Abe Curry) some special guests and her Spirit Wranglers. These ghostly and witty community spirits lead you through Carson City’s Historically Haunted West Side highlighting the stories and legends of the Wild West town. This season Madame Curry will share her Penny Dreadful’s on each tour.
URL:https://oldediblerenotahoe.com/event/carson-citys-ghost-walking-tour-2024-09-21/
LOCATION:NV
END:VEVENT
BEGIN:VEVENT
DTSTART;TZID=America/Los_Angeles:20240921T200000
DTEND;TZID=America/Los_Angeles:20240921T220000
DTSTAMP:20260425T211853
CREATED:20231227T223759Z
LAST-MODIFIED:20231227T223759Z
UID:36313-1726948800-1726956000@oldediblerenotahoe.com
SUMMARY:Alice in Wonderland
DESCRIPTION:The fall season for A.V.A. Ballet Theatre opens with the classic ballet\, Alice in Wonderland\, on September 21st and 22nd at the Pioneer Center for the Performing Arts. Choreographed by Alexander Van Alstyne\, Alice in Wonderland is the captivating story of the young girl and her adventures in Wonderland. \nThis enchanted story is filled with mesmerizing dance\, intrigue\, and is fun for the entire family. The beautiful score will be performed by the Reno Philharmonic Orchestra. \nOutstanding guest principal dancers who have danced with larger city ballet companies will perform with the large cast from A.V.A. Ballet Theatre.
URL:https://oldediblerenotahoe.com/event/alice-in-wonderland/
LOCATION:Pioneer Center\, 100 S. Virginia St.\, Reno\, NV\, 89501
CATEGORIES:Dance,Music
END:VEVENT
BEGIN:VEVENT
DTSTART;TZID=America/Los_Angeles:20240921T200000
DTEND;TZID=America/Los_Angeles:20240921T220000
DTSTAMP:20260425T211853
CREATED:20240713T213333Z
LAST-MODIFIED:20240713T213333Z
UID:39314-1726948800-1726956000@oldediblerenotahoe.com
SUMMARY:Josh Wolf
DESCRIPTION:Comedian\, actor\, and writer Josh Wolf has become one of the most sought-after personalities in comedy today. From adding his quick-witted commentary on comedy round tables\, to becoming a New York Times Bestselling Author\, writing on hit television shows\, and headlining stand-up comedy tours across the nation\, he has proved to be one of the most dynamic comedians in the entertainment business.
URL:https://oldediblerenotahoe.com/event/josh-wolf/
LOCATION:Atlantis Casino Resort Spa\, 3800 S. Virginia Street\, Reno\, NV\, 89502\, United States
END:VEVENT
BEGIN:VEVENT
DTSTART;TZID=America/Los_Angeles:20240921T200000
DTEND;TZID=America/Los_Angeles:20240921T220000
DTSTAMP:20260425T211853
CREATED:20240713T222730Z
LAST-MODIFIED:20240713T222730Z
UID:39366-1726948800-1726956000@oldediblerenotahoe.com
SUMMARY:The Smashing Pumpkins
DESCRIPTION:Grammy award-winning rock group Smashing Pumpkins have sold more than 30 million albums worldwide\, famous for pounding chords and cathartic lyrics\, so much so there’s now a guitar chord named after them – at least according to lead singer Billy Corgan. \nEnjoy chart-topping favorites like Mayonaise\, Cherub Rock\, Stand Inside Your Love\, Bullet with Butterfly Wings\, and more. \nAlbums Siamese Dream and Mellon Collie and the Infinite Sadness both made Rolling Stone Magazine’s list of 500 Greatest Albums of All Time. The Pumpkins’ unique sound and artistic approach have influenced countless other performers like Nelly Furtado\, My Chemical Romance\, Fall Out Boy\, and more.
URL:https://oldediblerenotahoe.com/event/the-smashing-pumpkins/
LOCATION:Grand Sierra Resort\, 2500 E 2nd St\, Reno\, NV
END:VEVENT
BEGIN:VEVENT
DTSTART;TZID=America/Los_Angeles:20240922T080000
DTEND;TZID=America/Los_Angeles:20240922T130000
DTSTAMP:20260425T211853
CREATED:20240912T164300Z
LAST-MODIFIED:20240912T164300Z
UID:40020-1726992000-1727010000@oldediblerenotahoe.com
SUMMARY:Truckee Certified Farmer's Market
DESCRIPTION:Come to the Truckee Farmers Market every Tuesday for fresh and local fruits\, veggies\, flowers\, meats\, cheeses\, olive oil\, fresh baked breads\, artisan crafts\, food trucks and more!
URL:https://oldediblerenotahoe.com/event/truckee-certified-farmers-market-3-2024-09-22/
LOCATION:Truckee River Regional Park
END:VEVENT
BEGIN:VEVENT
DTSTART;TZID=America/Los_Angeles:20240922T090000
DTEND;TZID=America/Los_Angeles:20240922T130000
DTSTAMP:20260425T211853
CREATED:20231103T014135Z
LAST-MODIFIED:20231103T014135Z
UID:35268-1726995600-1727010000@oldediblerenotahoe.com
SUMMARY:Riverside Farmers Market
DESCRIPTION:The Riverside Farmers Market stands as Reno’s authentic local market\, exclusively featuring vendors who cultivate\, rear\, or craft their products within the immediate vicinity of the city. Highlighting small-scale\, community-focused\, and sustainable farmers and ranchers\, the market is a testament to the belief that the foundation of healthy food lies in the health of the land. It also serves as a welcoming platform for Reno’s emerging agricultural talents\, providing a space for residents to connect with those who are dedicated to nourishing the Truckee Meadows community through locally grown produce.
URL:https://oldediblerenotahoe.com/event/riverside-farmers-market-3-2024-09-22/
LOCATION:Idlewild Park\, 1000 Cowan Dr.\, Reno\, NV\, 89509
CATEGORIES:Farmers Market,Shopping
END:VEVENT
BEGIN:VEVENT
DTSTART;TZID=America/Los_Angeles:20240922T103000
DTEND;TZID=America/Los_Angeles:20240922T143000
DTSTAMP:20260425T211853
CREATED:20230922T193120Z
LAST-MODIFIED:20230922T193120Z
UID:36281-1727001000-1727015400@oldediblerenotahoe.com
SUMMARY:Sunday Music Brunch
DESCRIPTION:Sunday Music Brunch at the Nevada Museum of Art Café is the perfect precursor to an afternoon exploring galleries. Chef Colin Smith has updated the menu to include an eclectic array of options from traditional breakfast fare to lunch options–both of which pair nicely with juice\, coffee\, champagne or a mimosa. Enjoy live music by Colin Ross from 11:30 to 2:30. Doors open at 10:30 am and service continues until 2:30 pm. Reservations are required for parties of five or more\, but encouraged for all as space is limited. Museum members receive 10% savings as a benefit of membership. \nCall the Café at 775-284-2921 for more information.
URL:https://oldediblerenotahoe.com/event/sundaymusicbrunch-2024-09-22/
LOCATION:Nevada Museum of Art\, 160 West Liberty\, Reno\, Nevada\, 89501
CATEGORIES:Food & Drink,Music
ATTACH;FMTTYPE=image/jpeg:https://oldediblerenotahoe.com/wp-content/uploads/2023/09/Roundabout_CafeAtNMA-Spring2022-3186-768x432-1.jpg
END:VEVENT
BEGIN:VEVENT
DTSTART;TZID=America/Los_Angeles:20240922T140000
DTEND;TZID=America/Los_Angeles:20240922T170000
DTSTAMP:20260425T211853
CREATED:20231227T223759Z
LAST-MODIFIED:20231227T223759Z
UID:36314-1727013600-1727024400@oldediblerenotahoe.com
SUMMARY:Alice in Wonderland
DESCRIPTION:The fall season for A.V.A. Ballet Theatre opens with the classic ballet\, Alice in Wonderland\, on September 21st and 22nd at the Pioneer Center for the Performing Arts. Choreographed by Alexander Van Alstyne\, Alice in Wonderland is the captivating story of the young girl and her adventures in Wonderland. \nThis enchanted story is filled with mesmerizing dance\, intrigue\, and is fun for the entire family. The beautiful score will be performed by the Reno Philharmonic Orchestra. \nOutstanding guest principal dancers who have danced with larger city ballet companies will perform with the large cast from A.V.A. Ballet Theatre.
URL:https://oldediblerenotahoe.com/event/alice-in-wonderland-2024-09-22/
LOCATION:Pioneer Center\, 100 S. Virginia St.\, Reno\, NV\, 89501
CATEGORIES:Dance,Music
END:VEVENT
BEGIN:VEVENT
DTSTART;TZID=America/Los_Angeles:20240922T200000
DTEND;TZID=America/Los_Angeles:20240922T220000
DTSTAMP:20260425T211853
CREATED:20240713T222841Z
LAST-MODIFIED:20240713T222841Z
UID:39368-1727035200-1727042400@oldediblerenotahoe.com
SUMMARY:Experience Hendrix
DESCRIPTION:Join us at the Grand Theatre this fall to celebrate the musical legacy of the iconic Jimi Hendrix in the Experience Hendrix tour. \nHendrix’ music is brought faithfully to life with an electrifying lineup featuring Kenny Wayne Shepherd\, Zakk Wylde\, Eric Johnson\, Taj Mahal\, Noah Hunt\, Chuck Campbell & Calvin Cooke of the Slide Brothers\, Mato Nanji\, Dylan Triplett\, Ayron Jones\, and Henri Brown. \nSavor fan favorites like Hey Joe\, Little Wing\, Voodoo Chile\, All Along the Watchtower\, Red House\, Hear My Train A-Comin’\, and more.
URL:https://oldediblerenotahoe.com/event/experience-hendrix/
LOCATION:Grand Sierra Resort\, 2500 E 2nd St\, Reno\, NV
END:VEVENT
BEGIN:VEVENT
DTSTART;TZID=America/Los_Angeles:20240923T120000
DTEND;TZID=America/Los_Angeles:20240923T170000
DTSTAMP:20260425T211853
CREATED:20240912T160550Z
LAST-MODIFIED:20240912T160550Z
UID:39918-1727092800-1727110800@oldediblerenotahoe.com
SUMMARY:Tahoe City Oktoberfest
DESCRIPTION:Oktoberfest in Tahoe City is a unique festive fall celebration that welcomes ALL ages. Experience the ultimate lakeside Oktoberfest celebration at Gatekeeper’s Museum/ William B. Layton State Park in Tahoe City\, California from 12 to 5 pm on September 23rd. \nThis exciting family-friendly event offers a wide selection of Bavarian-themed food options and delicious craft beers brewed by regional breweries. Enjoy live music from Coburn Station and the sounds of an authentic accordion player\, Christiane Georgi. \n 
URL:https://oldediblerenotahoe.com/event/tahoe-city-oktoberfest-3/
LOCATION:NV
END:VEVENT
BEGIN:VEVENT
DTSTART;TZID=America/Los_Angeles:20240923T180000
DTEND;TZID=America/Los_Angeles:20240923T210000
DTSTAMP:20260425T211853
CREATED:20240212T180745Z
LAST-MODIFIED:20240504T173114Z
UID:37290-1727114400-1727125200@oldediblerenotahoe.com
SUMMARY:Grateful Harvest Dinner
DESCRIPTION:
URL:https://oldediblerenotahoe.com/event/grateful-harvest-dinner/
LOCATION:Nashville Social Club\, 1105 S Carson St\, Carson City\, NV\, 89701
CATEGORIES:Food & Drink
ATTACH;FMTTYPE=image/png:https://oldediblerenotahoe.com/wp-content/uploads/2024/02/HarvestDinner_STD2024_evite.png
END:VEVENT
BEGIN:VEVENT
DTSTART;TZID=America/Los_Angeles:20240924T080000
DTEND;TZID=America/Los_Angeles:20240924T130000
DTSTAMP:20260425T211853
CREATED:20240912T164300Z
LAST-MODIFIED:20240912T164300Z
UID:40021-1727164800-1727182800@oldediblerenotahoe.com
SUMMARY:Truckee Certified Farmer's Market
DESCRIPTION:Come to the Truckee Farmers Market every Tuesday for fresh and local fruits\, veggies\, flowers\, meats\, cheeses\, olive oil\, fresh baked breads\, artisan crafts\, food trucks and more!
URL:https://oldediblerenotahoe.com/event/truckee-certified-farmers-market-3-2024-09-24/
LOCATION:Truckee River Regional Park
END:VEVENT
BEGIN:VEVENT
DTSTART;TZID=America/Los_Angeles:20240924T180000
DTEND;TZID=America/Los_Angeles:20240924T200000
DTSTAMP:20260425T211854
CREATED:20240811T014236Z
LAST-MODIFIED:20240811T014236Z
UID:39660-1727200800-1727208000@oldediblerenotahoe.com
SUMMARY:Spring Rolls\, Rangoons\, and Potstickers Class
DESCRIPTION:Make scrumptious Asian appetizers using wonton wrappers and a variety of fillings. Spring rolls are filled with minced meat\, shredded vegetables and seasonings. Rangoons are stuffed with a filling of crab\, cream cheese and green onions\, then folded into a star shape and fried. Pot stickers are larger dumplings filled with pork and cabbage\, either steamed or fried. $40 materials fee
URL:https://oldediblerenotahoe.com/event/spring-rolls-rangoons-and-potstickers-class/
LOCATION:Pignic Pub & Patio\, 235 Flint St\, Reno\, NV
END:VEVENT
BEGIN:VEVENT
DTSTART;TZID=America/Los_Angeles:20240924T200000
DTEND;TZID=America/Los_Angeles:20240924T220000
DTSTAMP:20260425T211854
CREATED:20240713T222943Z
LAST-MODIFIED:20240713T222943Z
UID:39370-1727208000-1727215200@oldediblerenotahoe.com
SUMMARY:Jungle
DESCRIPTION:One of UK’s top bands\, JUNGLE has become a firm festival favorite\, especially following their most recent album\, Volcano. With compelling visuals\, they’ve played festivals like All Points East\, Coachella\, and Wilderness. \nWith the electrifying energy of their live performances\, NME described them in a five-star review as a “monstrously good set…you’re in awe of the sheer musical talents of the band.”
URL:https://oldediblerenotahoe.com/event/jungle/
LOCATION:Grand Sierra Resort\, 2500 E 2nd St\, Reno\, NV
END:VEVENT
BEGIN:VEVENT
DTSTART;VALUE=DATE:20240925
DTEND;VALUE=DATE:20240926
DTSTAMP:20260425T211854
CREATED:20240912T161650Z
LAST-MODIFIED:20240912T161937Z
UID:39935-1727222400-1727308799@oldediblerenotahoe.com
SUMMARY:Andelin Farm Fall Festival
DESCRIPTION:
URL:https://oldediblerenotahoe.com/event/andelin-farm-fall-festival/
LOCATION:Andelin Family Farm\, 8100 Pyramid Way\, Spanish Springs\, NV\, 89436
END:VEVENT
END:VCALENDAR