BEGIN:VCALENDAR
VERSION:2.0
PRODID:-//Edible Reno-Tahoe - ECPv6.15.20//NONSGML v1.0//EN
CALSCALE:GREGORIAN
METHOD:PUBLISH
X-ORIGINAL-URL:https://oldediblerenotahoe.com
X-WR-CALDESC:Events for Edible Reno-Tahoe
REFRESH-INTERVAL;VALUE=DURATION:PT1H
X-Robots-Tag:noindex
X-PUBLISHED-TTL:PT1H
BEGIN:VTIMEZONE
TZID:America/Los_Angeles
BEGIN:DAYLIGHT
TZOFFSETFROM:-0800
TZOFFSETTO:-0700
TZNAME:PDT
DTSTART:20230312T100000
END:DAYLIGHT
BEGIN:STANDARD
TZOFFSETFROM:-0700
TZOFFSETTO:-0800
TZNAME:PST
DTSTART:20231105T090000
END:STANDARD
BEGIN:DAYLIGHT
TZOFFSETFROM:-0800
TZOFFSETTO:-0700
TZNAME:PDT
DTSTART:20240310T100000
END:DAYLIGHT
BEGIN:STANDARD
TZOFFSETFROM:-0700
TZOFFSETTO:-0800
TZNAME:PST
DTSTART:20241103T090000
END:STANDARD
BEGIN:DAYLIGHT
TZOFFSETFROM:-0800
TZOFFSETTO:-0700
TZNAME:PDT
DTSTART:20250309T100000
END:DAYLIGHT
BEGIN:STANDARD
TZOFFSETFROM:-0700
TZOFFSETTO:-0800
TZNAME:PST
DTSTART:20251102T090000
END:STANDARD
END:VTIMEZONE
BEGIN:VEVENT
DTSTART;VALUE=DATE:20241001
DTEND;VALUE=DATE:20241101
DTSTAMP:20260425T155257
CREATED:20240811T003721Z
LAST-MODIFIED:20240811T003721Z
UID:39544-1727740800-1730419199@oldediblerenotahoe.com
SUMMARY:Black Lagoon at 40 Mile Saloon
DESCRIPTION:Returning for its fifth year\, but coming to Reno for the first time\, the Black Lagoon team is thrilled to announce its finalized list of 35+ extraordinary cocktail bars and cities across the globe that will be transformed into eerie\, spine-chilling haunts throughout October. This year’s pop-up will feature a bewitchingly curated cocktail menu with Halloween-themed drinks created by co-founders and bar maestros\, Kelsey Ramage and Erin Hayes.
URL:https://oldediblerenotahoe.com/event/black-lagoon-at-40-mile-saloon/
LOCATION:40 Mile Saloon
END:VEVENT
BEGIN:VEVENT
DTSTART;VALUE=DATE:20241004
DTEND;VALUE=DATE:20241007
DTSTAMP:20260425T155257
CREATED:20240713T213741Z
LAST-MODIFIED:20240713T213741Z
UID:39320-1728000000-1728259199@oldediblerenotahoe.com
SUMMARY:Offbeat Music Festival
DESCRIPTION:Yes\, there are still discoveries to be made. See new\, unknown\, unheralded bands in intimate settings before they blow up and have their songs blasting in every earbud\, headlining at every festival and selling out at every venue from Tokyo to Tulsa. There are new songs to hear\, in places you’ve never heard them\, creating a charged energy that will never be heard the same way again. \nThat’s the spirit of the annual OffBeat Music Festival\, a “music festival crawl of sorts.” Hear over 80 performances of the best homegrown musicians\, regional bands and nationally-recognized artists! Discover new music at unique and intimate locations around the core of Midtown Reno.
URL:https://oldediblerenotahoe.com/event/offbeat-music-festival/
LOCATION:NV
END:VEVENT
BEGIN:VEVENT
DTSTART;VALUE=DATE:20241004
DTEND;VALUE=DATE:20241007
DTSTAMP:20260425T155257
CREATED:20240713T213841Z
LAST-MODIFIED:20240713T213841Z
UID:39322-1728000000-1728259199@oldediblerenotahoe.com
SUMMARY:Reno Air Show
DESCRIPTION:The Reno Air Racing Association is thrilled to announce that the US Navy Blue Angels\, the Canadian Snowbirds and the USAF F-16 Viper Demonstration Team will all be coming to Reno on October 4-6\, 2024. So mark it on your calendar\, and then keep an eye out for more details on the event and ticket release coming soon\, as we celebrate 60 years of aviation excitement in Reno!
URL:https://oldediblerenotahoe.com/event/reno-air-show/
LOCATION:Reno Stead Airport
END:VEVENT
BEGIN:VEVENT
DTSTART;VALUE=DATE:20241005
DTEND;VALUE=DATE:20241007
DTSTAMP:20260425T155257
CREATED:20240114T161201Z
LAST-MODIFIED:20240114T161201Z
UID:37092-1728086400-1728259199@oldediblerenotahoe.com
SUMMARY:35th World Championship Outhouse Races
DESCRIPTION:
URL:https://oldediblerenotahoe.com/event/35th-world-championship-outhouse-races/
LOCATION:Virginia City
END:VEVENT
BEGIN:VEVENT
DTSTART;VALUE=DATE:20241005
DTEND;VALUE=DATE:20241006
DTSTAMP:20260425T155257
CREATED:20240912T161650Z
LAST-MODIFIED:20240912T161650Z
UID:39957-1728086400-1728172799@oldediblerenotahoe.com
SUMMARY:Andelin Farm Fall Festival
DESCRIPTION:
URL:https://oldediblerenotahoe.com/event/andelin-farm-fall-festival-2024-10-05/
LOCATION:Andelin Family Farm\, 8100 Pyramid Way\, Spanish Springs\, NV\, 89436
END:VEVENT
BEGIN:VEVENT
DTSTART;VALUE=DATE:20241005
DTEND;VALUE=DATE:20241006
DTSTAMP:20260425T155258
CREATED:20240912T161718Z
LAST-MODIFIED:20240912T161718Z
UID:39979-1728086400-1728172799@oldediblerenotahoe.com
SUMMARY:Andelin Farm 5-Acre Corn Maze
DESCRIPTION:
URL:https://oldediblerenotahoe.com/event/andelin-farm-5-acre-corn-maze-2024-10-05/
LOCATION:Andelin Family Farm\, 8100 Pyramid Way\, Spanish Springs\, NV\, 89436
END:VEVENT
BEGIN:VEVENT
DTSTART;VALUE=DATE:20241005
DTEND;VALUE=DATE:20241006
DTSTAMP:20260425T155258
CREATED:20240912T161833Z
LAST-MODIFIED:20240912T161833Z
UID:39942-1728086400-1728172799@oldediblerenotahoe.com
SUMMARY:Zombie Paintball & Corn Creepers
DESCRIPTION:
URL:https://oldediblerenotahoe.com/event/zombie-paintball-corn-creepers-2024-10-05/
LOCATION:Andelin Family Farm\, 8100 Pyramid Way\, Spanish Springs\, NV\, 89436
END:VEVENT
BEGIN:VEVENT
DTSTART;TZID=America/Los_Angeles:20241005T090000
DTEND;TZID=America/Los_Angeles:20241005T120000
DTSTAMP:20260425T155258
CREATED:20240811T013304Z
LAST-MODIFIED:20240811T013435Z
UID:39637-1728118800-1728129600@oldediblerenotahoe.com
SUMMARY:Wine Grape Growing Class
DESCRIPTION:Discover how to cultivate your own outdoor vineyard oasis. Get to know the many grape varietals and their needs\, explore popular vineyard and trellis designs and receive expert guidance as you learn the most optimal way to set up your space and begin construction. Explore the fundamentals of planting\, training and pruning your vines and find out how to protect your crop from weeds\, pests\, diseases and drought conditions. Discuss soil analysis\, municipal regulations and agricultural sustainability as you delve into growing this luscious fruit.
URL:https://oldediblerenotahoe.com/event/wine-grape-growing-class-2024-10-05/
LOCATION:TMCC Meadowood Center\, 5270 Neil Rd.\, South Bldg.\, Reno\, NV\, 89502\, United States
END:VEVENT
BEGIN:VEVENT
DTSTART;TZID=America/Los_Angeles:20241005T093000
DTEND;TZID=America/Los_Angeles:20241005T113000
DTSTAMP:20260425T155258
CREATED:20240811T005738Z
LAST-MODIFIED:20240811T005738Z
UID:39585-1728120600-1728127800@oldediblerenotahoe.com
SUMMARY:Croissant Baking Workshop
DESCRIPTION:
URL:https://oldediblerenotahoe.com/event/croissant-baking-workshop-2/
LOCATION:Nothing To It!\, 225 Crummer Lane\, Reno\, NV\, 89502\, United States
END:VEVENT
BEGIN:VEVENT
DTSTART;TZID=America/Los_Angeles:20241005T100000
DTEND;TZID=America/Los_Angeles:20241005T120000
DTSTAMP:20260425T155258
CREATED:20241003T013939Z
LAST-MODIFIED:20241003T013939Z
UID:40210-1728122400-1728129600@oldediblerenotahoe.com
SUMMARY:Dead Plant Society: Preserving the Harvest
DESCRIPTION:Savor the last of the season’s harvest with our hands-on jam and jelly workshop! Join master food preserver Doreen Spires and learn how to turn Urban Roots’ farm fresh peaches into delicious jams using the water bath canning method. Learn tips and tricks for preserving all that garden goodness\, and go home with your own hand-made peach jam. Plus\, one lucky attendee will take home a full canning setup!
URL:https://oldediblerenotahoe.com/event/dead-plant-society-preserving-the-harvest/
LOCATION:Urban Teaching Farm\, 1700 E 2nd Street\, Reno\, NV\, 89502
END:VEVENT
BEGIN:VEVENT
DTSTART;TZID=America/Los_Angeles:20241005T100000
DTEND;TZID=America/Los_Angeles:20241005T130000
DTSTAMP:20260425T155258
CREATED:20241003T012518Z
LAST-MODIFIED:20241003T012518Z
UID:40177-1728122400-1728133200@oldediblerenotahoe.com
SUMMARY:Voices from the Past presented by Funtime Theater at Silver Terrace
DESCRIPTION:Silver Terrace Cemeteries and Funtime Theater present “Voices from the Past\,” a live production of Virginia City history. These shows allow you to “talk to the dead” as actors portray real 19th-century Comstockers.
URL:https://oldediblerenotahoe.com/event/voices-from-the-past-presented-by-funtime-theater-at-silver-terrace/
LOCATION:Silver Terrace Cemeteries
END:VEVENT
BEGIN:VEVENT
DTSTART;TZID=America/Los_Angeles:20241005T100000
DTEND;TZID=America/Los_Angeles:20241005T170000
DTSTAMP:20260425T155258
CREATED:20240114T155116Z
LAST-MODIFIED:20240114T155116Z
UID:37063-1728122400-1728147600@oldediblerenotahoe.com
SUMMARY:The Great Pumpkin Festival
DESCRIPTION:Who doesn’t love fall? In addition to the one hundred artists\, you can off the fall season with: pumpkin throwing\, pumpkin beer & treats\, pumpkin crafts & activities\, and more! \nThe Festival is geared towards the family and guarantees to find something every member will enjoy.
URL:https://oldediblerenotahoe.com/event/the-great-pumpkin-festival/
LOCATION:McKinley Arts and Culture Center\, 925 Riverside Dr.\, Reno\, NV
CATEGORIES:Arts,Holiday
END:VEVENT
BEGIN:VEVENT
DTSTART;TZID=America/Los_Angeles:20241005T100000
DTEND;TZID=America/Los_Angeles:20241005T170000
DTSTAMP:20260425T155258
CREATED:20241003T014735Z
LAST-MODIFIED:20241003T014735Z
UID:40233-1728122400-1728147600@oldediblerenotahoe.com
SUMMARY:Oktoberfest at Camp Richardson Resort
DESCRIPTION:Join us for Lake Tahoe’s most authentic Oktoberfest\, October 5 & 6\, from 10am to 5pm! Come early and enjoy FREE Parking\, FREE Bike Valet\, FREE Admission\, Beer & Wine Garden\, Traditional Bavarian Food\, Live Music\, Vendor Booths\, Special Events & Games\, and Kid Activities. \nSchedule of Events:\nSaturday:\n11:00 am – The Studio’s Shining Stars\n12:00 pm – Gruber Family Band\n1:00 pm – Stein Hold or Yodeling Contest\n2:00 pm – Owner & Pet Costume Contest\n3:00 pm – Stein Hold or Yodeling Contest \nSunday:\n11:00 am – The Studio’s Shining Stars\n12:00 pm – Gruber Family Band\n1:00 pm – Stein Hold or Yodeling Contest\n2:00 pm – Owner & Pet Costume Contest\n3:00 pm – Stein Hold or Yodeling Contest
URL:https://oldediblerenotahoe.com/event/oktoberfest-at-camp-richardson-resort/
LOCATION:Camp Richardson Resort
END:VEVENT
BEGIN:VEVENT
DTSTART;TZID=America/Los_Angeles:20241005T110000
DTEND;TZID=America/Los_Angeles:20241005T140000
DTSTAMP:20260425T155258
CREATED:20240118T233701Z
LAST-MODIFIED:20240118T233701Z
UID:37161-1728126000-1728136800@oldediblerenotahoe.com
SUMMARY:Green College Class: Scarecrow Building
DESCRIPTION:
URL:https://oldediblerenotahoe.com/event/scarecrowbuilding-2024-10-05/
LOCATION:Rail City Garden Center\, 1720 Brierley Way\, Sparks\, NV\, 89434
CATEGORIES:Gardening
END:VEVENT
BEGIN:VEVENT
DTSTART;TZID=America/Los_Angeles:20241005T120000
DTEND;TZID=America/Los_Angeles:20241005T210000
DTSTAMP:20260425T155258
CREATED:20240713T221609Z
LAST-MODIFIED:20240713T221609Z
UID:39351-1728129600-1728162000@oldediblerenotahoe.com
SUMMARY:Nugget Casino Resort Oktoberfest
DESCRIPTION:
URL:https://oldediblerenotahoe.com/event/nugget-casino-resort-oktoberfest-2024-10-05/
LOCATION:Nugget Casino Resort\, 1100 Nugget Avenue\,\, Sparks\, NV
END:VEVENT
BEGIN:VEVENT
DTSTART;TZID=America/Los_Angeles:20241005T170000
DTEND;TZID=America/Los_Angeles:20241005T210000
DTSTAMP:20260425T155258
CREATED:20240712T002034Z
LAST-MODIFIED:20240712T002034Z
UID:39233-1728147600-1728162000@oldediblerenotahoe.com
SUMMARY:Dragon Lights
DESCRIPTION:Dragon Lights Reno returns to the enchanting setting of Wilbur D. May Arboretum and Botanic Gardens in Rancho San Rafael Park. Embracing the shift in seasons\, this year’s event unveils exciting new themes sure to captivate guests of all ages.
URL:https://oldediblerenotahoe.com/event/dragon-lights-2024-10-05/
LOCATION:Wilbur D. May Arboretum and Botanical Garden\, Reno
END:VEVENT
BEGIN:VEVENT
DTSTART;TZID=America/Los_Angeles:20241005T170000
DTEND;TZID=America/Los_Angeles:20241005T220000
DTSTAMP:20260425T155258
CREATED:20240624T191134Z
LAST-MODIFIED:20240624T191134Z
UID:38892-1728147600-1728165600@oldediblerenotahoe.com
SUMMARY:Dinner on the Bridge
DESCRIPTION:With stunning views of Downtown Reno\, beautiful music paired with the natural tones of the Truckee River\, and powerful visual arts at every turn\, this intimate experience promises to be a magical evening that will remind us what the world looks like when we support our working artists. \n 
URL:https://oldediblerenotahoe.com/event/dinner-on-the-bridge/
LOCATION:Downtown Reno
CATEGORIES:Food & Drink,Nonprofit
END:VEVENT
BEGIN:VEVENT
DTSTART;TZID=America/Los_Angeles:20241005T170000
DTEND;TZID=America/Los_Angeles:20241005T220000
DTSTAMP:20260425T155258
CREATED:20240919T012914Z
LAST-MODIFIED:20240919T012914Z
UID:40155-1728147600-1728165600@oldediblerenotahoe.com
SUMMARY:Dinner for the Revolution
DESCRIPTION:The dinner will include a tour of our regenerative farm\, a community workshop\, farm-to-table dinner (with omnivore\, vegan and gluten-free options)\, eco-themed variety show (including music\, poetry\, dancing\, clowning and who knows what else….) and dancing under the stars with a live band.
URL:https://oldediblerenotahoe.com/event/dinner-for-the-revolution/
LOCATION:Reno Food Systems
END:VEVENT
BEGIN:VEVENT
DTSTART;TZID=America/Los_Angeles:20241005T180000
DTEND;TZID=America/Los_Angeles:20241005T200000
DTSTAMP:20260425T155258
CREATED:20241003T012350Z
LAST-MODIFIED:20241003T012350Z
UID:40175-1728151200-1728158400@oldediblerenotahoe.com
SUMMARY:Piper's Opera House and Reno Tahoe Comedy Presents Peter Antoniou
DESCRIPTION:Enjoy the enigmatic\, extraordinary\, mind-bendingly hilarious Psychic Comedian Peter Antoniou. With his improv comedy chops and psychic flair\, he will rock your world.  America’s Got Talent Semi-Finalist in Season 16 saw him wowing the judges and captivating viewers with his mind-bending humor. Tickets are $29 per person.
URL:https://oldediblerenotahoe.com/event/pipers-opera-house-and-reno-tahoe-comedy-presents-peter-antoniou/
LOCATION:Piper’s Opera House\, 12 B. Street\, Virginia City\, NV\, 89440
END:VEVENT
BEGIN:VEVENT
DTSTART;TZID=America/Los_Angeles:20241005T180000
DTEND;TZID=America/Los_Angeles:20241005T210000
DTSTAMP:20260425T155258
CREATED:20240408T033051Z
LAST-MODIFIED:20240603T225314Z
UID:38050-1728151200-1728162000@oldediblerenotahoe.com
SUMMARY:Red Shoe Glow Gala
DESCRIPTION:Circle October 5 on your calendar and get ready to dive into a night of excitement and elegance at the Atlantis\, for this year’s Red Shoe Glow Gala! \nPicture this: hula hooping\, balloon bouncing\, Jenga showdowns\, golf putting challenges\, giant bowling\, and so much more — all in support of Ronald McDonald House Charities Northern Nevada. \nAnd don’t forget to hunt down the perfect pair of red shoes to complement your most dazzling outfit. Trust us\, it’s a task that requires ample time\, but hey\, we’re giving you the heads up early — because we’ve got your back!
URL:https://oldediblerenotahoe.com/event/red-shoe-glow-gala/
LOCATION:Atlantis Casino Resort Spa\, 3800 S. Virginia Street\, Reno\, NV\, 89502\, United States
CATEGORIES:Nonprofit
END:VEVENT
BEGIN:VEVENT
DTSTART;TZID=America/Los_Angeles:20241005T200000
DTEND;TZID=America/Los_Angeles:20241005T220000
DTSTAMP:20260425T155258
CREATED:20240713T214052Z
LAST-MODIFIED:20240713T224431Z
UID:39324-1728158400-1728165600@oldediblerenotahoe.com
SUMMARY:Magique - The Show of Shows
DESCRIPTION:Magique is Reno’s resident five-star attraction that is sure to amaze and entertain audiences of all ages. Featuring a cast of 10\, Magique is a whirlwind of excitement with over 20 grand illusions\, 100+ elaborate handmade costumes\, an epic soundtrack\, and special effects galore. Magique is the perfect event for your night out in Reno. Magique is truly the show of shows with hundreds of rave reviews on TripAdvisor\, Yelp\, Google and Facebook. Don’t miss this unique Reno experience!
URL:https://oldediblerenotahoe.com/event/magique-the-show-of-shows/
LOCATION:The Theatre\, 505 Keystone Ave\, Reno\, NV\, 89503
END:VEVENT
BEGIN:VEVENT
DTSTART;TZID=America/Los_Angeles:20241006T080000
DTEND;TZID=America/Los_Angeles:20241006T100000
DTSTAMP:20260425T155258
CREATED:20240913T034537Z
LAST-MODIFIED:20240913T034538Z
UID:40062-1728201600-1728208800@oldediblerenotahoe.com
SUMMARY:Birds in the Garden
DESCRIPTION:Experience an early morning walk as Lauren Whitenack guides us in exploring the varied habitat in and around the Wilbur D. May Arboretum and Botanical Garden\, observing different bird species\, wildlife and more.
URL:https://oldediblerenotahoe.com/event/birds-in-the-garden-2/
LOCATION:Wilbur D. May Arboretum and Botanical Garden\, Reno
END:VEVENT
BEGIN:VEVENT
DTSTART;TZID=America/Los_Angeles:20241006T080000
DTEND;TZID=America/Los_Angeles:20241006T130000
DTSTAMP:20260425T155258
CREATED:20240912T164300Z
LAST-MODIFIED:20240912T164300Z
UID:40024-1728201600-1728219600@oldediblerenotahoe.com
SUMMARY:Truckee Certified Farmer's Market
DESCRIPTION:Come to the Truckee Farmers Market every Tuesday for fresh and local fruits\, veggies\, flowers\, meats\, cheeses\, olive oil\, fresh baked breads\, artisan crafts\, food trucks and more!
URL:https://oldediblerenotahoe.com/event/truckee-certified-farmers-market-3-2024-10-06/
LOCATION:Truckee River Regional Park
END:VEVENT
BEGIN:VEVENT
DTSTART;TZID=America/Los_Angeles:20241006T080000
DTEND;TZID=America/Los_Angeles:20241006T170000
DTSTAMP:20260425T155258
CREATED:20240514T225928Z
LAST-MODIFIED:20240514T225928Z
UID:38512-1728201600-1728234000@oldediblerenotahoe.com
SUMMARY:Rock Reno Half Marathon\, Relay & 5K
DESCRIPTION:
URL:https://oldediblerenotahoe.com/event/rock-reno-half-marathon-relay-5k/
LOCATION:NV
CATEGORIES:Activity,Spirits
END:VEVENT
BEGIN:VEVENT
DTSTART;TZID=America/Los_Angeles:20241006T090000
DTEND;TZID=America/Los_Angeles:20241006T130000
DTSTAMP:20260425T155258
CREATED:20231103T014135Z
LAST-MODIFIED:20231103T014135Z
UID:35270-1728205200-1728219600@oldediblerenotahoe.com
SUMMARY:Riverside Farmers Market
DESCRIPTION:The Riverside Farmers Market stands as Reno’s authentic local market\, exclusively featuring vendors who cultivate\, rear\, or craft their products within the immediate vicinity of the city. Highlighting small-scale\, community-focused\, and sustainable farmers and ranchers\, the market is a testament to the belief that the foundation of healthy food lies in the health of the land. It also serves as a welcoming platform for Reno’s emerging agricultural talents\, providing a space for residents to connect with those who are dedicated to nourishing the Truckee Meadows community through locally grown produce.
URL:https://oldediblerenotahoe.com/event/riverside-farmers-market-3-2024-10-06/
LOCATION:Idlewild Park\, 1000 Cowan Dr.\, Reno\, NV\, 89509
CATEGORIES:Farmers Market,Shopping
END:VEVENT
BEGIN:VEVENT
DTSTART;TZID=America/Los_Angeles:20241006T090000
DTEND;TZID=America/Los_Angeles:20241006T140000
DTSTAMP:20260425T155258
CREATED:20240212T180258Z
LAST-MODIFIED:20240212T180258Z
UID:37283-1728205200-1728223200@oldediblerenotahoe.com
SUMMARY:Practical Permaculture Class
DESCRIPTION:Imagine heading outside to your yard and being able to gather ingredients for a delicious main course or side dish. It is easier than you think. \nEvery site requires site-specific techniques\, and we’ll teach you how to identify what is needed to implement a successful project. \nStudents will gain the confidence to read their own landscapes and identify resources and weaknesses. Using permaculture design principles and the very best organic gardening techniques\, they will then learn how to plan and install a system for prolific production. \nLearn more at cobitat.org/practical-permaculture
URL:https://oldediblerenotahoe.com/event/practical-permaculture-class-2024-10-06/
LOCATION:NV
CATEGORIES:Community Class,Gardening
ATTACH;FMTTYPE=image/png:https://oldediblerenotahoe.com/wp-content/uploads/2024/02/IMG_20230702_070452234.png
END:VEVENT
BEGIN:VEVENT
DTSTART;TZID=America/Los_Angeles:20241006T100000
DTEND;TZID=America/Los_Angeles:20241006T130000
DTSTAMP:20260425T155258
CREATED:20241003T012518Z
LAST-MODIFIED:20241003T012518Z
UID:40179-1728208800-1728219600@oldediblerenotahoe.com
SUMMARY:Voices from the Past presented by Funtime Theater at Silver Terrace
DESCRIPTION:Silver Terrace Cemeteries and Funtime Theater present “Voices from the Past\,” a live production of Virginia City history. These shows allow you to “talk to the dead” as actors portray real 19th-century Comstockers.
URL:https://oldediblerenotahoe.com/event/voices-from-the-past-presented-by-funtime-theater-at-silver-terrace-2024-10-06/
LOCATION:Silver Terrace Cemeteries
END:VEVENT
BEGIN:VEVENT
DTSTART;TZID=America/Los_Angeles:20241006T100000
DTEND;TZID=America/Los_Angeles:20241006T160000
DTSTAMP:20260425T155258
CREATED:20240114T155116Z
LAST-MODIFIED:20240114T155116Z
UID:37064-1728208800-1728230400@oldediblerenotahoe.com
SUMMARY:The Great Pumpkin Festival
DESCRIPTION:Who doesn’t love fall? In addition to the one hundred artists\, you can off the fall season with: pumpkin throwing\, pumpkin beer & treats\, pumpkin crafts & activities\, and more! \nThe Festival is geared towards the family and guarantees to find something every member will enjoy.
URL:https://oldediblerenotahoe.com/event/the-great-pumpkin-festival-2024-10-06/
LOCATION:McKinley Arts and Culture Center\, 925 Riverside Dr.\, Reno\, NV
CATEGORIES:Arts,Holiday
END:VEVENT
BEGIN:VEVENT
DTSTART;TZID=America/Los_Angeles:20241006T100000
DTEND;TZID=America/Los_Angeles:20241006T170000
DTSTAMP:20260425T155258
CREATED:20241003T014735Z
LAST-MODIFIED:20241003T014735Z
UID:40235-1728208800-1728234000@oldediblerenotahoe.com
SUMMARY:Oktoberfest at Camp Richardson Resort
DESCRIPTION:Join us for Lake Tahoe’s most authentic Oktoberfest\, October 5 & 6\, from 10am to 5pm! Come early and enjoy FREE Parking\, FREE Bike Valet\, FREE Admission\, Beer & Wine Garden\, Traditional Bavarian Food\, Live Music\, Vendor Booths\, Special Events & Games\, and Kid Activities. \nSchedule of Events:\nSaturday:\n11:00 am – The Studio’s Shining Stars\n12:00 pm – Gruber Family Band\n1:00 pm – Stein Hold or Yodeling Contest\n2:00 pm – Owner & Pet Costume Contest\n3:00 pm – Stein Hold or Yodeling Contest \nSunday:\n11:00 am – The Studio’s Shining Stars\n12:00 pm – Gruber Family Band\n1:00 pm – Stein Hold or Yodeling Contest\n2:00 pm – Owner & Pet Costume Contest\n3:00 pm – Stein Hold or Yodeling Contest
URL:https://oldediblerenotahoe.com/event/oktoberfest-at-camp-richardson-resort-2024-10-06/
LOCATION:Camp Richardson Resort
END:VEVENT
BEGIN:VEVENT
DTSTART;TZID=America/Los_Angeles:20241006T103000
DTEND;TZID=America/Los_Angeles:20241006T143000
DTSTAMP:20260425T155258
CREATED:20230922T193120Z
LAST-MODIFIED:20230922T193120Z
UID:36283-1728210600-1728225000@oldediblerenotahoe.com
SUMMARY:Sunday Music Brunch
DESCRIPTION:Sunday Music Brunch at the Nevada Museum of Art Café is the perfect precursor to an afternoon exploring galleries. Chef Colin Smith has updated the menu to include an eclectic array of options from traditional breakfast fare to lunch options–both of which pair nicely with juice\, coffee\, champagne or a mimosa. Enjoy live music by Colin Ross from 11:30 to 2:30. Doors open at 10:30 am and service continues until 2:30 pm. Reservations are required for parties of five or more\, but encouraged for all as space is limited. Museum members receive 10% savings as a benefit of membership. \nCall the Café at 775-284-2921 for more information.
URL:https://oldediblerenotahoe.com/event/sundaymusicbrunch-2024-10-06/
LOCATION:Nevada Museum of Art\, 160 West Liberty\, Reno\, Nevada\, 89501
CATEGORIES:Food & Drink,Music
ATTACH;FMTTYPE=image/jpeg:https://oldediblerenotahoe.com/wp-content/uploads/2023/09/Roundabout_CafeAtNMA-Spring2022-3186-768x432-1.jpg
END:VEVENT
END:VCALENDAR