BEGIN:VCALENDAR
VERSION:2.0
PRODID:-//Edible Reno-Tahoe - ECPv6.15.20//NONSGML v1.0//EN
CALSCALE:GREGORIAN
METHOD:PUBLISH
X-ORIGINAL-URL:https://oldediblerenotahoe.com
X-WR-CALDESC:Events for Edible Reno-Tahoe
REFRESH-INTERVAL;VALUE=DURATION:PT1H
X-Robots-Tag:noindex
X-PUBLISHED-TTL:PT1H
BEGIN:VTIMEZONE
TZID:America/Los_Angeles
BEGIN:DAYLIGHT
TZOFFSETFROM:-0800
TZOFFSETTO:-0700
TZNAME:PDT
DTSTART:20230312T100000
END:DAYLIGHT
BEGIN:STANDARD
TZOFFSETFROM:-0700
TZOFFSETTO:-0800
TZNAME:PST
DTSTART:20231105T090000
END:STANDARD
BEGIN:DAYLIGHT
TZOFFSETFROM:-0800
TZOFFSETTO:-0700
TZNAME:PDT
DTSTART:20240310T100000
END:DAYLIGHT
BEGIN:STANDARD
TZOFFSETFROM:-0700
TZOFFSETTO:-0800
TZNAME:PST
DTSTART:20241103T090000
END:STANDARD
BEGIN:DAYLIGHT
TZOFFSETFROM:-0800
TZOFFSETTO:-0700
TZNAME:PDT
DTSTART:20250309T100000
END:DAYLIGHT
BEGIN:STANDARD
TZOFFSETFROM:-0700
TZOFFSETTO:-0800
TZNAME:PST
DTSTART:20251102T090000
END:STANDARD
END:VTIMEZONE
BEGIN:VEVENT
DTSTART;VALUE=DATE:20241001
DTEND;VALUE=DATE:20241101
DTSTAMP:20260425T155249
CREATED:20240811T003721Z
LAST-MODIFIED:20240811T003721Z
UID:39544-1727740800-1730419199@oldediblerenotahoe.com
SUMMARY:Black Lagoon at 40 Mile Saloon
DESCRIPTION:Returning for its fifth year\, but coming to Reno for the first time\, the Black Lagoon team is thrilled to announce its finalized list of 35+ extraordinary cocktail bars and cities across the globe that will be transformed into eerie\, spine-chilling haunts throughout October. This year’s pop-up will feature a bewitchingly curated cocktail menu with Halloween-themed drinks created by co-founders and bar maestros\, Kelsey Ramage and Erin Hayes.
URL:https://oldediblerenotahoe.com/event/black-lagoon-at-40-mile-saloon/
LOCATION:40 Mile Saloon
END:VEVENT
BEGIN:VEVENT
DTSTART;VALUE=DATE:20241012
DTEND;VALUE=DATE:20241018
DTSTAMP:20260425T155249
CREATED:20241003T012715Z
LAST-MODIFIED:20241003T012715Z
UID:40185-1728691200-1729209599@oldediblerenotahoe.com
SUMMARY:V&T Railroad's Pumpkin Patch Train
DESCRIPTION:Take a ride to find that perfect pumpkin on V&T Railroad’s Pumpkin Patch Train. Departing from the historic 1870 Depot and Gift Shop\, this scenic ride along the 150-year-old rail line will take guests through the eerie remnants of the Comstock Lode Mines and showcase stunning mountain views\, all leading to the enchanting Halloween Pumpkin Patch.
URL:https://oldediblerenotahoe.com/event/vt-railroads-pumpkin-patch-train/
LOCATION:NV
END:VEVENT
BEGIN:VEVENT
DTSTART;VALUE=DATE:20241015
DTEND;VALUE=DATE:20241016
DTSTAMP:20260425T155249
CREATED:20240912T155616Z
LAST-MODIFIED:20240912T155616Z
UID:39912-1728950400-1729036799@oldediblerenotahoe.com
SUMMARY:Stoke Fest Film Festival
DESCRIPTION:Each location will feature unique programs showcasing national and regional film projects and panels with the POW Alliance to create community conversation. In addition\, at select Stoke Fest tour stops\, POW will feature photo exhibits from Creative Alliance members Ming Poon and Brennan Lagasse as well as Sofia Jaramillo\, including: \n“Education Unbound”- Ming and Brennan showcase their recent trip to the Arctic National Wildlife Refuge to spread the community’s stories far and wide and inspire the masses to take action and permanently protect the Arctic Refuge.\n\n“A New Winter” – Sofia highlights the historical evolution and commercialization of skiing\, which has largely excluded BIPOC communities\, and reimagines historic ski images with BIPOC models to challenge these racist origins and inspire a more inclusive future in winter sports and outdoor recreation.
URL:https://oldediblerenotahoe.com/event/stoke-fest-film-festival/
LOCATION:University of Nevada\, Reno
END:VEVENT
BEGIN:VEVENT
DTSTART;VALUE=DATE:20241015
DTEND;VALUE=DATE:20241016
DTSTAMP:20260425T155249
CREATED:20240912T161718Z
LAST-MODIFIED:20240912T161718Z
UID:39985-1728950400-1729036799@oldediblerenotahoe.com
SUMMARY:Andelin Farm 5-Acre Corn Maze
DESCRIPTION:
URL:https://oldediblerenotahoe.com/event/andelin-farm-5-acre-corn-maze-2024-10-15/
LOCATION:Andelin Family Farm\, 8100 Pyramid Way\, Spanish Springs\, NV\, 89436
END:VEVENT
BEGIN:VEVENT
DTSTART;TZID=America/Los_Angeles:20241015T083000
DTEND;TZID=America/Los_Angeles:20241015T093000
DTSTAMP:20260425T155249
CREATED:20241003T014347Z
LAST-MODIFIED:20241003T014347Z
UID:40222-1728981000-1728984600@oldediblerenotahoe.com
SUMMARY:Farm Homeschool Program
DESCRIPTION:Our Farm Homeschool Program is the perfect way for your homeschooler to dive into hands-on gardening at the farm. Whether your child loves mingling with a group or prefers a solo adventure\, this program is the place for them to grow\, learn\, and make some feathered (and non-feathered) friends while engaging in our STEAM curriculum. This time\, it’s Science Fair Month! It’s the perfect time to experiment with all things Fall and discover the wonders of the season through fun\, interactive activities.
URL:https://oldediblerenotahoe.com/event/farm-homeschool-program-2024-10-15/
LOCATION:Urban Teaching Farm\, 1700 E 2nd Street\, Reno\, NV\, 89502
END:VEVENT
BEGIN:VEVENT
DTSTART;TZID=America/Los_Angeles:20241015T160000
DTEND;TZID=America/Los_Angeles:20241015T180000
DTSTAMP:20260425T155249
CREATED:20240811T004456Z
LAST-MODIFIED:20240811T004456Z
UID:39593-1729008000-1729015200@oldediblerenotahoe.com
SUMMARY:Teens Cook
DESCRIPTION:
URL:https://oldediblerenotahoe.com/event/teens-cook-2024-10-15/
LOCATION:Nothing To It!\, 225 Crummer Lane\, Reno\, NV\, 89502\, United States
END:VEVENT
BEGIN:VEVENT
DTSTART;TZID=America/Los_Angeles:20241015T171500
DTEND;TZID=America/Los_Angeles:20241015T191500
DTSTAMP:20260425T155249
CREATED:20241021T190850Z
LAST-MODIFIED:20241021T190850Z
UID:40273-1729012500-1729019700@oldediblerenotahoe.com
SUMMARY:Sugar Cookie Decorating Class
DESCRIPTION:This class is for the sugar cookie beginner! You will learn how to outline\, flood and then decorate your 8 large cookies with royal icing. We will discuss and give a demonstration on how to prepare royal icing\, how to find the correct consistency for the job you are doing and how to mix in color. We’ll show you all of the tools you’ll need to make them at home and where to get them. At the end\, we’ll box up your cookies so that you can take them home with you. Please join us for this fun\, informative class. \nClass recommended for ages 12 and up.
URL:https://oldediblerenotahoe.com/event/sugar-cookie-decorating-class/
LOCATION:Mix Bakeshop\, 1117 California Avenue\, Reno\, NV\, 89509
END:VEVENT
BEGIN:VEVENT
DTSTART;TZID=America/Los_Angeles:20241015T180000
DTEND;TZID=America/Los_Angeles:20241015T210000
DTSTAMP:20260425T155249
CREATED:20240811T014806Z
LAST-MODIFIED:20240811T014806Z
UID:39670-1729015200-1729026000@oldediblerenotahoe.com
SUMMARY:Salvadoran Pupusas Class
DESCRIPTION:Make El Salvador’s national dish just like abuelita’s. Have fun getting hands-on experience making the thick griddle cakes that originated in Central America. Learn about Hispanic spices and ingredients that will help you add flair to many of your favorite recipes. $35 materials fee
URL:https://oldediblerenotahoe.com/event/salvadoran-pupusas-class/
LOCATION:Pignic Pub & Patio\, 235 Flint St\, Reno\, NV
END:VEVENT
BEGIN:VEVENT
DTSTART;VALUE=DATE:20241016
DTEND;VALUE=DATE:20241017
DTSTAMP:20260425T155249
CREATED:20240912T161650Z
LAST-MODIFIED:20240912T161650Z
UID:39962-1729036800-1729123199@oldediblerenotahoe.com
SUMMARY:Andelin Farm Fall Festival
DESCRIPTION:
URL:https://oldediblerenotahoe.com/event/andelin-farm-fall-festival-2024-10-16/
LOCATION:Andelin Family Farm\, 8100 Pyramid Way\, Spanish Springs\, NV\, 89436
END:VEVENT
BEGIN:VEVENT
DTSTART;VALUE=DATE:20241016
DTEND;VALUE=DATE:20241017
DTSTAMP:20260425T155249
CREATED:20240912T161718Z
LAST-MODIFIED:20240912T161718Z
UID:39986-1729036800-1729123199@oldediblerenotahoe.com
SUMMARY:Andelin Farm 5-Acre Corn Maze
DESCRIPTION:
URL:https://oldediblerenotahoe.com/event/andelin-farm-5-acre-corn-maze-2024-10-16/
LOCATION:Andelin Family Farm\, 8100 Pyramid Way\, Spanish Springs\, NV\, 89436
END:VEVENT
BEGIN:VEVENT
DTSTART;TZID=America/Los_Angeles:20241016T150000
DTEND;TZID=America/Los_Angeles:20241016T170000
DTSTAMP:20260425T155249
CREATED:20240811T013529Z
LAST-MODIFIED:20240811T013529Z
UID:39646-1729090800-1729098000@oldediblerenotahoe.com
SUMMARY:High Desert Fall Edible Gardening Class
DESCRIPTION:Fall is an excellent time to think about edible gardening. Although the summer vegetables are winding down\, there are lots of things that can be planted for winter or spring harvesting. Green leafy vegetables such as lettuce and spinach can be planted and will handle the first frosts in the fall. Onions and garlic are easy to grow for spring harvesting. Fall is also a great time to plant fruit trees. We will talk about starting these plants and caring for them over the winter. Vegetable and herb cultivation is the key to a successful harvest. These are just a few things we will discuss in our interactive\, Family Friendly lecture class.
URL:https://oldediblerenotahoe.com/event/high-desert-fall-edible-gardening-class/
LOCATION:TMCC Meadowood Center\, 5270 Neil Rd.\, South Bldg.\, Reno\, NV\, 89502\, United States
END:VEVENT
BEGIN:VEVENT
DTSTART;TZID=America/Los_Angeles:20241016T160000
DTEND;TZID=America/Los_Angeles:20241016T180000
DTSTAMP:20260425T155249
CREATED:20240811T004534Z
LAST-MODIFIED:20240811T004534Z
UID:39596-1729094400-1729101600@oldediblerenotahoe.com
SUMMARY:Kids Cook
DESCRIPTION:
URL:https://oldediblerenotahoe.com/event/kids-cook-2024-10-16/
LOCATION:Nothing To It!\, 225 Crummer Lane\, Reno\, NV\, 89502\, United States
END:VEVENT
BEGIN:VEVENT
DTSTART;VALUE=DATE:20241017
DTEND;VALUE=DATE:20241018
DTSTAMP:20260425T155249
CREATED:20240912T161650Z
LAST-MODIFIED:20240912T161650Z
UID:39963-1729123200-1729209599@oldediblerenotahoe.com
SUMMARY:Andelin Farm Fall Festival
DESCRIPTION:
URL:https://oldediblerenotahoe.com/event/andelin-farm-fall-festival-2024-10-17/
LOCATION:Andelin Family Farm\, 8100 Pyramid Way\, Spanish Springs\, NV\, 89436
END:VEVENT
BEGIN:VEVENT
DTSTART;VALUE=DATE:20241017
DTEND;VALUE=DATE:20241018
DTSTAMP:20260425T155249
CREATED:20240912T161718Z
LAST-MODIFIED:20240912T161718Z
UID:39987-1729123200-1729209599@oldediblerenotahoe.com
SUMMARY:Andelin Farm 5-Acre Corn Maze
DESCRIPTION:
URL:https://oldediblerenotahoe.com/event/andelin-farm-5-acre-corn-maze-2024-10-17/
LOCATION:Andelin Family Farm\, 8100 Pyramid Way\, Spanish Springs\, NV\, 89436
END:VEVENT
BEGIN:VEVENT
DTSTART;VALUE=DATE:20241017
DTEND;VALUE=DATE:20241018
DTSTAMP:20260425T155249
CREATED:20240912T161833Z
LAST-MODIFIED:20240912T161833Z
UID:39946-1729123200-1729209599@oldediblerenotahoe.com
SUMMARY:Zombie Paintball & Corn Creepers
DESCRIPTION:
URL:https://oldediblerenotahoe.com/event/zombie-paintball-corn-creepers-2024-10-17/
LOCATION:Andelin Family Farm\, 8100 Pyramid Way\, Spanish Springs\, NV\, 89436
END:VEVENT
BEGIN:VEVENT
DTSTART;TZID=America/Los_Angeles:20241017T083000
DTEND;TZID=America/Los_Angeles:20241017T093000
DTSTAMP:20260425T155249
CREATED:20241003T014347Z
LAST-MODIFIED:20241003T014347Z
UID:40223-1729153800-1729157400@oldediblerenotahoe.com
SUMMARY:Farm Homeschool Program
DESCRIPTION:Our Farm Homeschool Program is the perfect way for your homeschooler to dive into hands-on gardening at the farm. Whether your child loves mingling with a group or prefers a solo adventure\, this program is the place for them to grow\, learn\, and make some feathered (and non-feathered) friends while engaging in our STEAM curriculum. This time\, it’s Science Fair Month! It’s the perfect time to experiment with all things Fall and discover the wonders of the season through fun\, interactive activities.
URL:https://oldediblerenotahoe.com/event/farm-homeschool-program-2024-10-17/
LOCATION:Urban Teaching Farm\, 1700 E 2nd Street\, Reno\, NV\, 89502
END:VEVENT
BEGIN:VEVENT
DTSTART;TZID=America/Los_Angeles:20241017T160000
DTEND;TZID=America/Los_Angeles:20241017T210000
DTSTAMP:20260425T155249
CREATED:20240919T011632Z
LAST-MODIFIED:20240919T011632Z
UID:40145-1729180800-1729198800@oldediblerenotahoe.com
SUMMARY:The Pig Menu at Liberty Food & Wine Exchange
DESCRIPTION:A special menu with ala carte menu options using a whole pig philosophy alongside an expertly curated list of Whistle Pig Whiskey and cocktails.
URL:https://oldediblerenotahoe.com/event/the-pig-menu-at-liberty-food-wine-exchange/
LOCATION:Liberty Food and Wine Exchange\, 100 N Sierra St\, Reno\, NV\, 89501
END:VEVENT
BEGIN:VEVENT
DTSTART;TZID=America/Los_Angeles:20241017T171500
DTEND;TZID=America/Los_Angeles:20241017T191500
DTSTAMP:20260425T155249
CREATED:20241021T190850Z
LAST-MODIFIED:20241021T190850Z
UID:40274-1729185300-1729192500@oldediblerenotahoe.com
SUMMARY:Sugar Cookie Decorating Class
DESCRIPTION:This class is for the sugar cookie beginner! You will learn how to outline\, flood and then decorate your 8 large cookies with royal icing. We will discuss and give a demonstration on how to prepare royal icing\, how to find the correct consistency for the job you are doing and how to mix in color. We’ll show you all of the tools you’ll need to make them at home and where to get them. At the end\, we’ll box up your cookies so that you can take them home with you. Please join us for this fun\, informative class. \nClass recommended for ages 12 and up.
URL:https://oldediblerenotahoe.com/event/sugar-cookie-decorating-class-2024-10-17/
LOCATION:Mix Bakeshop\, 1117 California Avenue\, Reno\, NV\, 89509
END:VEVENT
BEGIN:VEVENT
DTSTART;TZID=America/Los_Angeles:20241017T171500
DTEND;TZID=America/Los_Angeles:20241017T200000
DTSTAMP:20260425T155249
CREATED:20240912T164105Z
LAST-MODIFIED:20240912T164105Z
UID:40011-1729185300-1729195200@oldediblerenotahoe.com
SUMMARY:Truckee's Historical Haunted Tour
DESCRIPTION:
URL:https://oldediblerenotahoe.com/event/truckees-historical-haunted-tour/
LOCATION:Uncorked Truckee\, 10007 Bridge St\, Truckee\, CA\, 96161
END:VEVENT
BEGIN:VEVENT
DTSTART;TZID=America/Los_Angeles:20241017T200000
DTEND;TZID=America/Los_Angeles:20241017T220000
DTSTAMP:20260425T155249
CREATED:20240713T224815Z
LAST-MODIFIED:20240713T224815Z
UID:39414-1729195200-1729202400@oldediblerenotahoe.com
SUMMARY:Black Violin
DESCRIPTION:Experience every step of the evolution of Black Violin in this unforgettable evening celebrating their 20th anniversary with a blend of new music and revitalized classics. \nThe BV20: Then & Now show serves as a testament to the duo’s growth\, passion\, and dedication to their craft\, which has earned two Grammy nominations for Best Contemporary Instrumental Album and Best Americana Performance. \nIn addition to founding members Kev Marcus and Wil Baptiste\, Nat Stokes will join on drums\, Liston Gregory on the keys\, and DJ SPS will be at the turntable\, blending hip-hop beats and classical performance into an experience that defies expectations and redefines genres. \nThe group plays roughly 200 shows a year\, many of which are performances for young\, low-income students in urban communities. More than 100\,000 youth have been able to watch a Black Violin performance\, all with the goal of challenging stereotypes and preconceived notions of what a “classical musician” looks like and sounds like. \n“The stereotypes are always there\, embedded so deep in our culture\,” says member Wil Baptiste. “Just by nature of our existence\, we challenge those ideas. It’s a unique thing that brings people together\, who aren’t usually in the same room\, and in the current climate\, it’s good to bring people together.”
URL:https://oldediblerenotahoe.com/event/black-violin/
LOCATION:Grand Sierra Resort\, 2500 E 2nd St\, Reno\, NV
END:VEVENT
BEGIN:VEVENT
DTSTART;VALUE=DATE:20241018
DTEND;VALUE=DATE:20241019
DTSTAMP:20260425T155249
CREATED:20240912T161650Z
LAST-MODIFIED:20240912T161650Z
UID:39964-1729209600-1729295999@oldediblerenotahoe.com
SUMMARY:Andelin Farm Fall Festival
DESCRIPTION:
URL:https://oldediblerenotahoe.com/event/andelin-farm-fall-festival-2024-10-18/
LOCATION:Andelin Family Farm\, 8100 Pyramid Way\, Spanish Springs\, NV\, 89436
END:VEVENT
BEGIN:VEVENT
DTSTART;VALUE=DATE:20241018
DTEND;VALUE=DATE:20241019
DTSTAMP:20260425T155249
CREATED:20240912T161718Z
LAST-MODIFIED:20240912T161718Z
UID:39988-1729209600-1729295999@oldediblerenotahoe.com
SUMMARY:Andelin Farm 5-Acre Corn Maze
DESCRIPTION:
URL:https://oldediblerenotahoe.com/event/andelin-farm-5-acre-corn-maze-2024-10-18/
LOCATION:Andelin Family Farm\, 8100 Pyramid Way\, Spanish Springs\, NV\, 89436
END:VEVENT
BEGIN:VEVENT
DTSTART;VALUE=DATE:20241018
DTEND;VALUE=DATE:20241019
DTSTAMP:20260425T155249
CREATED:20240912T161833Z
LAST-MODIFIED:20240912T161833Z
UID:39947-1729209600-1729295999@oldediblerenotahoe.com
SUMMARY:Zombie Paintball & Corn Creepers
DESCRIPTION:
URL:https://oldediblerenotahoe.com/event/zombie-paintball-corn-creepers-2024-10-18/
LOCATION:Andelin Family Farm\, 8100 Pyramid Way\, Spanish Springs\, NV\, 89436
END:VEVENT
BEGIN:VEVENT
DTSTART;TZID=America/Los_Angeles:20241018T090000
DTEND;TZID=America/Los_Angeles:20241018T110000
DTSTAMP:20260425T155249
CREATED:20241003T014205Z
LAST-MODIFIED:20241003T014205Z
UID:40216-1729242000-1729249200@oldediblerenotahoe.com
SUMMARY:Little Gardeners: Pollinator Pals
DESCRIPTION:Are your little gardeners ready to make some new friends? Sign them up for our Pollinator Pals program! We’ll buzz into the fascinating world of pollinators\, searching for and observing these tiny garden helpers up close. We’ll be learning how to create safe spaces for our pals to thrive and help maintain healthy habitats for the essential creatures that keep our garden blooming. Don’t miss the opportunity to spark a little curiosity.
URL:https://oldediblerenotahoe.com/event/little-gardeners-pollinator-pals-2024-10-18/
LOCATION:Urban Teaching Farm\, 1700 E 2nd Street\, Reno\, NV\, 89502
END:VEVENT
BEGIN:VEVENT
DTSTART;TZID=America/Los_Angeles:20241018T110000
DTEND;TZID=America/Los_Angeles:20241018T133000
DTSTAMP:20260425T155249
CREATED:20240811T020248Z
LAST-MODIFIED:20240811T020248Z
UID:39706-1729249200-1729258200@oldediblerenotahoe.com
SUMMARY:Veterans Guest House Champagne Luncheon & Fashion Show
DESCRIPTION:
URL:https://oldediblerenotahoe.com/event/veterans-guest-house-champagne-luncheon-fashion-show/
LOCATION:Atlantis Casino Resort Spa\, 3800 S. Virginia Street\, Reno\, NV\, 89502\, United States
END:VEVENT
BEGIN:VEVENT
DTSTART;TZID=America/Los_Angeles:20241018T120000
DTEND;TZID=America/Los_Angeles:20241018T150000
DTSTAMP:20260425T155249
CREATED:20240811T013641Z
LAST-MODIFIED:20240811T013641Z
UID:39650-1729252800-1729263600@oldediblerenotahoe.com
SUMMARY:Backyard Beekeeping Class
DESCRIPTION:Discover what you need to do to keep happy\, healthy and productive bees\, as a hobby. Whether you want to keep bees for honey production\, improved pollination of your veggies\, or simply for the enjoyment of living in harmony with these amazing insects\, this class is for you.  Understand the environmental importance of honey bees as well as native bees and what it takes to raise them.  Learn about the equipment\, costs\, and environmental concerns about raising healthy colonies of honey bees in your back yard.  Learn traditional methods of maximizing honey production as well as more recent trends in “natural” beekeeping. Delve into their biology and husbandry needs\, bee problems and treatments\, harvesting and the many uses of bee products. Discuss initial and long-term investment costs. $10 materials fee
URL:https://oldediblerenotahoe.com/event/backyard-beekeeping-class-2024-10-18/
LOCATION:NV
END:VEVENT
BEGIN:VEVENT
DTSTART;TZID=America/Los_Angeles:20241018T160000
DTEND;TZID=America/Los_Angeles:20241018T210000
DTSTAMP:20260425T155249
CREATED:20240919T011632Z
LAST-MODIFIED:20240919T011632Z
UID:40146-1729267200-1729285200@oldediblerenotahoe.com
SUMMARY:The Pig Menu at Liberty Food & Wine Exchange
DESCRIPTION:A special menu with ala carte menu options using a whole pig philosophy alongside an expertly curated list of Whistle Pig Whiskey and cocktails.
URL:https://oldediblerenotahoe.com/event/the-pig-menu-at-liberty-food-wine-exchange-2024-10-18/
LOCATION:Liberty Food and Wine Exchange\, 100 N Sierra St\, Reno\, NV\, 89501
END:VEVENT
BEGIN:VEVENT
DTSTART;TZID=America/Los_Angeles:20241018T180000
DTEND;TZID=America/Los_Angeles:20241018T200000
DTSTAMP:20260425T155249
CREATED:20240811T010335Z
LAST-MODIFIED:20240811T010335Z
UID:39599-1729274400-1729281600@oldediblerenotahoe.com
SUMMARY:Girls Night Out - Fall Flavors Class
DESCRIPTION:
URL:https://oldediblerenotahoe.com/event/girls-night-out-fall-flavors-class/
LOCATION:Nothing To It!\, 225 Crummer Lane\, Reno\, NV\, 89502\, United States
END:VEVENT
BEGIN:VEVENT
DTSTART;TZID=America/Los_Angeles:20241018T180000
DTEND;TZID=America/Los_Angeles:20241018T210000
DTSTAMP:20260425T155249
CREATED:20241003T013850Z
LAST-MODIFIED:20241003T013850Z
UID:40207-1729274400-1729285200@oldediblerenotahoe.com
SUMMARY:"Herb" Your Enthusiasm
DESCRIPTION:Get ready for a spook-tacular evening at the farm for Haunted Hoops\, where we transform our farm into a Halloween playground full of chills\, thrills\, and haunted surprises. Enjoy fun for the whole family with crafts like eyeball props and spiderwebs and test your skills in the monster toss race. Don’t forget to stop by the caramel apple station for a sweet treat and warm up with hot chocolate\, or for the grown-ups\, a hot toddy! The Haunted Hoop House opens at 7:00 p.m.\, with different scare levels for the littles and the brave. We’re conjuring up two nights of fun this year\, so don’t ghost us! Join the fun!
URL:https://oldediblerenotahoe.com/event/herb-your-enthusiasm/
LOCATION:Urban Teaching Farm\, 1700 E 2nd Street\, Reno\, NV\, 89502
END:VEVENT
BEGIN:VEVENT
DTSTART;TZID=America/Los_Angeles:20241018T180000
DTEND;TZID=America/Los_Angeles:20241018T210000
DTSTAMP:20260425T155249
CREATED:20241021T190317Z
LAST-MODIFIED:20241021T190317Z
UID:40266-1729274400-1729285200@oldediblerenotahoe.com
SUMMARY:Namaste Diwaliwood
DESCRIPTION:Welcome to the dazzling world of Diwaliwood\, where ​the glamour of Hollywood meets the rich traditions of ​India in a cinematic celebration of food\, art\, and ​culture—all with a mission to provide 60\,000 meals ​through the Food Bank of Northern Nevada! \nSip on exquisite Indian whisky and chai\, savor festive ​cuisine crafted by top local restaurants\, and delight in ​the beauty of Bollywood dance and Indian fashion\, ​experience the artistry of henna and rangoli\, and ​embrace the soothing practices of Ayurveda during this ​unforgettable evening. \nThe vibrant spirit of Diwali and the Indian community ​will shine bright
URL:https://oldediblerenotahoe.com/event/namaste-diwaliwood/
LOCATION:National Automobile Museum\, 10 South Lake St.\, Reno\, 89501
END:VEVENT
END:VCALENDAR