BEGIN:VCALENDAR
VERSION:2.0
PRODID:-//Edible Reno-Tahoe - ECPv6.15.20//NONSGML v1.0//EN
CALSCALE:GREGORIAN
METHOD:PUBLISH
X-ORIGINAL-URL:https://oldediblerenotahoe.com
X-WR-CALDESC:Events for Edible Reno-Tahoe
REFRESH-INTERVAL;VALUE=DURATION:PT1H
X-Robots-Tag:noindex
X-PUBLISHED-TTL:PT1H
BEGIN:VTIMEZONE
TZID:America/Los_Angeles
BEGIN:DAYLIGHT
TZOFFSETFROM:-0800
TZOFFSETTO:-0700
TZNAME:PDT
DTSTART:20230312T100000
END:DAYLIGHT
BEGIN:STANDARD
TZOFFSETFROM:-0700
TZOFFSETTO:-0800
TZNAME:PST
DTSTART:20231105T090000
END:STANDARD
BEGIN:DAYLIGHT
TZOFFSETFROM:-0800
TZOFFSETTO:-0700
TZNAME:PDT
DTSTART:20240310T100000
END:DAYLIGHT
BEGIN:STANDARD
TZOFFSETFROM:-0700
TZOFFSETTO:-0800
TZNAME:PST
DTSTART:20241103T090000
END:STANDARD
BEGIN:DAYLIGHT
TZOFFSETFROM:-0800
TZOFFSETTO:-0700
TZNAME:PDT
DTSTART:20250309T100000
END:DAYLIGHT
BEGIN:STANDARD
TZOFFSETFROM:-0700
TZOFFSETTO:-0800
TZNAME:PST
DTSTART:20251102T090000
END:STANDARD
END:VTIMEZONE
BEGIN:VEVENT
DTSTART;VALUE=DATE:20241201
DTEND;VALUE=DATE:20250101
DTSTAMP:20260425T072942
CREATED:20240913T044035Z
LAST-MODIFIED:20240913T044035Z
UID:40130-1733011200-1735689599@oldediblerenotahoe.com
SUMMARY:Christmas on the Comstock
DESCRIPTION:Christmas on the Comstock will have you Believing Again. \nAnd you won’t find a better place that brings the history and warmth of the season together for that feel-good Christmas vibe. Join in on the magic of the season in Virginia City\, Nevada. You won’t find a better place that brings the history and warmth of the season together for that feel-good Christmas vibe than Virginia City’s Christmas on the Comstock. During December\, the town goes all out. This Victorian-style holiday celebration features the official tree lighting\, a saloon crawl\, our Believe Again Christmas Giveaway\, the V&T Candy Cane Express\, the Electric Holiday Train O’ Lights\, holiday performances and much more. Prepare for THIS to be your new favorite holiday tradition.
URL:https://oldediblerenotahoe.com/event/christmas-on-the-comstock-2/
LOCATION:Virginia City
END:VEVENT
BEGIN:VEVENT
DTSTART;TZID=America/Los_Angeles:20241210T160000
DTEND;TZID=America/Los_Angeles:20241210T180000
DTSTAMP:20260425T072942
CREATED:20240811T004456Z
LAST-MODIFIED:20240811T004456Z
UID:39595-1733846400-1733853600@oldediblerenotahoe.com
SUMMARY:Teens Cook
DESCRIPTION:
URL:https://oldediblerenotahoe.com/event/teens-cook-2024-12-10/
LOCATION:Nothing To It!\, 225 Crummer Lane\, Reno\, NV\, 89502\, United States
END:VEVENT
BEGIN:VEVENT
DTSTART;TZID=America/Los_Angeles:20241210T160000
DTEND;TZID=America/Los_Angeles:20241210T180000
DTSTAMP:20260425T072942
CREATED:20241021T193445Z
LAST-MODIFIED:20241021T193445Z
UID:40333-1733846400-1733853600@oldediblerenotahoe.com
SUMMARY:Teens Cook
DESCRIPTION:
URL:https://oldediblerenotahoe.com/event/teens-cook-4/
LOCATION:Nothing To It!\, 225 Crummer Lane\, Reno\, NV\, 89502\, United States
END:VEVENT
BEGIN:VEVENT
DTSTART;TZID=America/Los_Angeles:20241210T180000
DTEND;TZID=America/Los_Angeles:20241210T180000
DTSTAMP:20260425T072942
CREATED:20240713T231531Z
LAST-MODIFIED:20240713T231531Z
UID:39455-1733853600-1733853600@oldediblerenotahoe.com
SUMMARY:Bollinger Champagne Dinner
DESCRIPTION:
URL:https://oldediblerenotahoe.com/event/bollinger-champagne-dinner/
LOCATION:Atlantis Steakhouse
END:VEVENT
BEGIN:VEVENT
DTSTART;TZID=America/Los_Angeles:20241210T180000
DTEND;TZID=America/Los_Angeles:20241210T180000
DTSTAMP:20260425T072942
CREATED:20240913T035810Z
LAST-MODIFIED:20240913T035810Z
UID:40081-1733853600-1733853600@oldediblerenotahoe.com
SUMMARY:Beetlejuice The Musical
DESCRIPTION:It’s showtime! Based on Tim Burton’s dearly beloved film\, this hilarious musical tells the story of Lydia Deetz\, a strange and unusual teenager whose whole life changes when she meets a recently deceased couple and a demon with a thing for stripes. With an irreverent book\, an astonishing set\, and a score that’s out of this Netherworld\, BEETLEJUICE is “SCREAMINGLY GOOD FUN!” (Variety). And under its uproarious surface (six feet under\, to be exact)\, it’s a remarkably touching show about family\, love\, and making the most of every Day-O!
URL:https://oldediblerenotahoe.com/event/beetlejuice-the-musical/
LOCATION:Pioneer Center\, 100 S. Virginia St.\, Reno\, NV\, 89501
END:VEVENT
BEGIN:VEVENT
DTSTART;TZID=America/Los_Angeles:20241210T180000
DTEND;TZID=America/Los_Angeles:20241210T200000
DTSTAMP:20260425T072942
CREATED:20240811T015909Z
LAST-MODIFIED:20240811T015909Z
UID:39698-1733853600-1733860800@oldediblerenotahoe.com
SUMMARY:Christmas Cookie Decorating Class
DESCRIPTION:What did Santa’s mom pack in his school lunch?… Ho ho homemade cookies! Learn to make Santa-worthy Christmas cookies using a simple sugar cookie dough and icing recipe. Discover various icing consistencies and when to use which kind of icing. Learn tips and tricks for fancy decorating with airbrushing\, stencils\, fondant and molds. Make personalized cookies in decorative packaging to take home for yourself\, share with family or present as a gift. $25 materials fee
URL:https://oldediblerenotahoe.com/event/christmas-cookie-decorating-class-2024-12-10/
LOCATION:TMCC Meadowood Center\, 5270 Neil Rd.\, South Bldg.\, Reno\, NV\, 89502\, United States
END:VEVENT
BEGIN:VEVENT
DTSTART;TZID=America/Los_Angeles:20241211T160000
DTEND;TZID=America/Los_Angeles:20241211T180000
DTSTAMP:20260425T072942
CREATED:20240811T004534Z
LAST-MODIFIED:20240811T004534Z
UID:39598-1733932800-1733940000@oldediblerenotahoe.com
SUMMARY:Kids Cook
DESCRIPTION:
URL:https://oldediblerenotahoe.com/event/kids-cook-2024-12-11/
LOCATION:Nothing To It!\, 225 Crummer Lane\, Reno\, NV\, 89502\, United States
END:VEVENT
BEGIN:VEVENT
DTSTART;TZID=America/Los_Angeles:20241211T160000
DTEND;TZID=America/Los_Angeles:20241211T180000
DTSTAMP:20260425T072942
CREATED:20241021T193514Z
LAST-MODIFIED:20241021T193514Z
UID:40335-1733932800-1733940000@oldediblerenotahoe.com
SUMMARY:Kids Cook
DESCRIPTION:
URL:https://oldediblerenotahoe.com/event/kids-cook-4/
LOCATION:Nothing To It!\, 225 Crummer Lane\, Reno\, NV\, 89502\, United States
END:VEVENT
BEGIN:VEVENT
DTSTART;TZID=America/Los_Angeles:20241211T180000
DTEND;TZID=America/Los_Angeles:20241211T180000
DTSTAMP:20260425T072942
CREATED:20240913T035810Z
LAST-MODIFIED:20240913T035810Z
UID:40082-1733940000-1733940000@oldediblerenotahoe.com
SUMMARY:Beetlejuice The Musical
DESCRIPTION:It’s showtime! Based on Tim Burton’s dearly beloved film\, this hilarious musical tells the story of Lydia Deetz\, a strange and unusual teenager whose whole life changes when she meets a recently deceased couple and a demon with a thing for stripes. With an irreverent book\, an astonishing set\, and a score that’s out of this Netherworld\, BEETLEJUICE is “SCREAMINGLY GOOD FUN!” (Variety). And under its uproarious surface (six feet under\, to be exact)\, it’s a remarkably touching show about family\, love\, and making the most of every Day-O!
URL:https://oldediblerenotahoe.com/event/beetlejuice-the-musical-2024-12-11/
LOCATION:Pioneer Center\, 100 S. Virginia St.\, Reno\, NV\, 89501
END:VEVENT
BEGIN:VEVENT
DTSTART;TZID=America/Los_Angeles:20241211T200000
DTEND;TZID=America/Los_Angeles:20241211T210000
DTSTAMP:20260425T072942
CREATED:20240913T041433Z
LAST-MODIFIED:20240913T041433Z
UID:40103-1733947200-1733950800@oldediblerenotahoe.com
SUMMARY:W.A.S.P.
DESCRIPTION:Few bands in the history of rock have ever incited the polarizing emotional effect this band has had on the world. From the very beginning in the small venues of Los Angeles and later to the countless countries worldwide W.A.S.P.’s unique style of shock and rock caused religious organizations\, local city councils\, parliaments and the Senate to hold hearings in an effort to bar this group from selling records and performing live. It didn’t stop the Winged Assassins from amassing a global fan base that celebrates their history and signature edge. \nThe band’s founding member\, frontman Blackie Lawless\, has led the group as its lead vocalist and primary songwriter since its beginning. His unique brand of visual\, social and political commentary took the group to worldwide heights\, selling millions of records and performing at sold out shows across the globe for four decades. \nJoined by bassist Mike Duda and guitarist Doug Blair\, whose tenures in the band span 26 and 18 years respectively\, along with drummer extraordinaire Aquiles Priester\, Lawless will take the band and fans back to where it all started complete with the stage show extravaganza that many fans never had the opportunity to see live.
URL:https://oldediblerenotahoe.com/event/w-a-s-p/
LOCATION:Grand Sierra Resort\, 2500 E 2nd St\, Reno\, NV
END:VEVENT
BEGIN:VEVENT
DTSTART;TZID=America/Los_Angeles:20241212T080000
DTEND;TZID=America/Los_Angeles:20241212T130000
DTSTAMP:20260425T072942
CREATED:20240912T161301Z
LAST-MODIFIED:20240912T161301Z
UID:39930-1733990400-1734008400@oldediblerenotahoe.com
SUMMARY:Tahoe City Fall Harvest Market
DESCRIPTION:Find seasonal produce\, crafts\, and gifts. Support local businesses and enjoy your holiday shopping!
URL:https://oldediblerenotahoe.com/event/tahoe-city-fall-harvest-market-2024-12-12/
LOCATION:Tahoe City
END:VEVENT
BEGIN:VEVENT
DTSTART;TZID=America/Los_Angeles:20241212T163000
DTEND;TZID=America/Los_Angeles:20241212T203000
DTSTAMP:20260425T072942
CREATED:20241116T173904Z
LAST-MODIFIED:20241116T173904Z
UID:40664-1734021000-1734035400@oldediblerenotahoe.com
SUMMARY:Farmers + Makers Holiday Block Party
DESCRIPTION:Join the Truckee Roundhouse\, Tahoe Food Hub\, and Sierra Community House for a nonprofit holiday market. Enjoy music\, delicious food\, craft beer\, and wine as you shop for organic produce\, specialty foods\, and handmade local crafts.
URL:https://oldediblerenotahoe.com/event/farmers-makers-holiday-block-party-3/
LOCATION:NV
END:VEVENT
BEGIN:VEVENT
DTSTART;TZID=America/Los_Angeles:20241212T180000
DTEND;TZID=America/Los_Angeles:20241212T180000
DTSTAMP:20260425T072942
CREATED:20240913T035810Z
LAST-MODIFIED:20240913T035810Z
UID:40083-1734026400-1734026400@oldediblerenotahoe.com
SUMMARY:Beetlejuice The Musical
DESCRIPTION:It’s showtime! Based on Tim Burton’s dearly beloved film\, this hilarious musical tells the story of Lydia Deetz\, a strange and unusual teenager whose whole life changes when she meets a recently deceased couple and a demon with a thing for stripes. With an irreverent book\, an astonishing set\, and a score that’s out of this Netherworld\, BEETLEJUICE is “SCREAMINGLY GOOD FUN!” (Variety). And under its uproarious surface (six feet under\, to be exact)\, it’s a remarkably touching show about family\, love\, and making the most of every Day-O!
URL:https://oldediblerenotahoe.com/event/beetlejuice-the-musical-2024-12-12/
LOCATION:Pioneer Center\, 100 S. Virginia St.\, Reno\, NV\, 89501
END:VEVENT
BEGIN:VEVENT
DTSTART;TZID=America/Los_Angeles:20241213T180000
DTEND;TZID=America/Los_Angeles:20241213T180000
DTSTAMP:20260425T072942
CREATED:20240913T035810Z
LAST-MODIFIED:20240913T035810Z
UID:40084-1734112800-1734112800@oldediblerenotahoe.com
SUMMARY:Beetlejuice The Musical
DESCRIPTION:It’s showtime! Based on Tim Burton’s dearly beloved film\, this hilarious musical tells the story of Lydia Deetz\, a strange and unusual teenager whose whole life changes when she meets a recently deceased couple and a demon with a thing for stripes. With an irreverent book\, an astonishing set\, and a score that’s out of this Netherworld\, BEETLEJUICE is “SCREAMINGLY GOOD FUN!” (Variety). And under its uproarious surface (six feet under\, to be exact)\, it’s a remarkably touching show about family\, love\, and making the most of every Day-O!
URL:https://oldediblerenotahoe.com/event/beetlejuice-the-musical-2024-12-13/
LOCATION:Pioneer Center\, 100 S. Virginia St.\, Reno\, NV\, 89501
END:VEVENT
BEGIN:VEVENT
DTSTART;TZID=America/Los_Angeles:20241214T093000
DTEND;TZID=America/Los_Angeles:20241214T113000
DTSTAMP:20260425T072942
CREATED:20241021T193546Z
LAST-MODIFIED:20241021T193546Z
UID:40337-1734168600-1734175800@oldediblerenotahoe.com
SUMMARY:Kids Gingerbread Houses
DESCRIPTION:
URL:https://oldediblerenotahoe.com/event/kids-gingerbread-houses/
LOCATION:Nothing To It!\, 225 Crummer Lane\, Reno\, NV\, 89502\, United States
END:VEVENT
BEGIN:VEVENT
DTSTART;TZID=America/Los_Angeles:20241214T100000
DTEND;TZID=America/Los_Angeles:20241214T120000
DTSTAMP:20260425T072942
CREATED:20241021T200751Z
LAST-MODIFIED:20241021T200751Z
UID:40406-1734170400-1734177600@oldediblerenotahoe.com
SUMMARY:Classic Italian Sauces Class
DESCRIPTION:
URL:https://oldediblerenotahoe.com/event/classic-italian-sauces-class/
LOCATION:Sierra Chef\, 2292 Main Street\, Genoa\, NV
END:VEVENT
BEGIN:VEVENT
DTSTART;TZID=America/Los_Angeles:20241214T100000
DTEND;TZID=America/Los_Angeles:20241214T170000
DTSTAMP:20260425T072942
CREATED:20241216T193613Z
LAST-MODIFIED:20241216T193613Z
UID:40788-1734170400-1734195600@oldediblerenotahoe.com
SUMMARY:Chili Cash N' Carry
DESCRIPTION:
URL:https://oldediblerenotahoe.com/event/chili-cash-n-carry/
LOCATION:The Wedge Ceramics Studio\, 2095 Dickerson Rd\, Reno\, NV
END:VEVENT
BEGIN:VEVENT
DTSTART;TZID=America/Los_Angeles:20241214T130000
DTEND;TZID=America/Los_Angeles:20241214T150000
DTSTAMP:20260425T072942
CREATED:20240913T031719Z
LAST-MODIFIED:20240913T031719Z
UID:40035-1734181200-1734188400@oldediblerenotahoe.com
SUMMARY:Egg Nog & Puerto Rican Coquito Spirit Making Class
DESCRIPTION:
URL:https://oldediblerenotahoe.com/event/egg-nog-puerto-rican-coquito-spirit-making-class/
LOCATION:High Mark Distillery\, 4690 Longley Lane\, Unit 28\, Reno\, Nevada\, 89502
END:VEVENT
BEGIN:VEVENT
DTSTART;TZID=America/Los_Angeles:20241214T173000
DTEND;TZID=America/Los_Angeles:20241214T203000
DTSTAMP:20260425T072942
CREATED:20241130T202131Z
LAST-MODIFIED:20241130T202131Z
UID:40692-1734197400-1734208200@oldediblerenotahoe.com
SUMMARY:Genoa Country Christmas Concert
DESCRIPTION:Featuring Tom Miller\, the concert will highlight music of the season as well as Tom’s music and requested fan favorites.
URL:https://oldediblerenotahoe.com/event/genoa-country-christmas-concert/
LOCATION:NV
END:VEVENT
BEGIN:VEVENT
DTSTART;TZID=America/Los_Angeles:20241214T180000
DTEND;TZID=America/Los_Angeles:20241214T180000
DTSTAMP:20260425T072942
CREATED:20240913T035810Z
LAST-MODIFIED:20240913T035810Z
UID:40085-1734199200-1734199200@oldediblerenotahoe.com
SUMMARY:Beetlejuice The Musical
DESCRIPTION:It’s showtime! Based on Tim Burton’s dearly beloved film\, this hilarious musical tells the story of Lydia Deetz\, a strange and unusual teenager whose whole life changes when she meets a recently deceased couple and a demon with a thing for stripes. With an irreverent book\, an astonishing set\, and a score that’s out of this Netherworld\, BEETLEJUICE is “SCREAMINGLY GOOD FUN!” (Variety). And under its uproarious surface (six feet under\, to be exact)\, it’s a remarkably touching show about family\, love\, and making the most of every Day-O!
URL:https://oldediblerenotahoe.com/event/beetlejuice-the-musical-2024-12-14/
LOCATION:Pioneer Center\, 100 S. Virginia St.\, Reno\, NV\, 89501
END:VEVENT
BEGIN:VEVENT
DTSTART;TZID=America/Los_Angeles:20241214T200000
DTEND;TZID=America/Los_Angeles:20241214T220000
DTSTAMP:20260425T072942
CREATED:20240713T214052Z
LAST-MODIFIED:20240713T214052Z
UID:39391-1734206400-1734213600@oldediblerenotahoe.com
SUMMARY:Magique - The Show of Shows
DESCRIPTION:Magique is Reno’s resident five-star attraction that is sure to amaze and entertain audiences of all ages. Featuring a cast of 10\, Magique is a whirlwind of excitement with over 20 grand illusions\, 100+ elaborate handmade costumes\, an epic soundtrack\, and special effects galore. Magique is the perfect event for your night out in Reno. Magique is truly the show of shows with hundreds of rave reviews on TripAdvisor\, Yelp\, Google and Facebook. Don’t miss this unique Reno experience!
URL:https://oldediblerenotahoe.com/event/magique-the-show-of-shows-2024-12-14/
LOCATION:The Theatre\, 505 Keystone Ave\, Reno\, NV\, 89503
END:VEVENT
BEGIN:VEVENT
DTSTART;TZID=America/Los_Angeles:20241214T200000
DTEND;TZID=America/Los_Angeles:20241214T220000
DTSTAMP:20260425T072942
CREATED:20240913T041729Z
LAST-MODIFIED:20240913T041729Z
UID:40105-1734206400-1734213600@oldediblerenotahoe.com
SUMMARY:Daniel Tosh Live
DESCRIPTION:Daniel Tosh\, known for his unapologetically edgy and quick-witted humor\, is returning to Grand Sierra Resort’s Grand Theatre for another night of stand-up comedy. With a style that pushes boundaries and keeps audiences laughing\, Daniel has quickly risen to become one of the most requested headliners across the country. His razor-sharp delivery and fearless approach to comedy have earned him a devoted fan base. Named one of Variety’s “10 Comics to Watch” in 2005\, Daniel is best known for hosting and creating Tosh.0 which aired on Comedy Central from 2009–2020. The show\, which combined internet clips with Daniel’s comedic perspective\, became one of Comedy Central’s longest-running comedy series. At its peak\, Tosh.0 was the most watched show by men aged 18–34 on cable television. \nDaniel can currently be heard and seen hosting his latest project\, Tosh Show\, a video podcast for iHeart Media. The show premiered to a fantastic response\, garnering millions of watches and listens in its first weeks.
URL:https://oldediblerenotahoe.com/event/daniel-tosh-live/
LOCATION:Grand Sierra Resort\, 2500 E 2nd St\, Reno\, NV
END:VEVENT
BEGIN:VEVENT
DTSTART;TZID=America/Los_Angeles:20241214T200000
DTEND;TZID=America/Los_Angeles:20241214T233000
DTSTAMP:20260425T072942
CREATED:20240913T052308Z
LAST-MODIFIED:20240913T052308Z
UID:40138-1734206400-1734219000@oldediblerenotahoe.com
SUMMARY:Reno Santa Crawl
DESCRIPTION:
URL:https://oldediblerenotahoe.com/event/reno-santa-crawl/
LOCATION:Downtown Reno
END:VEVENT
BEGIN:VEVENT
DTSTART;TZID=America/Los_Angeles:20241215T090000
DTEND;TZID=America/Los_Angeles:20241215T130000
DTSTAMP:20260425T072942
CREATED:20231103T014135Z
LAST-MODIFIED:20231103T014135Z
UID:35280-1734253200-1734267600@oldediblerenotahoe.com
SUMMARY:Riverside Farmers Market
DESCRIPTION:The Riverside Farmers Market stands as Reno’s authentic local market\, exclusively featuring vendors who cultivate\, rear\, or craft their products within the immediate vicinity of the city. Highlighting small-scale\, community-focused\, and sustainable farmers and ranchers\, the market is a testament to the belief that the foundation of healthy food lies in the health of the land. It also serves as a welcoming platform for Reno’s emerging agricultural talents\, providing a space for residents to connect with those who are dedicated to nourishing the Truckee Meadows community through locally grown produce.
URL:https://oldediblerenotahoe.com/event/riverside-farmers-market-3-2024-12-15/
LOCATION:Idlewild Park\, 1000 Cowan Dr.\, Reno\, NV\, 89509
CATEGORIES:Farmers Market,Shopping
END:VEVENT
BEGIN:VEVENT
DTSTART;TZID=America/Los_Angeles:20241215T100000
DTEND;TZID=America/Los_Angeles:20241215T120000
DTSTAMP:20260425T072942
CREATED:20241021T200826Z
LAST-MODIFIED:20241021T200826Z
UID:40408-1734256800-1734264000@oldediblerenotahoe.com
SUMMARY:Making Limoncello For Gifts Class
DESCRIPTION:
URL:https://oldediblerenotahoe.com/event/making-limoncello-for-gifts-class/
LOCATION:Sierra Chef\, 2292 Main Street\, Genoa\, NV
END:VEVENT
BEGIN:VEVENT
DTSTART;TZID=America/Los_Angeles:20241215T100000
DTEND;TZID=America/Los_Angeles:20241215T170000
DTSTAMP:20260425T072942
CREATED:20241216T193613Z
LAST-MODIFIED:20241216T193613Z
UID:40789-1734256800-1734282000@oldediblerenotahoe.com
SUMMARY:Chili Cash N' Carry
DESCRIPTION:
URL:https://oldediblerenotahoe.com/event/chili-cash-n-carry-2024-12-15/
LOCATION:The Wedge Ceramics Studio\, 2095 Dickerson Rd\, Reno\, NV
END:VEVENT
BEGIN:VEVENT
DTSTART;TZID=America/Los_Angeles:20241215T103000
DTEND;TZID=America/Los_Angeles:20241215T143000
DTSTAMP:20260425T072942
CREATED:20230922T193120Z
LAST-MODIFIED:20230922T193120Z
UID:36293-1734258600-1734273000@oldediblerenotahoe.com
SUMMARY:Sunday Music Brunch
DESCRIPTION:Sunday Music Brunch at the Nevada Museum of Art Café is the perfect precursor to an afternoon exploring galleries. Chef Colin Smith has updated the menu to include an eclectic array of options from traditional breakfast fare to lunch options–both of which pair nicely with juice\, coffee\, champagne or a mimosa. Enjoy live music by Colin Ross from 11:30 to 2:30. Doors open at 10:30 am and service continues until 2:30 pm. Reservations are required for parties of five or more\, but encouraged for all as space is limited. Museum members receive 10% savings as a benefit of membership. \nCall the Café at 775-284-2921 for more information.
URL:https://oldediblerenotahoe.com/event/sundaymusicbrunch-2024-12-15/
LOCATION:Nevada Museum of Art\, 160 West Liberty\, Reno\, Nevada\, 89501
CATEGORIES:Food & Drink,Music
ATTACH;FMTTYPE=image/jpeg:https://oldediblerenotahoe.com/wp-content/uploads/2023/09/Roundabout_CafeAtNMA-Spring2022-3186-768x432-1.jpg
END:VEVENT
BEGIN:VEVENT
DTSTART;TZID=America/Los_Angeles:20241215T150000
DTEND;TZID=America/Los_Angeles:20241215T170000
DTSTAMP:20260425T072942
CREATED:20241021T185401Z
LAST-MODIFIED:20241021T185401Z
UID:40258-1734274800-1734282000@oldediblerenotahoe.com
SUMMARY:Reno Dance Company Presents The Nutcracker
DESCRIPTION:Step into a world of enchantment as Clara’s beloved nutcracker toy springs to life in a dazzling production that has delighted audiences for over a century. With a stellar cast\, stunning costumes\, and masterful choreography\, the Reno Dance Company transforms the stage into a magical winter wonderland that will captivate both children and ballet lovers alike. \nJoin us in celebrating this cherished holiday tradition as Tchaikovsky’s timeless score accompanies breathtaking performances by 25 professional dancers and over 80 talented local children from the Reno-Sparks area. Don’t miss the magic as they bring this beloved story to life on the acclaimed Grand Theatre stage at Grand Sierra Resort.
URL:https://oldediblerenotahoe.com/event/reno-dance-company-presents-the-nutcracker/
LOCATION:Grand Sierra Resort\, 2500 E 2nd St\, Reno\, NV
END:VEVENT
BEGIN:VEVENT
DTSTART;TZID=America/Los_Angeles:20241215T180000
DTEND;TZID=America/Los_Angeles:20241215T180000
DTSTAMP:20260425T072942
CREATED:20240913T035810Z
LAST-MODIFIED:20240913T035810Z
UID:40086-1734285600-1734285600@oldediblerenotahoe.com
SUMMARY:Beetlejuice The Musical
DESCRIPTION:It’s showtime! Based on Tim Burton’s dearly beloved film\, this hilarious musical tells the story of Lydia Deetz\, a strange and unusual teenager whose whole life changes when she meets a recently deceased couple and a demon with a thing for stripes. With an irreverent book\, an astonishing set\, and a score that’s out of this Netherworld\, BEETLEJUICE is “SCREAMINGLY GOOD FUN!” (Variety). And under its uproarious surface (six feet under\, to be exact)\, it’s a remarkably touching show about family\, love\, and making the most of every Day-O!
URL:https://oldediblerenotahoe.com/event/beetlejuice-the-musical-2024-12-15/
LOCATION:Pioneer Center\, 100 S. Virginia St.\, Reno\, NV\, 89501
END:VEVENT
BEGIN:VEVENT
DTSTART;TZID=America/Los_Angeles:20241216T180000
DTEND;TZID=America/Los_Angeles:20241216T203000
DTSTAMP:20260425T072942
CREATED:20240811T020024Z
LAST-MODIFIED:20240811T020024Z
UID:39699-1734372000-1734381000@oldediblerenotahoe.com
SUMMARY:Taste of Asia Class
DESCRIPTION:Take a tour of three Asian cuisines in one evening. Create a complete meal featuring spicy kung pao chicken with peanuts\, pineapple Thai fried rice and a Vietnamese pork banh mi sandwich. $45 materials fee
URL:https://oldediblerenotahoe.com/event/taste-of-asia-class/
LOCATION:Café de Thai\, 760 S Virginia St\, Reno\, NV\, 89501
END:VEVENT
END:VCALENDAR