BEGIN:VCALENDAR
VERSION:2.0
PRODID:-//Edible Reno-Tahoe - ECPv6.15.20//NONSGML v1.0//EN
CALSCALE:GREGORIAN
METHOD:PUBLISH
X-ORIGINAL-URL:https://oldediblerenotahoe.com
X-WR-CALDESC:Events for Edible Reno-Tahoe
REFRESH-INTERVAL;VALUE=DURATION:PT1H
X-Robots-Tag:noindex
X-PUBLISHED-TTL:PT1H
BEGIN:VTIMEZONE
TZID:America/Los_Angeles
BEGIN:DAYLIGHT
TZOFFSETFROM:-0800
TZOFFSETTO:-0700
TZNAME:PDT
DTSTART:20240310T100000
END:DAYLIGHT
BEGIN:STANDARD
TZOFFSETFROM:-0700
TZOFFSETTO:-0800
TZNAME:PST
DTSTART:20241103T090000
END:STANDARD
BEGIN:DAYLIGHT
TZOFFSETFROM:-0800
TZOFFSETTO:-0700
TZNAME:PDT
DTSTART:20250309T100000
END:DAYLIGHT
BEGIN:STANDARD
TZOFFSETFROM:-0700
TZOFFSETTO:-0800
TZNAME:PST
DTSTART:20251102T090000
END:STANDARD
BEGIN:DAYLIGHT
TZOFFSETFROM:-0800
TZOFFSETTO:-0700
TZNAME:PDT
DTSTART:20260308T100000
END:DAYLIGHT
BEGIN:STANDARD
TZOFFSETFROM:-0700
TZOFFSETTO:-0800
TZNAME:PST
DTSTART:20261101T090000
END:STANDARD
END:VTIMEZONE
BEGIN:VEVENT
DTSTART;VALUE=DATE:20250701
DTEND;VALUE=DATE:20250801
DTSTAMP:20260424T075516
CREATED:20250312T192216Z
LAST-MODIFIED:20250312T192216Z
UID:42344-1751328000-1754006399@oldediblerenotahoe.com
SUMMARY:Reno Is Artown
DESCRIPTION:
URL:https://oldediblerenotahoe.com/event/reno-is-artown-2/
LOCATION:NV
END:VEVENT
BEGIN:VEVENT
DTSTART;TZID=America/Los_Angeles:20250723T170000
DTEND;TZID=America/Los_Angeles:20250723T200000
DTSTAMP:20260424T075516
CREATED:20250323T183407Z
LAST-MODIFIED:20250323T183407Z
UID:42501-1753290000-1753300800@oldediblerenotahoe.com
SUMMARY:Feed the Camel
DESCRIPTION:
URL:https://oldediblerenotahoe.com/event/feed-the-camel-4-2025-07-23/
LOCATION:McKinley Arts and Culture Center\, 925 Riverside Dr.\, Reno\, NV
END:VEVENT
BEGIN:VEVENT
DTSTART;TZID=America/Los_Angeles:20250723T183000
DTEND;TZID=America/Los_Angeles:20250723T213000
DTSTAMP:20260424T075516
CREATED:20250312T194022Z
LAST-MODIFIED:20250312T194022Z
UID:42382-1753295400-1753306200@oldediblerenotahoe.com
SUMMARY:Music in the Park
DESCRIPTION:
URL:https://oldediblerenotahoe.com/event/music-in-the-park/
LOCATION:Truckee River Regional Park
END:VEVENT
BEGIN:VEVENT
DTSTART;TZID=America/Los_Angeles:20250723T193000
DTEND;TZID=America/Los_Angeles:20250723T213000
DTSTAMP:20260424T075516
CREATED:20250113T212815Z
LAST-MODIFIED:20250113T212815Z
UID:41159-1753299000-1753306200@oldediblerenotahoe.com
SUMMARY:Lake Tahoe Shakespeare Festival: Twelfth Night
DESCRIPTION:A shipwreck throws lives into disarray\, where mistaken identities lead to hilarious havoc and unexpected connections. Viola\, stranded and disguised as a boy\, falls for the Duke\, who pines for Olivia. However\, Olivia\, in mourning\, finds herself smitten with Viola\, setting off a comical chain of romantic entanglements. This delightful gem brims with wit\, wordplay and whimsy to tell a timeless tale of love\, loss and the joyous absurdity of life.
URL:https://oldediblerenotahoe.com/event/lake-tahoe-shakespeare-festival-twelfth-night-2025-07-23/
LOCATION:Sand Harbor State Park\, 2005 NV-28\, Incline Village\, NV\, 89451
END:VEVENT
BEGIN:VEVENT
DTSTART;TZID=America/Los_Angeles:20250724T193000
DTEND;TZID=America/Los_Angeles:20250724T213000
DTSTAMP:20260424T075516
CREATED:20250113T212815Z
LAST-MODIFIED:20250113T212815Z
UID:41160-1753385400-1753392600@oldediblerenotahoe.com
SUMMARY:Lake Tahoe Shakespeare Festival: Twelfth Night
DESCRIPTION:A shipwreck throws lives into disarray\, where mistaken identities lead to hilarious havoc and unexpected connections. Viola\, stranded and disguised as a boy\, falls for the Duke\, who pines for Olivia. However\, Olivia\, in mourning\, finds herself smitten with Viola\, setting off a comical chain of romantic entanglements. This delightful gem brims with wit\, wordplay and whimsy to tell a timeless tale of love\, loss and the joyous absurdity of life.
URL:https://oldediblerenotahoe.com/event/lake-tahoe-shakespeare-festival-twelfth-night-2025-07-24/
LOCATION:Sand Harbor State Park\, 2005 NV-28\, Incline Village\, NV\, 89451
END:VEVENT
BEGIN:VEVENT
DTSTART;TZID=America/Los_Angeles:20250724T200000
DTEND;TZID=America/Los_Angeles:20250724T220000
DTSTAMP:20260424T075516
CREATED:20250312T194114Z
LAST-MODIFIED:20250312T194114Z
UID:42384-1753387200-1753394400@oldediblerenotahoe.com
SUMMARY:Death Cab for Cutie
DESCRIPTION:
URL:https://oldediblerenotahoe.com/event/death-cab-for-cutie/
LOCATION:Grand Sierra Resort\, 2500 E 2nd St\, Reno\, NV
END:VEVENT
BEGIN:VEVENT
DTSTART;VALUE=DATE:20250725
DTEND;VALUE=DATE:20250811
DTSTAMP:20260424T075516
CREATED:20241116T165856Z
LAST-MODIFIED:20241116T165856Z
UID:40658-1753401600-1754870399@oldediblerenotahoe.com
SUMMARY:Classical Tahoe Orchestra
DESCRIPTION:
URL:https://oldediblerenotahoe.com/event/classical-tahoe-orchestra/
LOCATION:NV
END:VEVENT
BEGIN:VEVENT
DTSTART;TZID=America/Los_Angeles:20250725T130000
DTEND;TZID=America/Los_Angeles:20250725T220000
DTSTAMP:20260424T075516
CREATED:20250312T194404Z
LAST-MODIFIED:20250312T194404Z
UID:42389-1753448400-1753480800@oldediblerenotahoe.com
SUMMARY:11th Annual Biggest Little City Wing Fest
DESCRIPTION:
URL:https://oldediblerenotahoe.com/event/11th-annual-biggest-little-city-wing-fest/
LOCATION:Downtown Reno
END:VEVENT
BEGIN:VEVENT
DTSTART;TZID=America/Los_Angeles:20250725T160000
DTEND;TZID=America/Los_Angeles:20250725T210000
DTSTAMP:20260424T075516
CREATED:20250323T183505Z
LAST-MODIFIED:20250323T183505Z
UID:42516-1753459200-1753477200@oldediblerenotahoe.com
SUMMARY:Food Truck Friday
DESCRIPTION:
URL:https://oldediblerenotahoe.com/event/food-truck-friday-3-2025-07-25/
LOCATION:Idlewild Park\, 1000 Cowan Dr.\, Reno\, NV\, 89509
END:VEVENT
BEGIN:VEVENT
DTSTART;TZID=America/Los_Angeles:20250725T190000
DTEND;TZID=America/Los_Angeles:20250725T210000
DTSTAMP:20260424T075516
CREATED:20250312T194250Z
LAST-MODIFIED:20250312T194250Z
UID:42386-1753470000-1753477200@oldediblerenotahoe.com
SUMMARY:Beethoven Unbound
DESCRIPTION:
URL:https://oldediblerenotahoe.com/event/beethoven-unbound/
LOCATION:Classical Tahoe Ricardi Pavilion
END:VEVENT
BEGIN:VEVENT
DTSTART;TZID=America/Los_Angeles:20250725T193000
DTEND;TZID=America/Los_Angeles:20250725T213000
DTSTAMP:20260424T075516
CREATED:20250113T212234Z
LAST-MODIFIED:20250113T212234Z
UID:41147-1753471800-1753479000@oldediblerenotahoe.com
SUMMARY:Lake Tahoe Shakespeare Festival: Peter and the Starcatcher
DESCRIPTION:Set sail to explore the Neverland you never knew with this Tony Award-winning prequel that charts a course through Peter’s untold escapades. A dozen actors portray over 100 unforgettable characters in this high-flying adventure bursting with imagination and ingenious stagecraft. It is a humorous\, heartwarming ride through ambition\, yearning and the magic of friendship\, where you will discover the boy who never grew up before he took flight.
URL:https://oldediblerenotahoe.com/event/lake-tahoe-shakespeare-festival-peter-and-the-starcatcher-2025-07-25/
LOCATION:Sand Harbor State Park\, 2005 NV-28\, Incline Village\, NV\, 89451
END:VEVENT
BEGIN:VEVENT
DTSTART;TZID=America/Los_Angeles:20250725T210000
DTEND;TZID=America/Los_Angeles:20250725T230000
DTSTAMP:20260424T075516
CREATED:20250312T174315Z
LAST-MODIFIED:20250312T174315Z
UID:42172-1753477200-1753484400@oldediblerenotahoe.com
SUMMARY:Nocturnal!
DESCRIPTION:Lose your inhibitions as you step into the magical world of “Nocturnal”. This is an 18 and over show\, featuring world class illusions\, beautiful dancers\, adult humor\, and plenty of surprises. Grab a cocktail at the White Rabbit Lounge\, sit back\, and prepare to be amazed. You might even end up being a part of the magic!
URL:https://oldediblerenotahoe.com/event/nocturnal-2025-07-25/
LOCATION:Grand Sierra Resort\, 2500 E 2nd St\, Reno\, NV
END:VEVENT
BEGIN:VEVENT
DTSTART;TZID=America/Los_Angeles:20250726T101500
DTEND;TZID=America/Los_Angeles:20250726T114500
DTSTAMP:20260424T075516
CREATED:20250312T183607Z
LAST-MODIFIED:20250312T183607Z
UID:42283-1753524900-1753530300@oldediblerenotahoe.com
SUMMARY:Orchard Hike with Farmer Brooke Hazen
DESCRIPTION:Walk the rolling hills of Gold Ridge Organic Farms with founder and farmer Brooke Hazen and explore the wonders within the 88 acres of organic olive\, apple\, and citrus trees. You’ll learn about the history of the farm\, its organic growing practice\, and can ask your most burning questions about apple and olive cultivation\, straight from the founder himself.
URL:https://oldediblerenotahoe.com/event/orchard-hike-with-farmer-brooke-hazen-2025-07-26/
LOCATION:Goldridge Organic Farms\, 3387 Canfield Rd.\, Sebastopol\, CA\, 95472
END:VEVENT
BEGIN:VEVENT
DTSTART;TZID=America/Los_Angeles:20250726T130000
DTEND;TZID=America/Los_Angeles:20250726T220000
DTSTAMP:20260424T075516
CREATED:20250312T194404Z
LAST-MODIFIED:20250312T194404Z
UID:42390-1753534800-1753567200@oldediblerenotahoe.com
SUMMARY:11th Annual Biggest Little City Wing Fest
DESCRIPTION:
URL:https://oldediblerenotahoe.com/event/11th-annual-biggest-little-city-wing-fest-2025-07-26/
LOCATION:Downtown Reno
END:VEVENT
BEGIN:VEVENT
DTSTART;TZID=America/Los_Angeles:20250726T183000
DTEND;TZID=America/Los_Angeles:20250726T213000
DTSTAMP:20260424T075516
CREATED:20250312T194638Z
LAST-MODIFIED:20250312T194638Z
UID:42396-1753554600-1753565400@oldediblerenotahoe.com
SUMMARY:George Thorogood and the Destroyers
DESCRIPTION:
URL:https://oldediblerenotahoe.com/event/george-thorogood-and-the-destroyers/
LOCATION:Nugget Casino Resort\, 1100 Nugget Avenue\,\, Sparks\, NV
END:VEVENT
BEGIN:VEVENT
DTSTART;TZID=America/Los_Angeles:20250726T190000
DTEND;TZID=America/Los_Angeles:20250726T210000
DTSTAMP:20260424T075516
CREATED:20250312T194448Z
LAST-MODIFIED:20250312T194448Z
UID:42392-1753556400-1753563600@oldediblerenotahoe.com
SUMMARY:Music in Motion
DESCRIPTION:
URL:https://oldediblerenotahoe.com/event/music-in-motion/
LOCATION:Classical Tahoe Ricardi Pavilion
END:VEVENT
BEGIN:VEVENT
DTSTART;TZID=America/Los_Angeles:20250726T193000
DTEND;TZID=America/Los_Angeles:20250726T213000
DTSTAMP:20260424T075516
CREATED:20250113T212234Z
LAST-MODIFIED:20250113T212234Z
UID:41148-1753558200-1753565400@oldediblerenotahoe.com
SUMMARY:Lake Tahoe Shakespeare Festival: Peter and the Starcatcher
DESCRIPTION:Set sail to explore the Neverland you never knew with this Tony Award-winning prequel that charts a course through Peter’s untold escapades. A dozen actors portray over 100 unforgettable characters in this high-flying adventure bursting with imagination and ingenious stagecraft. It is a humorous\, heartwarming ride through ambition\, yearning and the magic of friendship\, where you will discover the boy who never grew up before he took flight.
URL:https://oldediblerenotahoe.com/event/lake-tahoe-shakespeare-festival-peter-and-the-starcatcher-2025-07-26/
LOCATION:Sand Harbor State Park\, 2005 NV-28\, Incline Village\, NV\, 89451
END:VEVENT
BEGIN:VEVENT
DTSTART;TZID=America/Los_Angeles:20250726T200000
DTEND;TZID=America/Los_Angeles:20250726T220000
DTSTAMP:20260424T075516
CREATED:20250312T194545Z
LAST-MODIFIED:20250312T194545Z
UID:42394-1753560000-1753567200@oldediblerenotahoe.com
SUMMARY:Dropkick Murphys & Bad Religion
DESCRIPTION:
URL:https://oldediblerenotahoe.com/event/dropkick-murphys-bad-religion/
LOCATION:Grand Sierra Resort\, 2500 E 2nd St\, Reno\, NV
END:VEVENT
BEGIN:VEVENT
DTSTART;TZID=America/Los_Angeles:20250726T210000
DTEND;TZID=America/Los_Angeles:20250726T230000
DTSTAMP:20260424T075516
CREATED:20250312T174315Z
LAST-MODIFIED:20250312T174315Z
UID:42173-1753563600-1753570800@oldediblerenotahoe.com
SUMMARY:Nocturnal!
DESCRIPTION:Lose your inhibitions as you step into the magical world of “Nocturnal”. This is an 18 and over show\, featuring world class illusions\, beautiful dancers\, adult humor\, and plenty of surprises. Grab a cocktail at the White Rabbit Lounge\, sit back\, and prepare to be amazed. You might even end up being a part of the magic!
URL:https://oldediblerenotahoe.com/event/nocturnal-2025-07-26/
LOCATION:Grand Sierra Resort\, 2500 E 2nd St\, Reno\, NV
END:VEVENT
BEGIN:VEVENT
DTSTART;TZID=America/Los_Angeles:20250727T090000
DTEND;TZID=America/Los_Angeles:20250727T130000
DTSTAMP:20260424T075516
CREATED:20250312T173605Z
LAST-MODIFIED:20250312T173605Z
UID:42055-1753606800-1753621200@oldediblerenotahoe.com
SUMMARY:Riverside Farmers Market
DESCRIPTION:The Riverside Farmers Market is Reno’s truly local market\, with all vendors growing\, raising\, or making their goods within the tightest possible radius around Reno. The event showcases small\, local\, and sustainable farmers and ranchers who believe that healthy food begins with a healthy land. They are also are home to Reno’s newest farmers and ranchers\, making it the perfect place to meet the fine folks growing food locally for the Truckee Meadows community.
URL:https://oldediblerenotahoe.com/event/riverside-farmers-market-4-2025-07-27/
LOCATION:Idlewild Park\, 1000 Cowan Dr.\, Reno\, NV\, 89509
END:VEVENT
BEGIN:VEVENT
DTSTART;TZID=America/Los_Angeles:20250727T170000
DTEND;TZID=America/Los_Angeles:20250727T183000
DTSTAMP:20260424T075516
CREATED:20250312T194755Z
LAST-MODIFIED:20250312T194755Z
UID:42398-1753635600-1753641000@oldediblerenotahoe.com
SUMMARY:Ron & Maureen Ashley Oasis Chamber Music Series: Beethoven and Brahms
DESCRIPTION:
URL:https://oldediblerenotahoe.com/event/ron-maureen-ashley-oasis-chamber-music-series-beethoven-and-brahms/
LOCATION:NV
END:VEVENT
BEGIN:VEVENT
DTSTART;TZID=America/Los_Angeles:20250727T193000
DTEND;TZID=America/Los_Angeles:20250727T213000
DTSTAMP:20260424T075516
CREATED:20250113T212815Z
LAST-MODIFIED:20250113T212815Z
UID:41161-1753644600-1753651800@oldediblerenotahoe.com
SUMMARY:Lake Tahoe Shakespeare Festival: Twelfth Night
DESCRIPTION:A shipwreck throws lives into disarray\, where mistaken identities lead to hilarious havoc and unexpected connections. Viola\, stranded and disguised as a boy\, falls for the Duke\, who pines for Olivia. However\, Olivia\, in mourning\, finds herself smitten with Viola\, setting off a comical chain of romantic entanglements. This delightful gem brims with wit\, wordplay and whimsy to tell a timeless tale of love\, loss and the joyous absurdity of life.
URL:https://oldediblerenotahoe.com/event/lake-tahoe-shakespeare-festival-twelfth-night-2025-07-27/
LOCATION:Sand Harbor State Park\, 2005 NV-28\, Incline Village\, NV\, 89451
END:VEVENT
BEGIN:VEVENT
DTSTART;TZID=America/Los_Angeles:20250729T193000
DTEND;TZID=America/Los_Angeles:20250729T213000
DTSTAMP:20260424T075516
CREATED:20250113T212234Z
LAST-MODIFIED:20250113T212234Z
UID:41149-1753817400-1753824600@oldediblerenotahoe.com
SUMMARY:Lake Tahoe Shakespeare Festival: Peter and the Starcatcher
DESCRIPTION:Set sail to explore the Neverland you never knew with this Tony Award-winning prequel that charts a course through Peter’s untold escapades. A dozen actors portray over 100 unforgettable characters in this high-flying adventure bursting with imagination and ingenious stagecraft. It is a humorous\, heartwarming ride through ambition\, yearning and the magic of friendship\, where you will discover the boy who never grew up before he took flight.
URL:https://oldediblerenotahoe.com/event/lake-tahoe-shakespeare-festival-peter-and-the-starcatcher-2025-07-29/
LOCATION:Sand Harbor State Park\, 2005 NV-28\, Incline Village\, NV\, 89451
END:VEVENT
BEGIN:VEVENT
DTSTART;TZID=America/Los_Angeles:20250730T170000
DTEND;TZID=America/Los_Angeles:20250730T200000
DTSTAMP:20260424T075516
CREATED:20250323T183407Z
LAST-MODIFIED:20250323T183407Z
UID:42502-1753894800-1753905600@oldediblerenotahoe.com
SUMMARY:Feed the Camel
DESCRIPTION:
URL:https://oldediblerenotahoe.com/event/feed-the-camel-4-2025-07-30/
LOCATION:McKinley Arts and Culture Center\, 925 Riverside Dr.\, Reno\, NV
END:VEVENT
BEGIN:VEVENT
DTSTART;TZID=America/Los_Angeles:20250730T193000
DTEND;TZID=America/Los_Angeles:20250730T213000
DTSTAMP:20260424T075516
CREATED:20250113T212815Z
LAST-MODIFIED:20250113T212815Z
UID:41162-1753903800-1753911000@oldediblerenotahoe.com
SUMMARY:Lake Tahoe Shakespeare Festival: Twelfth Night
DESCRIPTION:A shipwreck throws lives into disarray\, where mistaken identities lead to hilarious havoc and unexpected connections. Viola\, stranded and disguised as a boy\, falls for the Duke\, who pines for Olivia. However\, Olivia\, in mourning\, finds herself smitten with Viola\, setting off a comical chain of romantic entanglements. This delightful gem brims with wit\, wordplay and whimsy to tell a timeless tale of love\, loss and the joyous absurdity of life.
URL:https://oldediblerenotahoe.com/event/lake-tahoe-shakespeare-festival-twelfth-night-2025-07-30/
LOCATION:Sand Harbor State Park\, 2005 NV-28\, Incline Village\, NV\, 89451
END:VEVENT
BEGIN:VEVENT
DTSTART;TZID=America/Los_Angeles:20250731T180000
DTEND;TZID=America/Los_Angeles:20250731T210000
DTSTAMP:20260424T075516
CREATED:20250312T194843Z
LAST-MODIFIED:20250312T194843Z
UID:42400-1753984800-1753995600@oldediblerenotahoe.com
SUMMARY:Anthony's Chophouse Winemaker Dinner: Silver Oak | Twomey
DESCRIPTION:
URL:https://oldediblerenotahoe.com/event/anthonys-chophouse-winemaker-dinner-silver-oak-twomey/
LOCATION:Anthony’s Chophouse\, 1100 Nugget Ave\, Sparks\, NV\, 89431
END:VEVENT
BEGIN:VEVENT
DTSTART;VALUE=DATE:20250801
DTEND;VALUE=DATE:20250811
DTSTAMP:20260424T075516
CREATED:20250312T181148Z
LAST-MODIFIED:20250312T181148Z
UID:42246-1754006400-1754870399@oldediblerenotahoe.com
SUMMARY:Hot August Nights
DESCRIPTION:
URL:https://oldediblerenotahoe.com/event/hot-august-nights-2/
LOCATION:NV
END:VEVENT
BEGIN:VEVENT
DTSTART;TZID=America/Los_Angeles:20250801T160000
DTEND;TZID=America/Los_Angeles:20250801T210000
DTSTAMP:20260424T075516
CREATED:20250323T183505Z
LAST-MODIFIED:20250323T183505Z
UID:42517-1754064000-1754082000@oldediblerenotahoe.com
SUMMARY:Food Truck Friday
DESCRIPTION:
URL:https://oldediblerenotahoe.com/event/food-truck-friday-3-2025-08-01/
LOCATION:Idlewild Park\, 1000 Cowan Dr.\, Reno\, NV\, 89509
END:VEVENT
BEGIN:VEVENT
DTSTART;TZID=America/Los_Angeles:20250801T193000
DTEND;TZID=America/Los_Angeles:20250801T213000
DTSTAMP:20260424T075516
CREATED:20250113T212234Z
LAST-MODIFIED:20250113T212234Z
UID:41150-1754076600-1754083800@oldediblerenotahoe.com
SUMMARY:Lake Tahoe Shakespeare Festival: Peter and the Starcatcher
DESCRIPTION:Set sail to explore the Neverland you never knew with this Tony Award-winning prequel that charts a course through Peter’s untold escapades. A dozen actors portray over 100 unforgettable characters in this high-flying adventure bursting with imagination and ingenious stagecraft. It is a humorous\, heartwarming ride through ambition\, yearning and the magic of friendship\, where you will discover the boy who never grew up before he took flight.
URL:https://oldediblerenotahoe.com/event/lake-tahoe-shakespeare-festival-peter-and-the-starcatcher-2025-08-01/
LOCATION:Sand Harbor State Park\, 2005 NV-28\, Incline Village\, NV\, 89451
END:VEVENT
BEGIN:VEVENT
DTSTART;TZID=America/Los_Angeles:20250801T210000
DTEND;TZID=America/Los_Angeles:20250801T230000
DTSTAMP:20260424T075516
CREATED:20250312T174315Z
LAST-MODIFIED:20250312T174315Z
UID:42174-1754082000-1754089200@oldediblerenotahoe.com
SUMMARY:Nocturnal!
DESCRIPTION:Lose your inhibitions as you step into the magical world of “Nocturnal”. This is an 18 and over show\, featuring world class illusions\, beautiful dancers\, adult humor\, and plenty of surprises. Grab a cocktail at the White Rabbit Lounge\, sit back\, and prepare to be amazed. You might even end up being a part of the magic!
URL:https://oldediblerenotahoe.com/event/nocturnal-2025-08-01/
LOCATION:Grand Sierra Resort\, 2500 E 2nd St\, Reno\, NV
END:VEVENT
END:VCALENDAR