BEGIN:VCALENDAR
VERSION:2.0
PRODID:-//Edible Reno-Tahoe - ECPv6.15.20//NONSGML v1.0//EN
CALSCALE:GREGORIAN
METHOD:PUBLISH
X-WR-CALNAME:Edible Reno-Tahoe
X-ORIGINAL-URL:https://oldediblerenotahoe.com
X-WR-CALDESC:Events for Edible Reno-Tahoe
REFRESH-INTERVAL;VALUE=DURATION:PT1H
X-Robots-Tag:noindex
X-PUBLISHED-TTL:PT1H
BEGIN:VTIMEZONE
TZID:America/Los_Angeles
BEGIN:DAYLIGHT
TZOFFSETFROM:-0800
TZOFFSETTO:-0700
TZNAME:PDT
DTSTART:20240310T100000
END:DAYLIGHT
BEGIN:STANDARD
TZOFFSETFROM:-0700
TZOFFSETTO:-0800
TZNAME:PST
DTSTART:20241103T090000
END:STANDARD
BEGIN:DAYLIGHT
TZOFFSETFROM:-0800
TZOFFSETTO:-0700
TZNAME:PDT
DTSTART:20250309T100000
END:DAYLIGHT
BEGIN:STANDARD
TZOFFSETFROM:-0700
TZOFFSETTO:-0800
TZNAME:PST
DTSTART:20251102T090000
END:STANDARD
BEGIN:DAYLIGHT
TZOFFSETFROM:-0800
TZOFFSETTO:-0700
TZNAME:PDT
DTSTART:20260308T100000
END:DAYLIGHT
BEGIN:STANDARD
TZOFFSETFROM:-0700
TZOFFSETTO:-0800
TZNAME:PST
DTSTART:20261101T090000
END:STANDARD
END:VTIMEZONE
BEGIN:VEVENT
DTSTART;TZID=America/Los_Angeles:20250625T190000
DTEND;TZID=America/Los_Angeles:20250625T210000
DTSTAMP:20260425T070042
CREATED:20250312T172858Z
LAST-MODIFIED:20250312T172858Z
UID:42207-1750878000-1750885200@oldediblerenotahoe.com
SUMMARY:That's Magic!
DESCRIPTION:This grand illusion show is like no other! Presented by the award winning magic duo Kaileigh and Chase Hasty\, “That’s Magic!” will leave you dazzled and amazed. This upbeat\, interactive show is fun for all ages and guaranteed to have something for everyone. Not only will you be immersed by mind blowing magic\, but you will also see a cast of featured dancers and some elements of surprise. Step inside the White Rabbit Theater for an experience like nowhere else!
URL:https://oldediblerenotahoe.com/event/thats-magic-2025-06-25/
LOCATION:Grand Sierra Resort\, 2500 E 2nd St\, Reno\, NV
END:VEVENT
BEGIN:VEVENT
DTSTART;TZID=America/Los_Angeles:20250625T170000
DTEND;TZID=America/Los_Angeles:20250625T200000
DTSTAMP:20260425T070042
CREATED:20250323T183407Z
LAST-MODIFIED:20250323T183407Z
UID:42497-1750870800-1750881600@oldediblerenotahoe.com
SUMMARY:Feed the Camel
DESCRIPTION:
URL:https://oldediblerenotahoe.com/event/feed-the-camel-4-2025-06-25/
LOCATION:McKinley Arts and Culture Center\, 925 Riverside Dr.\, Reno\, NV
END:VEVENT
BEGIN:VEVENT
DTSTART;TZID=America/Los_Angeles:20250624T190000
DTEND;TZID=America/Los_Angeles:20250624T210000
DTSTAMP:20260425T070042
CREATED:20250312T172858Z
LAST-MODIFIED:20250312T172858Z
UID:42206-1750791600-1750798800@oldediblerenotahoe.com
SUMMARY:That's Magic!
DESCRIPTION:This grand illusion show is like no other! Presented by the award winning magic duo Kaileigh and Chase Hasty\, “That’s Magic!” will leave you dazzled and amazed. This upbeat\, interactive show is fun for all ages and guaranteed to have something for everyone. Not only will you be immersed by mind blowing magic\, but you will also see a cast of featured dancers and some elements of surprise. Step inside the White Rabbit Theater for an experience like nowhere else!
URL:https://oldediblerenotahoe.com/event/thats-magic-2025-06-24/
LOCATION:Grand Sierra Resort\, 2500 E 2nd St\, Reno\, NV
END:VEVENT
BEGIN:VEVENT
DTSTART;TZID=America/Los_Angeles:20250623T190000
DTEND;TZID=America/Los_Angeles:20250623T210000
DTSTAMP:20260425T070042
CREATED:20250312T172858Z
LAST-MODIFIED:20250312T172858Z
UID:42205-1750705200-1750712400@oldediblerenotahoe.com
SUMMARY:That's Magic!
DESCRIPTION:This grand illusion show is like no other! Presented by the award winning magic duo Kaileigh and Chase Hasty\, “That’s Magic!” will leave you dazzled and amazed. This upbeat\, interactive show is fun for all ages and guaranteed to have something for everyone. Not only will you be immersed by mind blowing magic\, but you will also see a cast of featured dancers and some elements of surprise. Step inside the White Rabbit Theater for an experience like nowhere else!
URL:https://oldediblerenotahoe.com/event/thats-magic-2025-06-23/
LOCATION:Grand Sierra Resort\, 2500 E 2nd St\, Reno\, NV
END:VEVENT
BEGIN:VEVENT
DTSTART;TZID=America/Los_Angeles:20250622T190000
DTEND;TZID=America/Los_Angeles:20250622T210000
DTSTAMP:20260425T070042
CREATED:20250312T172858Z
LAST-MODIFIED:20250312T172858Z
UID:42204-1750618800-1750626000@oldediblerenotahoe.com
SUMMARY:That's Magic!
DESCRIPTION:This grand illusion show is like no other! Presented by the award winning magic duo Kaileigh and Chase Hasty\, “That’s Magic!” will leave you dazzled and amazed. This upbeat\, interactive show is fun for all ages and guaranteed to have something for everyone. Not only will you be immersed by mind blowing magic\, but you will also see a cast of featured dancers and some elements of surprise. Step inside the White Rabbit Theater for an experience like nowhere else!
URL:https://oldediblerenotahoe.com/event/thats-magic-2025-06-22/
LOCATION:Grand Sierra Resort\, 2500 E 2nd St\, Reno\, NV
END:VEVENT
BEGIN:VEVENT
DTSTART;TZID=America/Los_Angeles:20250622T120000
DTEND;TZID=America/Los_Angeles:20250622T160000
DTSTAMP:20260425T070042
CREATED:20250323T185502Z
LAST-MODIFIED:20250323T185502Z
UID:42544-1750593600-1750608000@oldediblerenotahoe.com
SUMMARY:World Refugee Day
DESCRIPTION:
URL:https://oldediblerenotahoe.com/event/world-refugee-day/
LOCATION:Miguel Ribera Park
END:VEVENT
BEGIN:VEVENT
DTSTART;TZID=America/Los_Angeles:20250622T090000
DTEND;TZID=America/Los_Angeles:20250622T130000
DTSTAMP:20260425T070042
CREATED:20250312T173605Z
LAST-MODIFIED:20250312T173605Z
UID:42050-1750582800-1750597200@oldediblerenotahoe.com
SUMMARY:Riverside Farmers Market
DESCRIPTION:The Riverside Farmers Market is Reno’s truly local market\, with all vendors growing\, raising\, or making their goods within the tightest possible radius around Reno. The event showcases small\, local\, and sustainable farmers and ranchers who believe that healthy food begins with a healthy land. They are also are home to Reno’s newest farmers and ranchers\, making it the perfect place to meet the fine folks growing food locally for the Truckee Meadows community.
URL:https://oldediblerenotahoe.com/event/riverside-farmers-market-4-2025-06-22/
LOCATION:Idlewild Park\, 1000 Cowan Dr.\, Reno\, NV\, 89509
END:VEVENT
BEGIN:VEVENT
DTSTART;TZID=America/Los_Angeles:20250621T210000
DTEND;TZID=America/Los_Angeles:20250621T230000
DTSTAMP:20260425T070042
CREATED:20250312T174315Z
LAST-MODIFIED:20250312T174315Z
UID:42163-1750539600-1750546800@oldediblerenotahoe.com
SUMMARY:Nocturnal!
DESCRIPTION:Lose your inhibitions as you step into the magical world of “Nocturnal”. This is an 18 and over show\, featuring world class illusions\, beautiful dancers\, adult humor\, and plenty of surprises. Grab a cocktail at the White Rabbit Lounge\, sit back\, and prepare to be amazed. You might even end up being a part of the magic!
URL:https://oldediblerenotahoe.com/event/nocturnal-2025-06-21/
LOCATION:Grand Sierra Resort\, 2500 E 2nd St\, Reno\, NV
END:VEVENT
BEGIN:VEVENT
DTSTART;TZID=America/Los_Angeles:20250621T190000
DTEND;TZID=America/Los_Angeles:20250621T210000
DTSTAMP:20260425T070042
CREATED:20250312T172858Z
LAST-MODIFIED:20250312T172858Z
UID:42203-1750532400-1750539600@oldediblerenotahoe.com
SUMMARY:That's Magic!
DESCRIPTION:This grand illusion show is like no other! Presented by the award winning magic duo Kaileigh and Chase Hasty\, “That’s Magic!” will leave you dazzled and amazed. This upbeat\, interactive show is fun for all ages and guaranteed to have something for everyone. Not only will you be immersed by mind blowing magic\, but you will also see a cast of featured dancers and some elements of surprise. Step inside the White Rabbit Theater for an experience like nowhere else!
URL:https://oldediblerenotahoe.com/event/thats-magic-2025-06-21/
LOCATION:Grand Sierra Resort\, 2500 E 2nd St\, Reno\, NV
END:VEVENT
BEGIN:VEVENT
DTSTART;TZID=America/Los_Angeles:20250621T180000
DTEND;TZID=America/Los_Angeles:20250621T200000
DTSTAMP:20260425T070042
CREATED:20250114T051044Z
LAST-MODIFIED:20250114T051044Z
UID:41276-1750528800-1750536000@oldediblerenotahoe.com
SUMMARY:Gala in the Garden Inaugural Fundraiser
DESCRIPTION:
URL:https://oldediblerenotahoe.com/event/gala-in-the-garden-inaugural-fundraiser/
LOCATION:CA
END:VEVENT
BEGIN:VEVENT
DTSTART;TZID=America/Los_Angeles:20250621T173000
DTEND;TZID=America/Los_Angeles:20250621T220000
DTSTAMP:20260425T070043
CREATED:20250209T205123Z
LAST-MODIFIED:20250209T205123Z
UID:41370-1750527000-1750543200@oldediblerenotahoe.com
SUMMARY:Taste of DownTown
DESCRIPTION:
URL:https://oldediblerenotahoe.com/event/taste-of-downtown-2/
LOCATION:Downtown Carson City
END:VEVENT
BEGIN:VEVENT
DTSTART;TZID=America/Los_Angeles:20250620T210000
DTEND;TZID=America/Los_Angeles:20250620T230000
DTSTAMP:20260425T070043
CREATED:20250312T174315Z
LAST-MODIFIED:20250312T174315Z
UID:42162-1750453200-1750460400@oldediblerenotahoe.com
SUMMARY:Nocturnal!
DESCRIPTION:Lose your inhibitions as you step into the magical world of “Nocturnal”. This is an 18 and over show\, featuring world class illusions\, beautiful dancers\, adult humor\, and plenty of surprises. Grab a cocktail at the White Rabbit Lounge\, sit back\, and prepare to be amazed. You might even end up being a part of the magic!
URL:https://oldediblerenotahoe.com/event/nocturnal-2025-06-20/
LOCATION:Grand Sierra Resort\, 2500 E 2nd St\, Reno\, NV
END:VEVENT
BEGIN:VEVENT
DTSTART;TZID=America/Los_Angeles:20250620T190000
DTEND;TZID=America/Los_Angeles:20250620T210000
DTSTAMP:20260425T070043
CREATED:20250312T191527Z
LAST-MODIFIED:20250312T191527Z
UID:42336-1750446000-1750453200@oldediblerenotahoe.com
SUMMARY:Alabama Live in Concert
DESCRIPTION:
URL:https://oldediblerenotahoe.com/event/alabama-live-in-concert/
LOCATION:Nugget Casino Resort\, 1100 Nugget Avenue\,\, Sparks\, NV
END:VEVENT
BEGIN:VEVENT
DTSTART;TZID=America/Los_Angeles:20250620T190000
DTEND;TZID=America/Los_Angeles:20250620T210000
DTSTAMP:20260425T070043
CREATED:20250312T172858Z
LAST-MODIFIED:20250312T172858Z
UID:42202-1750446000-1750453200@oldediblerenotahoe.com
SUMMARY:That's Magic!
DESCRIPTION:This grand illusion show is like no other! Presented by the award winning magic duo Kaileigh and Chase Hasty\, “That’s Magic!” will leave you dazzled and amazed. This upbeat\, interactive show is fun for all ages and guaranteed to have something for everyone. Not only will you be immersed by mind blowing magic\, but you will also see a cast of featured dancers and some elements of surprise. Step inside the White Rabbit Theater for an experience like nowhere else!
URL:https://oldediblerenotahoe.com/event/thats-magic-2025-06-20/
LOCATION:Grand Sierra Resort\, 2500 E 2nd St\, Reno\, NV
END:VEVENT
BEGIN:VEVENT
DTSTART;TZID=America/Los_Angeles:20250620T180000
DTEND;TZID=America/Los_Angeles:20250620T210000
DTSTAMP:20260425T070043
CREATED:20250323T185023Z
LAST-MODIFIED:20250323T185023Z
UID:42538-1750442400-1750453200@oldediblerenotahoe.com
SUMMARY:Casa El Dorado's Summer Soiree
DESCRIPTION:CASA El Dorado cordially invites you to the Summer Soiree: Celebrating Brighter Tomorrows – an unforgettable evening dedicated to the belief that every child deserves a bright tomorrow.
URL:https://oldediblerenotahoe.com/event/casa-el-dorados-summer-soiree/
LOCATION:Lake Tahoe Golf Course
END:VEVENT
BEGIN:VEVENT
DTSTART;TZID=America/Los_Angeles:20250620T160000
DTEND;TZID=America/Los_Angeles:20250620T210000
DTSTAMP:20260425T070043
CREATED:20250323T183505Z
LAST-MODIFIED:20250323T183505Z
UID:42511-1750435200-1750453200@oldediblerenotahoe.com
SUMMARY:Food Truck Friday
DESCRIPTION:
URL:https://oldediblerenotahoe.com/event/food-truck-friday-3-2025-06-20/
LOCATION:Idlewild Park\, 1000 Cowan Dr.\, Reno\, NV\, 89509
END:VEVENT
BEGIN:VEVENT
DTSTART;TZID=America/Los_Angeles:20250619T200000
DTEND;TZID=America/Los_Angeles:20250619T220000
DTSTAMP:20260425T070043
CREATED:20250312T191151Z
LAST-MODIFIED:20250312T191151Z
UID:42332-1750363200-1750370400@oldediblerenotahoe.com
SUMMARY:St. Paul and The Broken Bones & The Wood Brothers
DESCRIPTION:
URL:https://oldediblerenotahoe.com/event/st-paul-and-the-broken-bones-the-wood-brothers/
LOCATION:Grand Sierra Resort\, 2500 E 2nd St\, Reno\, NV
END:VEVENT
BEGIN:VEVENT
DTSTART;TZID=America/Los_Angeles:20250619T190000
DTEND;TZID=America/Los_Angeles:20250619T210000
DTSTAMP:20260425T070043
CREATED:20250312T172858Z
LAST-MODIFIED:20250312T172858Z
UID:42201-1750359600-1750366800@oldediblerenotahoe.com
SUMMARY:That's Magic!
DESCRIPTION:This grand illusion show is like no other! Presented by the award winning magic duo Kaileigh and Chase Hasty\, “That’s Magic!” will leave you dazzled and amazed. This upbeat\, interactive show is fun for all ages and guaranteed to have something for everyone. Not only will you be immersed by mind blowing magic\, but you will also see a cast of featured dancers and some elements of surprise. Step inside the White Rabbit Theater for an experience like nowhere else!
URL:https://oldediblerenotahoe.com/event/thats-magic-2025-06-19/
LOCATION:Grand Sierra Resort\, 2500 E 2nd St\, Reno\, NV
END:VEVENT
BEGIN:VEVENT
DTSTART;VALUE=DATE:20250619
DTEND;VALUE=DATE:20250629
DTSTAMP:20260425T070043
CREATED:20250312T191442Z
LAST-MODIFIED:20250312T191442Z
UID:42334-1750291200-1751155199@oldediblerenotahoe.com
SUMMARY:Reno Rodeo
DESCRIPTION:
URL:https://oldediblerenotahoe.com/event/reno-rodeo-3/
LOCATION:Livestock Events Center
END:VEVENT
BEGIN:VEVENT
DTSTART;TZID=America/Los_Angeles:20250618T190000
DTEND;TZID=America/Los_Angeles:20250618T220000
DTSTAMP:20260425T070043
CREATED:20250312T191049Z
LAST-MODIFIED:20250312T191049Z
UID:42330-1750273200-1750284000@oldediblerenotahoe.com
SUMMARY:Reno Rodeo Kick-Off Concert: Scotty McCreery
DESCRIPTION:
URL:https://oldediblerenotahoe.com/event/reno-rodeo-kick-off-concert-scotty-mccreery/
LOCATION:Livestock Events Center
END:VEVENT
BEGIN:VEVENT
DTSTART;TZID=America/Los_Angeles:20250618T190000
DTEND;TZID=America/Los_Angeles:20250618T210000
DTSTAMP:20260425T070043
CREATED:20250312T172858Z
LAST-MODIFIED:20250312T172858Z
UID:42200-1750273200-1750280400@oldediblerenotahoe.com
SUMMARY:That's Magic!
DESCRIPTION:This grand illusion show is like no other! Presented by the award winning magic duo Kaileigh and Chase Hasty\, “That’s Magic!” will leave you dazzled and amazed. This upbeat\, interactive show is fun for all ages and guaranteed to have something for everyone. Not only will you be immersed by mind blowing magic\, but you will also see a cast of featured dancers and some elements of surprise. Step inside the White Rabbit Theater for an experience like nowhere else!
URL:https://oldediblerenotahoe.com/event/thats-magic-2025-06-18/
LOCATION:Grand Sierra Resort\, 2500 E 2nd St\, Reno\, NV
END:VEVENT
BEGIN:VEVENT
DTSTART;TZID=America/Los_Angeles:20250618T170000
DTEND;TZID=America/Los_Angeles:20250618T200000
DTSTAMP:20260425T070043
CREATED:20250323T183407Z
LAST-MODIFIED:20250323T183407Z
UID:42496-1750266000-1750276800@oldediblerenotahoe.com
SUMMARY:Feed the Camel
DESCRIPTION:
URL:https://oldediblerenotahoe.com/event/feed-the-camel-4-2025-06-18/
LOCATION:McKinley Arts and Culture Center\, 925 Riverside Dr.\, Reno\, NV
END:VEVENT
BEGIN:VEVENT
DTSTART;TZID=America/Los_Angeles:20250617T190000
DTEND;TZID=America/Los_Angeles:20250617T210000
DTSTAMP:20260425T070043
CREATED:20250312T172858Z
LAST-MODIFIED:20250312T172858Z
UID:42199-1750186800-1750194000@oldediblerenotahoe.com
SUMMARY:That's Magic!
DESCRIPTION:This grand illusion show is like no other! Presented by the award winning magic duo Kaileigh and Chase Hasty\, “That’s Magic!” will leave you dazzled and amazed. This upbeat\, interactive show is fun for all ages and guaranteed to have something for everyone. Not only will you be immersed by mind blowing magic\, but you will also see a cast of featured dancers and some elements of surprise. Step inside the White Rabbit Theater for an experience like nowhere else!
URL:https://oldediblerenotahoe.com/event/thats-magic-2025-06-17/
LOCATION:Grand Sierra Resort\, 2500 E 2nd St\, Reno\, NV
END:VEVENT
BEGIN:VEVENT
DTSTART;TZID=America/Los_Angeles:20250617T180000
DTEND;TZID=America/Los_Angeles:20250617T200000
DTSTAMP:20260425T070043
CREATED:20250226T221042Z
LAST-MODIFIED:20250226T221042Z
UID:41746-1750183200-1750190400@oldediblerenotahoe.com
SUMMARY:Summer Cake Class
DESCRIPTION:
URL:https://oldediblerenotahoe.com/event/summer-cake-class/
LOCATION:Batch Cupcakery (South Creek)
END:VEVENT
BEGIN:VEVENT
DTSTART;TZID=America/Los_Angeles:20250616T190000
DTEND;TZID=America/Los_Angeles:20250616T210000
DTSTAMP:20260425T070043
CREATED:20250312T172858Z
LAST-MODIFIED:20250312T172858Z
UID:42198-1750100400-1750107600@oldediblerenotahoe.com
SUMMARY:That's Magic!
DESCRIPTION:This grand illusion show is like no other! Presented by the award winning magic duo Kaileigh and Chase Hasty\, “That’s Magic!” will leave you dazzled and amazed. This upbeat\, interactive show is fun for all ages and guaranteed to have something for everyone. Not only will you be immersed by mind blowing magic\, but you will also see a cast of featured dancers and some elements of surprise. Step inside the White Rabbit Theater for an experience like nowhere else!
URL:https://oldediblerenotahoe.com/event/thats-magic-2025-06-16/
LOCATION:Grand Sierra Resort\, 2500 E 2nd St\, Reno\, NV
END:VEVENT
BEGIN:VEVENT
DTSTART;TZID=America/Los_Angeles:20250616T080000
DTEND;TZID=America/Los_Angeles:20250616T170000
DTSTAMP:20260425T070043
CREATED:20250312T190949Z
LAST-MODIFIED:20250312T190949Z
UID:42328-1750060800-1750093200@oldediblerenotahoe.com
SUMMARY:Biggest Little Golf Tournament
DESCRIPTION:As golfers navigate the greens\, they’ll also enjoy an array of engaging activities\, including a thrilling silent auction and a raffle filled with fantastic prizes. To keep spirits high\, complimentary drink cart service will be available throughout the day\, and the event will culminate in a mouthwatering BBQ celebration. Whether you’re an avid golfer or just looking for a fun day out\, this event will create lasting memories while supporting Big Brothers Big Sisters of Northern Nevada. Don’t miss out on this unforgettable experience!
URL:https://oldediblerenotahoe.com/event/biggest-little-golf-tournament-2/
LOCATION:Red Hawk Golf and Resort\, 6600 N Wingfield Pkwy\, Sparks\, NV
END:VEVENT
BEGIN:VEVENT
DTSTART;TZID=America/Los_Angeles:20250615T200000
DTEND;TZID=America/Los_Angeles:20250615T220000
DTSTAMP:20260425T070043
CREATED:20250312T190833Z
LAST-MODIFIED:20250312T190833Z
UID:42326-1750017600-1750024800@oldediblerenotahoe.com
SUMMARY:Little Feat with Special Guest Pure Prairie League
DESCRIPTION:
URL:https://oldediblerenotahoe.com/event/little-feat-with-special-guest-pure-prairie-league/
LOCATION:Grand Sierra Resort\, 2500 E 2nd St\, Reno\, NV
END:VEVENT
BEGIN:VEVENT
DTSTART;TZID=America/Los_Angeles:20250615T190000
DTEND;TZID=America/Los_Angeles:20250615T210000
DTSTAMP:20260425T070043
CREATED:20250312T172858Z
LAST-MODIFIED:20250312T172858Z
UID:42197-1750014000-1750021200@oldediblerenotahoe.com
SUMMARY:That's Magic!
DESCRIPTION:This grand illusion show is like no other! Presented by the award winning magic duo Kaileigh and Chase Hasty\, “That’s Magic!” will leave you dazzled and amazed. This upbeat\, interactive show is fun for all ages and guaranteed to have something for everyone. Not only will you be immersed by mind blowing magic\, but you will also see a cast of featured dancers and some elements of surprise. Step inside the White Rabbit Theater for an experience like nowhere else!
URL:https://oldediblerenotahoe.com/event/thats-magic-2025-06-15/
LOCATION:Grand Sierra Resort\, 2500 E 2nd St\, Reno\, NV
END:VEVENT
BEGIN:VEVENT
DTSTART;TZID=America/Los_Angeles:20250615T090000
DTEND;TZID=America/Los_Angeles:20250615T130000
DTSTAMP:20260425T070043
CREATED:20250312T173605Z
LAST-MODIFIED:20250312T173605Z
UID:42049-1749978000-1749992400@oldediblerenotahoe.com
SUMMARY:Riverside Farmers Market
DESCRIPTION:The Riverside Farmers Market is Reno’s truly local market\, with all vendors growing\, raising\, or making their goods within the tightest possible radius around Reno. The event showcases small\, local\, and sustainable farmers and ranchers who believe that healthy food begins with a healthy land. They are also are home to Reno’s newest farmers and ranchers\, making it the perfect place to meet the fine folks growing food locally for the Truckee Meadows community.
URL:https://oldediblerenotahoe.com/event/riverside-farmers-market-4-2025-06-15/
LOCATION:Idlewild Park\, 1000 Cowan Dr.\, Reno\, NV\, 89509
END:VEVENT
BEGIN:VEVENT
DTSTART;TZID=America/Los_Angeles:20250614T210000
DTEND;TZID=America/Los_Angeles:20250614T230000
DTSTAMP:20260425T070043
CREATED:20250312T174315Z
LAST-MODIFIED:20250312T174315Z
UID:42161-1749934800-1749942000@oldediblerenotahoe.com
SUMMARY:Nocturnal!
DESCRIPTION:Lose your inhibitions as you step into the magical world of “Nocturnal”. This is an 18 and over show\, featuring world class illusions\, beautiful dancers\, adult humor\, and plenty of surprises. Grab a cocktail at the White Rabbit Lounge\, sit back\, and prepare to be amazed. You might even end up being a part of the magic!
URL:https://oldediblerenotahoe.com/event/nocturnal-2025-06-14/
LOCATION:Grand Sierra Resort\, 2500 E 2nd St\, Reno\, NV
END:VEVENT
END:VCALENDAR