BEGIN:VCALENDAR
VERSION:2.0
PRODID:-//Edible Reno-Tahoe - ECPv6.15.20//NONSGML v1.0//EN
CALSCALE:GREGORIAN
METHOD:PUBLISH
X-WR-CALNAME:Edible Reno-Tahoe
X-ORIGINAL-URL:https://oldediblerenotahoe.com
X-WR-CALDESC:Events for Edible Reno-Tahoe
REFRESH-INTERVAL;VALUE=DURATION:PT1H
X-Robots-Tag:noindex
X-PUBLISHED-TTL:PT1H
BEGIN:VTIMEZONE
TZID:America/Los_Angeles
BEGIN:DAYLIGHT
TZOFFSETFROM:-0800
TZOFFSETTO:-0700
TZNAME:PDT
DTSTART:20230312T100000
END:DAYLIGHT
BEGIN:STANDARD
TZOFFSETFROM:-0700
TZOFFSETTO:-0800
TZNAME:PST
DTSTART:20231105T090000
END:STANDARD
BEGIN:DAYLIGHT
TZOFFSETFROM:-0800
TZOFFSETTO:-0700
TZNAME:PDT
DTSTART:20240310T100000
END:DAYLIGHT
BEGIN:STANDARD
TZOFFSETFROM:-0700
TZOFFSETTO:-0800
TZNAME:PST
DTSTART:20241103T090000
END:STANDARD
BEGIN:DAYLIGHT
TZOFFSETFROM:-0800
TZOFFSETTO:-0700
TZNAME:PDT
DTSTART:20250309T100000
END:DAYLIGHT
BEGIN:STANDARD
TZOFFSETFROM:-0700
TZOFFSETTO:-0800
TZNAME:PST
DTSTART:20251102T090000
END:STANDARD
END:VTIMEZONE
BEGIN:VEVENT
DTSTART;TZID=America/Los_Angeles:20241124T103000
DTEND;TZID=America/Los_Angeles:20241124T143000
DTSTAMP:20260425T063240
CREATED:20230922T193120Z
LAST-MODIFIED:20230922T193120Z
UID:36290-1732444200-1732458600@oldediblerenotahoe.com
SUMMARY:Sunday Music Brunch
DESCRIPTION:Sunday Music Brunch at the Nevada Museum of Art Café is the perfect precursor to an afternoon exploring galleries. Chef Colin Smith has updated the menu to include an eclectic array of options from traditional breakfast fare to lunch options–both of which pair nicely with juice\, coffee\, champagne or a mimosa. Enjoy live music by Colin Ross from 11:30 to 2:30. Doors open at 10:30 am and service continues until 2:30 pm. Reservations are required for parties of five or more\, but encouraged for all as space is limited. Museum members receive 10% savings as a benefit of membership. \nCall the Café at 775-284-2921 for more information.
URL:https://oldediblerenotahoe.com/event/sundaymusicbrunch-2024-11-24/
LOCATION:Nevada Museum of Art\, 160 West Liberty\, Reno\, Nevada\, 89501
CATEGORIES:Food & Drink,Music
ATTACH;FMTTYPE=image/jpeg:https://oldediblerenotahoe.com/wp-content/uploads/2023/09/Roundabout_CafeAtNMA-Spring2022-3186-768x432-1.jpg
END:VEVENT
BEGIN:VEVENT
DTSTART;TZID=America/Los_Angeles:20241124T090000
DTEND;TZID=America/Los_Angeles:20241124T140000
DTSTAMP:20260425T063240
CREATED:20231103T014135Z
LAST-MODIFIED:20241116T174238Z
UID:35277-1732438800-1732456800@oldediblerenotahoe.com
SUMMARY:Annual Riverside Farmers Market Holiday Bazaar
DESCRIPTION:Step into the magic of the season at The Annual Riverside Farmers Market Holiday Bazaar\, happening on Sunday\, November 24th\, from 9am to 2pm at the charming Idlewild Park!  \nThis enchanting\, free event is perfect for the entire family and marks the highlight of the holiday season. We’re transforming our beloved weekly market into a festive wonderland\, where over 130 local artisans\, farmers\, bakers\, and culinary creatives come together to offer you a holiday shopping experience like no other. From handmade gifts to farm-fresh ingredients\, you’ll find everything you need to make this season magical!
URL:https://oldediblerenotahoe.com/event/rfmholidaybazaar/
LOCATION:Idlewild Park\, 1000 Cowan Dr.\, Reno\, NV\, 89509
CATEGORIES:Farmers Market,Shopping
END:VEVENT
BEGIN:VEVENT
DTSTART;TZID=America/Los_Angeles:20241123T200000
DTEND;TZID=America/Los_Angeles:20241123T220000
DTSTAMP:20260425T063240
CREATED:20240713T225715Z
LAST-MODIFIED:20240713T225715Z
UID:39434-1732392000-1732399200@oldediblerenotahoe.com
SUMMARY:David Spade
DESCRIPTION:David Spade became a household favorite during his tenure as a cast member on NBC’s “Saturday Night Live”. Spade can next be seen hosting the new FOX game show\, “Snake Oil”\, debuting on September 27th. Spade has starred in film and television highlights such as “Joe Dirt”\, “Grown Ups”\, “The Wrong Missy”\, “Rules Of Engagement” and “8 Simples Rules”. For his memorable role as Dennis Finch on “Just Shoot Me”\, Spade received nominations for a 1999 Emmy Award\, Golden Globe\, and American Comedy Award. Spade continues to be a box office draw\, touring his stand-up shows nationwide. Currently\, he can be heard co-hosting his podcast “Fly on the Wall”\, alongside fellow SNL alumni Dana Carvey.
URL:https://oldediblerenotahoe.com/event/david-spade/
LOCATION:Grand Sierra Resort\, 2500 E 2nd St\, Reno\, NV
END:VEVENT
BEGIN:VEVENT
DTSTART;TZID=America/Los_Angeles:20241123T200000
DTEND;TZID=America/Los_Angeles:20241123T220000
DTSTAMP:20260425T063240
CREATED:20240713T214052Z
LAST-MODIFIED:20240713T214052Z
UID:39386-1732392000-1732399200@oldediblerenotahoe.com
SUMMARY:Magique - The Show of Shows
DESCRIPTION:Magique is Reno’s resident five-star attraction that is sure to amaze and entertain audiences of all ages. Featuring a cast of 10\, Magique is a whirlwind of excitement with over 20 grand illusions\, 100+ elaborate handmade costumes\, an epic soundtrack\, and special effects galore. Magique is the perfect event for your night out in Reno. Magique is truly the show of shows with hundreds of rave reviews on TripAdvisor\, Yelp\, Google and Facebook. Don’t miss this unique Reno experience!
URL:https://oldediblerenotahoe.com/event/magique-the-show-of-shows-2024-11-23/
LOCATION:The Theatre\, 505 Keystone Ave\, Reno\, NV\, 89503
END:VEVENT
BEGIN:VEVENT
DTSTART;TZID=America/Los_Angeles:20241123T193000
DTEND;TZID=America/Los_Angeles:20241123T213000
DTSTAMP:20260425T063240
CREATED:20240913T035301Z
LAST-MODIFIED:20240913T035301Z
UID:40071-1732390200-1732397400@oldediblerenotahoe.com
SUMMARY:Rachmaninoff Piano Concerto
DESCRIPTION:If fate comes knocking – will you answer? A balance of dramatic intensity and heartfelt melodic expression\, Verdi’s Overture from his opera La Forza del Destino is one of the most iconic and influential overtures of all time. Pianist Sara Davis Buechner\, “a formidable soloist” (San Francisco Chronicle)\, returns to Reno to perform Rachmaninoff’s Piano Concerto No. 2\, a romantic\, lush\, and majestic work full of memorable melodies. In 1934\, William Dawson imagined a symphony that would fuse African rhythms and American laments into the symphonic form. What Dvořák’s “New World” Symphony promised\, Dawson delivered. His defiant\, triumphant “Negro Folk Symphony” is the greatest symphony you’ve never heard.
URL:https://oldediblerenotahoe.com/event/rachmaninoff-piano-concerto/
LOCATION:Pioneer Center\, 100 S. Virginia St.\, Reno\, NV\, 89501
END:VEVENT
BEGIN:VEVENT
DTSTART;TZID=America/Los_Angeles:20241123T130000
DTEND;TZID=America/Los_Angeles:20241123T150000
DTSTAMP:20260425T063240
CREATED:20240913T032149Z
LAST-MODIFIED:20240913T032149Z
UID:40047-1732366800-1732374000@oldediblerenotahoe.com
SUMMARY:Apple Cider Hot Toddie Spirit Making Class
DESCRIPTION:
URL:https://oldediblerenotahoe.com/event/apple-cider-hot-toddie-spirit-making-class/
LOCATION:High Mark Distillery\, 4690 Longley Lane\, Unit 28\, Reno\, Nevada\, 89502
END:VEVENT
BEGIN:VEVENT
DTSTART;TZID=America/Los_Angeles:20241123T093000
DTEND;TZID=America/Los_Angeles:20241123T113000
DTSTAMP:20260425T063240
CREATED:20241021T193332Z
LAST-MODIFIED:20241021T193332Z
UID:40329-1732354200-1732361400@oldediblerenotahoe.com
SUMMARY:Pie Crust and Pie Baking Workshop
DESCRIPTION:
URL:https://oldediblerenotahoe.com/event/pie-crust-and-pie-baking-workshop/
LOCATION:Nothing To It!\, 225 Crummer Lane\, Reno\, NV\, 89502\, United States
END:VEVENT
BEGIN:VEVENT
DTSTART;TZID=America/Los_Angeles:20241123T090000
DTEND;TZID=America/Los_Angeles:20241123T120000
DTSTAMP:20260425T063240
CREATED:20241021T190021Z
LAST-MODIFIED:20241021T190021Z
UID:40264-1732352400-1732363200@oldediblerenotahoe.com
SUMMARY:GreenVibe Community Clean-Up
DESCRIPTION:
URL:https://oldediblerenotahoe.com/event/greenvibe-community-clean-up/
LOCATION:NV
END:VEVENT
BEGIN:VEVENT
DTSTART;TZID=America/Los_Angeles:20241122T180000
DTEND;TZID=America/Los_Angeles:20241122T210000
DTSTAMP:20260425T063240
CREATED:20241116T172128Z
LAST-MODIFIED:20241116T172148Z
UID:40660-1732298400-1732309200@oldediblerenotahoe.com
SUMMARY:Chef Charlie Palmer's Holiday Dinner
DESCRIPTION:Celebrate the Season with the Charlie Palmer Holiday Dinner at Grand Sierra Resort. In celebration of the holidays\, Chef Charlie Palmer will host a delicious four-course dinner and wine pairing event at Charlie Palmer Steak Reno at Grand Sierra Resort on Nov. 22.
URL:https://oldediblerenotahoe.com/event/40660/
LOCATION:Grand Sierra Resort\, 2500 E 2nd St\, Reno\, NV
END:VEVENT
BEGIN:VEVENT
DTSTART;TZID=America/Los_Angeles:20241122T180000
DTEND;TZID=America/Los_Angeles:20241122T210000
DTSTAMP:20260425T063240
CREATED:20240721T235819Z
LAST-MODIFIED:20240721T235819Z
UID:39486-1732298400-1732309200@oldediblerenotahoe.com
SUMMARY:Power of the Purse
DESCRIPTION:This premier holiday shopping event raises money to support the Nevada Women’s Fund’s scholarship and grant programs. Since 1983 Nevada Women’s Fund has awarded nearly $10 million in academic scholarships for women in Northern Nevada and awarded community grants supporting women and children. Our academic scholarships support local women to obtain higher education\, resulting in them achieving financial security.
URL:https://oldediblerenotahoe.com/event/power-of-the-purse-3/
LOCATION:Reno Ballroom\, 401 N. Center St.\, Reno\, Nevada\, 89501
END:VEVENT
BEGIN:VEVENT
DTSTART;TZID=America/Los_Angeles:20241122T180000
DTEND;TZID=America/Los_Angeles:20241122T200000
DTSTAMP:20260425T063240
CREATED:20241021T193301Z
LAST-MODIFIED:20241021T193301Z
UID:40327-1732298400-1732305600@oldediblerenotahoe.com
SUMMARY:Date Night - Pre-Holiday Night Out Class
DESCRIPTION:
URL:https://oldediblerenotahoe.com/event/date-night-pre-holiday-night-out-class/
LOCATION:Nothing To It!\, 225 Crummer Lane\, Reno\, NV\, 89502\, United States
END:VEVENT
BEGIN:VEVENT
DTSTART;TZID=America/Los_Angeles:20241121T200000
DTEND;TZID=America/Los_Angeles:20241121T220000
DTSTAMP:20260425T063240
CREATED:20240713T225633Z
LAST-MODIFIED:20240713T225633Z
UID:39432-1732219200-1732226400@oldediblerenotahoe.com
SUMMARY:BEAT - Adrian Belew\, Tony Levin\, Steve Vai & Danny Carey
DESCRIPTION:Former King Crimson members Adrian Belew and Tony Levin band together with guitar virtuoso Steve Vai and explosive Tool drummer Danny Carey for the first time to create BEAT\, a creative reinterpretation of the three iconic 80s King Crimson albums – Discipline\, Beat\, and Three Of A Perfect Pair. Only the greatest players in the world would take on the challenge of performing this incredibly influential music. Prepare yourself for the experience of a lifetime with BEAT performing the 80s music of King Crimson!
URL:https://oldediblerenotahoe.com/event/beat-adrian-belew-tony-levin-steve-vai-danny-carey/
LOCATION:Grand Sierra Resort\, 2500 E 2nd St\, Reno\, NV
END:VEVENT
BEGIN:VEVENT
DTSTART;TZID=America/Los_Angeles:20241121T180000
DTEND;TZID=America/Los_Angeles:20241121T210000
DTSTAMP:20260425T063240
CREATED:20240713T221738Z
LAST-MODIFIED:20241112T015609Z
UID:39354-1732212000-1732222800@oldediblerenotahoe.com
SUMMARY:Anthony's Chophouse Winemaker Dinner - Shafer
DESCRIPTION:
URL:https://oldediblerenotahoe.com/event/anthonys-chophouse-winemaker-dinner-shafer-2/
LOCATION:Anthony’s Chophouse\, 1100 Nugget Ave\, Sparks\, NV\, 89431
END:VEVENT
BEGIN:VEVENT
DTSTART;TZID=America/Los_Angeles:20241121T180000
DTEND;TZID=America/Los_Angeles:20241121T200000
DTSTAMP:20260425T063240
CREATED:20241021T193229Z
LAST-MODIFIED:20241021T193229Z
UID:40325-1732212000-1732219200@oldediblerenotahoe.com
SUMMARY:Taste of Tuscany Class
DESCRIPTION:
URL:https://oldediblerenotahoe.com/event/taste-of-tuscany-class-2/
LOCATION:Nothing To It!\, 225 Crummer Lane\, Reno\, NV\, 89502\, United States
END:VEVENT
BEGIN:VEVENT
DTSTART;TZID=America/Los_Angeles:20241121T080000
DTEND;TZID=America/Los_Angeles:20241121T130000
DTSTAMP:20260425T063240
CREATED:20240912T161301Z
LAST-MODIFIED:20240912T161301Z
UID:39928-1732176000-1732194000@oldediblerenotahoe.com
SUMMARY:Tahoe City Fall Harvest Market
DESCRIPTION:Find seasonal produce\, crafts\, and gifts. Support local businesses and enjoy your holiday shopping!
URL:https://oldediblerenotahoe.com/event/tahoe-city-fall-harvest-market-2024-11-21/
LOCATION:Tahoe City
END:VEVENT
BEGIN:VEVENT
DTSTART;TZID=America/Los_Angeles:20241119T180000
DTEND;TZID=America/Los_Angeles:20241119T210000
DTSTAMP:20260425T063240
CREATED:20240811T015606Z
LAST-MODIFIED:20240811T015606Z
UID:39689-1732039200-1732050000@oldediblerenotahoe.com
SUMMARY:Chocolates II Class
DESCRIPTION:Go further into the artistry of chocolate-from-scratch using cocoa powder and ingredients like dried or fresh fruit and liqueurs. Begin by shopping for fixings in real time with the instructor\, across the street from the kitchen. Expect to eat your fill in class and even take some home. $30 materials fee
URL:https://oldediblerenotahoe.com/event/chocolates-ii-class/
LOCATION:Pignic Pub & Patio\, 235 Flint St\, Reno\, NV
END:VEVENT
BEGIN:VEVENT
DTSTART;TZID=America/Los_Angeles:20241119T180000
DTEND;TZID=America/Los_Angeles:20241119T200000
DTSTAMP:20260425T063240
CREATED:20241021T193157Z
LAST-MODIFIED:20241021T193157Z
UID:40323-1732039200-1732046400@oldediblerenotahoe.com
SUMMARY:Taste of Thailand Class
DESCRIPTION:
URL:https://oldediblerenotahoe.com/event/taste-of-thailand-class/
LOCATION:Nothing To It!\, 225 Crummer Lane\, Reno\, NV\, 89502\, United States
END:VEVENT
BEGIN:VEVENT
DTSTART;TZID=America/Los_Angeles:20241119T180000
DTEND;TZID=America/Los_Angeles:20241119T200000
DTSTAMP:20260425T063240
CREATED:20240811T015658Z
LAST-MODIFIED:20240811T015658Z
UID:39691-1732039200-1732046400@oldediblerenotahoe.com
SUMMARY:Thanksgiving Cookie Decorating Class
DESCRIPTION:Top off your turkey day with decorative cookies from a simple sugar cookie dough and icing recipe. Discover various icing consistencies and when to use which kind of icing. Learn tips and tricks for fancy decorating with airbrushing\, stencils\, fondant and molds. Make personalized cookies in decorative packaging to take home for yourself\, share with family or present as a gift. $25 materials fee
URL:https://oldediblerenotahoe.com/event/thanksgiving-cookie-decorating-class/
LOCATION:TMCC Meadowood Center\, 5270 Neil Rd.\, South Bldg.\, Reno\, NV\, 89502\, United States
END:VEVENT
BEGIN:VEVENT
DTSTART;TZID=America/Los_Angeles:20241117T140000
DTEND;TZID=America/Los_Angeles:20241117T153000
DTSTAMP:20260425T063240
CREATED:20231216T185353Z
LAST-MODIFIED:20231216T185353Z
UID:35747-1731852000-1731857400@oldediblerenotahoe.com
SUMMARY:Little Chefs (Pre-K): Turn Up the Beet... Hummus Cooking Class
DESCRIPTION:Little Chefs is a parent-child cooking series hosted by Urban Roots and registered dietitian Anastasia Gavrilets. This Fall’s series is for pre-K chefs (ages 2-4 years) and compliments the garden-based learning they receive from Little Gardeners! These workshops are hands-on\, include a tasty recipe and snack\, and a farm fresh ingredient to take home. \nLet’s pump the jams a little louder and make a tasty and colorful snack! Your little chef will don an apron and put their skills to the test while we talk about tips and tricks for even the pickiest of eaters. \nRecipe: Beet Hummus! 
URL:https://oldediblerenotahoe.com/event/littlechefsnov2024/
LOCATION:Urban Teaching Farm\, 1700 E 2nd Street\, Reno\, NV\, 89502
CATEGORIES:Cooking Classes,Family friendly,Nonprofit
END:VEVENT
BEGIN:VEVENT
DTSTART;TZID=America/Los_Angeles:20241117T103000
DTEND;TZID=America/Los_Angeles:20241117T143000
DTSTAMP:20260425T063240
CREATED:20230922T193120Z
LAST-MODIFIED:20230922T193120Z
UID:36289-1731839400-1731853800@oldediblerenotahoe.com
SUMMARY:Sunday Music Brunch
DESCRIPTION:Sunday Music Brunch at the Nevada Museum of Art Café is the perfect precursor to an afternoon exploring galleries. Chef Colin Smith has updated the menu to include an eclectic array of options from traditional breakfast fare to lunch options–both of which pair nicely with juice\, coffee\, champagne or a mimosa. Enjoy live music by Colin Ross from 11:30 to 2:30. Doors open at 10:30 am and service continues until 2:30 pm. Reservations are required for parties of five or more\, but encouraged for all as space is limited. Museum members receive 10% savings as a benefit of membership. \nCall the Café at 775-284-2921 for more information.
URL:https://oldediblerenotahoe.com/event/sundaymusicbrunch-2024-11-17/
LOCATION:Nevada Museum of Art\, 160 West Liberty\, Reno\, Nevada\, 89501
CATEGORIES:Food & Drink,Music
ATTACH;FMTTYPE=image/jpeg:https://oldediblerenotahoe.com/wp-content/uploads/2023/09/Roundabout_CafeAtNMA-Spring2022-3186-768x432-1.jpg
END:VEVENT
BEGIN:VEVENT
DTSTART;TZID=America/Los_Angeles:20241117T100000
DTEND;TZID=America/Los_Angeles:20241117T120000
DTSTAMP:20260425T063240
CREATED:20241021T200548Z
LAST-MODIFIED:20241021T200548Z
UID:40400-1731837600-1731844800@oldediblerenotahoe.com
SUMMARY:Bloomin' Rose Class
DESCRIPTION:
URL:https://oldediblerenotahoe.com/event/bloomin-rose-class/
LOCATION:Sierra Chef\, 2292 Main Street\, Genoa\, NV
END:VEVENT
BEGIN:VEVENT
DTSTART;TZID=America/Los_Angeles:20241117T090000
DTEND;TZID=America/Los_Angeles:20241117T130000
DTSTAMP:20260425T063240
CREATED:20231103T014135Z
LAST-MODIFIED:20231103T014135Z
UID:35276-1731834000-1731848400@oldediblerenotahoe.com
SUMMARY:Riverside Farmers Market
DESCRIPTION:The Riverside Farmers Market stands as Reno’s authentic local market\, exclusively featuring vendors who cultivate\, rear\, or craft their products within the immediate vicinity of the city. Highlighting small-scale\, community-focused\, and sustainable farmers and ranchers\, the market is a testament to the belief that the foundation of healthy food lies in the health of the land. It also serves as a welcoming platform for Reno’s emerging agricultural talents\, providing a space for residents to connect with those who are dedicated to nourishing the Truckee Meadows community through locally grown produce.
URL:https://oldediblerenotahoe.com/event/riverside-farmers-market-3-2024-11-17/
LOCATION:Idlewild Park\, 1000 Cowan Dr.\, Reno\, NV\, 89509
CATEGORIES:Farmers Market,Shopping
END:VEVENT
BEGIN:VEVENT
DTSTART;TZID=America/Los_Angeles:20241116T200000
DTEND;TZID=America/Los_Angeles:20241116T220000
DTSTAMP:20260425T063240
CREATED:20240713T221231Z
LAST-MODIFIED:20240713T221231Z
UID:39346-1731787200-1731794400@oldediblerenotahoe.com
SUMMARY:Little River Band
DESCRIPTION:The Eagles founding member\, the late Glenn Frey\, knew what he was saying when he dubbed Little River Band “the best singing band in the world.” Through the ‘70’s and ‘80’s\, LRB enjoyed huge chart success with multiplatinum albums and chart topping hits like: “Cool Change\,” “The Night Owls\,” Happy Anniversary\,” “Reminiscing\,”  “Lonesome Loser\,”  “Take It Easy On Me\,” “Help Is on Its Way\,” “We Two\,”  “Man On Your Mind\,” “The Other Guy\,” and It’s A Long Way There.”  Worldwide album\, CD sales and digital downloads now top 35 million and LRB has set a record for having had Top 10 hits for 6 consecutive years – In fact\, they were the very first band to achieve that remarkable status! According to BMI\, “Reminiscing” has garnered rare status with over 5 million airplays on American radio\, and “Lady” is close behind with over 4 million airplays. \nBringing their vocal and musical energy along with great arrangements to their timeless classic hits\, each show creates new memories for the audience.  The band enjoys watching their fans fall in love with the songs all over again as they are swept up by the show’s powerful performance and the volume of hits from LRB’s history.
URL:https://oldediblerenotahoe.com/event/little-river-band/
LOCATION:Nugget Casino Resort\, 1100 Nugget Avenue\,\, Sparks\, NV
END:VEVENT
BEGIN:VEVENT
DTSTART;TZID=America/Los_Angeles:20241116T200000
DTEND;TZID=America/Los_Angeles:20241116T220000
DTSTAMP:20260425T063240
CREATED:20240713T214052Z
LAST-MODIFIED:20240713T214052Z
UID:39385-1731787200-1731794400@oldediblerenotahoe.com
SUMMARY:Magique - The Show of Shows
DESCRIPTION:Magique is Reno’s resident five-star attraction that is sure to amaze and entertain audiences of all ages. Featuring a cast of 10\, Magique is a whirlwind of excitement with over 20 grand illusions\, 100+ elaborate handmade costumes\, an epic soundtrack\, and special effects galore. Magique is the perfect event for your night out in Reno. Magique is truly the show of shows with hundreds of rave reviews on TripAdvisor\, Yelp\, Google and Facebook. Don’t miss this unique Reno experience!
URL:https://oldediblerenotahoe.com/event/magique-the-show-of-shows-2024-11-16/
LOCATION:The Theatre\, 505 Keystone Ave\, Reno\, NV\, 89503
END:VEVENT
BEGIN:VEVENT
DTSTART;TZID=America/Los_Angeles:20241116T180000
DTEND;TZID=America/Los_Angeles:20241116T220000
DTSTAMP:20260425T063240
CREATED:20241021T190638Z
LAST-MODIFIED:20241021T190638Z
UID:40271-1731780000-1731794400@oldediblerenotahoe.com
SUMMARY:Trees & Lights Gala
DESCRIPTION:The 2024 Trees & Lights Gala will raise support for Safe Embrace’s work to end the cycle of domestic and sexual violence through the organization’s prevention and intervention services\, including advocacy and education programs within the community and immediate guidance and resources for those attempting to escape from violent or harmful circumstances or individuals. In a typical year\, Safe Embrace serves more than 30 individuals with evacuation transportation\, hosts clients with nearly 200 emergency motel nights\, and accommodates victims with an estimated 6\,600 nights in the nonprofit’s safe house.
URL:https://oldediblerenotahoe.com/event/trees-lights-gala/
LOCATION:Grand Sierra Resort\, 2500 E 2nd St\, Reno\, NV
END:VEVENT
BEGIN:VEVENT
DTSTART;TZID=America/Los_Angeles:20241116T180000
DTEND;TZID=America/Los_Angeles:20241116T200000
DTSTAMP:20260425T063240
CREATED:20241021T194404Z
LAST-MODIFIED:20241021T194404Z
UID:40353-1731780000-1731787200@oldediblerenotahoe.com
SUMMARY:Cucina Lupo Whiskey Dinner
DESCRIPTION:
URL:https://oldediblerenotahoe.com/event/cucina-lupo-whiskey-dinner/
LOCATION:Cucina Lupo\, 308 N Curry St.\, Carson City\, NV\, 89703
END:VEVENT
BEGIN:VEVENT
DTSTART;TZID=America/Los_Angeles:20241116T130000
DTEND;TZID=America/Los_Angeles:20241116T150000
DTSTAMP:20260425T063240
CREATED:20240913T032115Z
LAST-MODIFIED:20240913T032115Z
UID:40045-1731762000-1731769200@oldediblerenotahoe.com
SUMMARY:Kahlua Spirit Making Class
DESCRIPTION:
URL:https://oldediblerenotahoe.com/event/kahlua-spirit-making-class/
LOCATION:High Mark Distillery\, 4690 Longley Lane\, Unit 28\, Reno\, Nevada\, 89502
END:VEVENT
BEGIN:VEVENT
DTSTART;TZID=America/Los_Angeles:20241116T100000
DTEND;TZID=America/Los_Angeles:20241116T123000
DTSTAMP:20260425T063240
CREATED:20241003T014102Z
LAST-MODIFIED:20241003T014102Z
UID:40213-1731751200-1731760200@oldediblerenotahoe.com
SUMMARY:Little Chefs
DESCRIPTION:Our Little Chefs still have two more classes to whip up some magic. Urban Roots and registered dietitian Anastasia Gavrilets are serving up a fall series for our budding kitchen stars. We’re cooking with the littlest chefs (ages 2-4) and the more experienced young cooks (ages 5-13). Enjoy tasty snacks and take home a farm-fresh ingredient to keep the cooking excitement going at home. Join for one class or join both!
URL:https://oldediblerenotahoe.com/event/little-chefs-2024-11-16/
LOCATION:Urban Teaching Farm\, 1700 E 2nd Street\, Reno\, NV\, 89502
END:VEVENT
BEGIN:VEVENT
DTSTART;TZID=America/Los_Angeles:20241116T100000
DTEND;TZID=America/Los_Angeles:20241116T120000
DTSTAMP:20260425T063240
CREATED:20241021T200518Z
LAST-MODIFIED:20241021T200518Z
UID:40398-1731751200-1731758400@oldediblerenotahoe.com
SUMMARY:Fall Ravioli 101 Class
DESCRIPTION:
URL:https://oldediblerenotahoe.com/event/fall-ravioli-101-class/
LOCATION:Sierra Chef\, 2292 Main Street\, Genoa\, NV
END:VEVENT
BEGIN:VEVENT
DTSTART;TZID=America/Los_Angeles:20241116T093000
DTEND;TZID=America/Los_Angeles:20241116T113000
DTSTAMP:20260425T063240
CREATED:20241021T193122Z
LAST-MODIFIED:20241021T193122Z
UID:40321-1731749400-1731756600@oldediblerenotahoe.com
SUMMARY:Artisan Bread Workshop
DESCRIPTION:
URL:https://oldediblerenotahoe.com/event/artisan-bread-workshop-4/
LOCATION:Nothing To It!\, 225 Crummer Lane\, Reno\, NV\, 89502\, United States
END:VEVENT
END:VCALENDAR