BEGIN:VCALENDAR
VERSION:2.0
PRODID:-//Edible Reno-Tahoe - ECPv6.15.20//NONSGML v1.0//EN
CALSCALE:GREGORIAN
METHOD:PUBLISH
X-WR-CALNAME:Edible Reno-Tahoe
X-ORIGINAL-URL:https://oldediblerenotahoe.com
X-WR-CALDESC:Events for Edible Reno-Tahoe
REFRESH-INTERVAL;VALUE=DURATION:PT1H
X-Robots-Tag:noindex
X-PUBLISHED-TTL:PT1H
BEGIN:VTIMEZONE
TZID:America/Los_Angeles
BEGIN:DAYLIGHT
TZOFFSETFROM:-0800
TZOFFSETTO:-0700
TZNAME:PDT
DTSTART:20240310T100000
END:DAYLIGHT
BEGIN:STANDARD
TZOFFSETFROM:-0700
TZOFFSETTO:-0800
TZNAME:PST
DTSTART:20241103T090000
END:STANDARD
BEGIN:DAYLIGHT
TZOFFSETFROM:-0800
TZOFFSETTO:-0700
TZNAME:PDT
DTSTART:20250309T100000
END:DAYLIGHT
BEGIN:STANDARD
TZOFFSETFROM:-0700
TZOFFSETTO:-0800
TZNAME:PST
DTSTART:20251102T090000
END:STANDARD
BEGIN:DAYLIGHT
TZOFFSETFROM:-0800
TZOFFSETTO:-0700
TZNAME:PDT
DTSTART:20260308T100000
END:DAYLIGHT
BEGIN:STANDARD
TZOFFSETFROM:-0700
TZOFFSETTO:-0800
TZNAME:PST
DTSTART:20261101T090000
END:STANDARD
END:VTIMEZONE
BEGIN:VEVENT
DTSTART;TZID=America/Los_Angeles:20250323T193000
DTEND;TZID=America/Los_Angeles:20250323T213000
DTSTAMP:20260425T081904
CREATED:20250114T042824Z
LAST-MODIFIED:20250114T042824Z
UID:41243-1742758200-1742765400@oldediblerenotahoe.com
SUMMARY:Reno Phil Presents Beethoven's Emperor Concerto
DESCRIPTION:Shakespeare once said\, “The earth has music for those who listen.” Embark on a journey through the Italian countryside with Respighi’s Pines of Rome\, crafting a breathtaking symphonic depiction of light\, land\, and the iconic scenery of Rome. Then hear the world premiere performance of The Sacrifice of Prometheus by Great Basin National Park’s Artist-in-Residence\, composer Marko Bajzer\, which tells the story of the planet’s oldest trees (and Nevada’s state tree!): the Great Basin Bristlecone Pines. Written for solo bass oboe\, orchestra\, and electronics\, listeners will experience the actual sounds emitted by the trees themselves\, as Bajzer used electrodes to monitor their electrical conductivity and converted the data into audible representations through new technology. A masterpiece made in misery\, Beethoven likely wrote his Emperor Piano Concerto while hiding in a basement. Under attack by Napoleon\, Vienna was in a state of emergency and this siege affected the composer\, “both body and soul.” Performed by Davidson Fellow\, Katherine Emma Liu\, the piano’s regal melodies converse with the orchestra in a display of Liu’s virtuosic brilliance.
URL:https://oldediblerenotahoe.com/event/reno-phil-presents-beethovens-emperor-concerto-2025-03-23-2/
LOCATION:Pioneer Center\, 100 S. Virginia St.\, Reno\, NV\, 89501
END:VEVENT
BEGIN:VEVENT
DTSTART;TZID=America/Los_Angeles:20250323T160000
DTEND;TZID=America/Los_Angeles:20250323T180000
DTSTAMP:20260425T081904
CREATED:20250114T042824Z
LAST-MODIFIED:20250114T042824Z
UID:41242-1742745600-1742752800@oldediblerenotahoe.com
SUMMARY:Reno Phil Presents Beethoven's Emperor Concerto
DESCRIPTION:Shakespeare once said\, “The earth has music for those who listen.” Embark on a journey through the Italian countryside with Respighi’s Pines of Rome\, crafting a breathtaking symphonic depiction of light\, land\, and the iconic scenery of Rome. Then hear the world premiere performance of The Sacrifice of Prometheus by Great Basin National Park’s Artist-in-Residence\, composer Marko Bajzer\, which tells the story of the planet’s oldest trees (and Nevada’s state tree!): the Great Basin Bristlecone Pines. Written for solo bass oboe\, orchestra\, and electronics\, listeners will experience the actual sounds emitted by the trees themselves\, as Bajzer used electrodes to monitor their electrical conductivity and converted the data into audible representations through new technology. A masterpiece made in misery\, Beethoven likely wrote his Emperor Piano Concerto while hiding in a basement. Under attack by Napoleon\, Vienna was in a state of emergency and this siege affected the composer\, “both body and soul.” Performed by Davidson Fellow\, Katherine Emma Liu\, the piano’s regal melodies converse with the orchestra in a display of Liu’s virtuosic brilliance.
URL:https://oldediblerenotahoe.com/event/reno-phil-presents-beethovens-emperor-concerto-2025-03-23/
LOCATION:Pioneer Center\, 100 S. Virginia St.\, Reno\, NV\, 89501
END:VEVENT
BEGIN:VEVENT
DTSTART;TZID=America/Los_Angeles:20250323T120000
DTEND;TZID=America/Los_Angeles:20250323T160000
DTSTAMP:20260425T081904
CREATED:20250312T182713Z
LAST-MODIFIED:20250312T182713Z
UID:42270-1742731200-1742745600@oldediblerenotahoe.com
SUMMARY:Artisan Cheese Tasting & Marketplace | California Artisan Cheese Festival
DESCRIPTION:In this banquet for the senses\, the Artisan Cheese Tasting & Marketplace brings together more than 100 artisan cheese and food producers\, winemakers\, brewers\, distillers\, cider makers\, and chefs who will offer their hand-crafted cheeses\, delectable products that complement cheese\, boutique wines\, artisan-brewed beers and handcrafted ciders. Taste\, sip\, and explore! Gold Ridge Organic Farms will be providing tastes of our Extra Virgin Olive Oil\, Apple Cider Vinegars\, and the runaway favorite\, our Apple Cider Syrup. Be sure to bring your wallet as there will be an opportunity to purchase your favorite cheeses and artisan products.
URL:https://oldediblerenotahoe.com/event/artisan-cheese-tasting-marketplace-california-artisan-cheese-festival/
LOCATION:Sonoma County Fairgounds\, 1350 Bennett Valley Road\, Santa Rosa\, CA\, 95404
END:VEVENT
BEGIN:VEVENT
DTSTART;TZID=America/Los_Angeles:20250323T090000
DTEND;TZID=America/Los_Angeles:20250323T130000
DTSTAMP:20260425T081904
CREATED:20250312T173605Z
LAST-MODIFIED:20250312T173605Z
UID:42036-1742720400-1742734800@oldediblerenotahoe.com
SUMMARY:Riverside Farmers Market
DESCRIPTION:The Riverside Farmers Market is Reno’s truly local market\, with all vendors growing\, raising\, or making their goods within the tightest possible radius around Reno. The event showcases small\, local\, and sustainable farmers and ranchers who believe that healthy food begins with a healthy land. They are also are home to Reno’s newest farmers and ranchers\, making it the perfect place to meet the fine folks growing food locally for the Truckee Meadows community.
URL:https://oldediblerenotahoe.com/event/riverside-farmers-market-4-2025-03-23/
LOCATION:Idlewild Park\, 1000 Cowan Dr.\, Reno\, NV\, 89509
END:VEVENT
BEGIN:VEVENT
DTSTART;TZID=America/Los_Angeles:20250322T200000
DTEND;TZID=America/Los_Angeles:20250322T220000
DTSTAMP:20260425T081904
CREATED:20250209T233725Z
LAST-MODIFIED:20250209T233725Z
UID:41552-1742673600-1742680800@oldediblerenotahoe.com
SUMMARY:TESLA: Keepin' It Real Tour
DESCRIPTION:
URL:https://oldediblerenotahoe.com/event/tesla-keepin-it-real-tour/
LOCATION:Grand Sierra Resort\, 2500 E 2nd St\, Reno\, NV
END:VEVENT
BEGIN:VEVENT
DTSTART;TZID=America/Los_Angeles:20250322T193000
DTEND;TZID=America/Los_Angeles:20250322T213000
DTSTAMP:20260425T081904
CREATED:20250221T235646Z
LAST-MODIFIED:20250221T235646Z
UID:41687-1742671800-1742679000@oldediblerenotahoe.com
SUMMARY:A Perfect Ganesh
DESCRIPTION:A Perfect Ganesh by Terrence McNally follows two American women\, Margaret and Katharine\, on a transformative journey to India. The play explores themes of grief\, healing\, and self-discovery as the women confront their personal tragedies and seek spiritual solace in the vibrant culture of India. The play’s narrative\, guided by Ganesha\, the Hindu god of wisdom and remover of obstacles\, appears to the two women in various forms throughout their journey\, offering guidance and support.
URL:https://oldediblerenotahoe.com/event/a-perfect-ganesh-2025-03-22/
LOCATION:Brüka Theatre\, 99 North Virginia Street\, Reno\, NV\, 89501
END:VEVENT
BEGIN:VEVENT
DTSTART;TZID=America/Los_Angeles:20250322T160000
DTEND;TZID=America/Los_Angeles:20250322T180000
DTSTAMP:20260425T081904
CREATED:20250114T042824Z
LAST-MODIFIED:20250114T042824Z
UID:41241-1742659200-1742666400@oldediblerenotahoe.com
SUMMARY:Reno Phil Presents Beethoven's Emperor Concerto
DESCRIPTION:Shakespeare once said\, “The earth has music for those who listen.” Embark on a journey through the Italian countryside with Respighi’s Pines of Rome\, crafting a breathtaking symphonic depiction of light\, land\, and the iconic scenery of Rome. Then hear the world premiere performance of The Sacrifice of Prometheus by Great Basin National Park’s Artist-in-Residence\, composer Marko Bajzer\, which tells the story of the planet’s oldest trees (and Nevada’s state tree!): the Great Basin Bristlecone Pines. Written for solo bass oboe\, orchestra\, and electronics\, listeners will experience the actual sounds emitted by the trees themselves\, as Bajzer used electrodes to monitor their electrical conductivity and converted the data into audible representations through new technology. A masterpiece made in misery\, Beethoven likely wrote his Emperor Piano Concerto while hiding in a basement. Under attack by Napoleon\, Vienna was in a state of emergency and this siege affected the composer\, “both body and soul.” Performed by Davidson Fellow\, Katherine Emma Liu\, the piano’s regal melodies converse with the orchestra in a display of Liu’s virtuosic brilliance.
URL:https://oldediblerenotahoe.com/event/reno-phil-presents-beethovens-emperor-concerto/
LOCATION:Pioneer Center\, 100 S. Virginia St.\, Reno\, NV\, 89501
END:VEVENT
BEGIN:VEVENT
DTSTART;TZID=America/Los_Angeles:20250322T150000
DTEND;TZID=America/Los_Angeles:20250322T180000
DTSTAMP:20260425T081904
CREATED:20250312T182523Z
LAST-MODIFIED:20250312T182523Z
UID:42268-1742655600-1742666400@oldediblerenotahoe.com
SUMMARY:Cheese Crawl at the Barlow | California Artisan Cheese Festival
DESCRIPTION:Start your Saturday night off right with a fun discovery and adventure at The Barlow in Sebastopol.
URL:https://oldediblerenotahoe.com/event/cheese-crawl-at-the-barlow-california-artisan-cheese-festival/
LOCATION:Goldridge Organic Farms\, 3387 Canfield Rd.\, Sebastopol\, CA\, 95472
END:VEVENT
BEGIN:VEVENT
DTSTART;TZID=America/Los_Angeles:20250322T110000
DTEND;TZID=America/Los_Angeles:20250322T120000
DTSTAMP:20260425T081904
CREATED:20250114T041524Z
LAST-MODIFIED:20250114T041524Z
UID:41213-1742641200-1742644800@oldediblerenotahoe.com
SUMMARY:All About Potatoes Spudtacular Class
DESCRIPTION:Learn how to grow and store potatoes with this helpful class.
URL:https://oldediblerenotahoe.com/event/all-about-potatoes-spudtacular-class/
LOCATION:Rail City Garden Center\, 1720 Brierley Way\, Sparks\, NV\, 89434
END:VEVENT
BEGIN:VEVENT
DTSTART;TZID=America/Los_Angeles:20250322T093000
DTEND;TZID=America/Los_Angeles:20250322T113000
DTSTAMP:20260425T081904
CREATED:20250209T225857Z
LAST-MODIFIED:20250209T225857Z
UID:41489-1742635800-1742643000@oldediblerenotahoe.com
SUMMARY:Artisan Bread Workshop
DESCRIPTION:
URL:https://oldediblerenotahoe.com/event/artisan-bread-workshop-6/
LOCATION:Nothing To It!\, 225 Crummer Lane\, Reno\, NV\, 89502\, United States
END:VEVENT
BEGIN:VEVENT
DTSTART;TZID=America/Los_Angeles:20250321T193000
DTEND;TZID=America/Los_Angeles:20250321T213000
DTSTAMP:20260425T081904
CREATED:20250221T235646Z
LAST-MODIFIED:20250221T235646Z
UID:41685-1742585400-1742592600@oldediblerenotahoe.com
SUMMARY:A Perfect Ganesh
DESCRIPTION:A Perfect Ganesh by Terrence McNally follows two American women\, Margaret and Katharine\, on a transformative journey to India. The play explores themes of grief\, healing\, and self-discovery as the women confront their personal tragedies and seek spiritual solace in the vibrant culture of India. The play’s narrative\, guided by Ganesha\, the Hindu god of wisdom and remover of obstacles\, appears to the two women in various forms throughout their journey\, offering guidance and support.
URL:https://oldediblerenotahoe.com/event/a-perfect-ganesh-2025-03-21/
LOCATION:Brüka Theatre\, 99 North Virginia Street\, Reno\, NV\, 89501
END:VEVENT
BEGIN:VEVENT
DTSTART;TZID=America/Los_Angeles:20250321T180000
DTEND;TZID=America/Los_Angeles:20250321T220000
DTSTAMP:20260425T081904
CREATED:20250314T003311Z
LAST-MODIFIED:20250314T003311Z
UID:42440-1742580000-1742594400@oldediblerenotahoe.com
SUMMARY:Step Back 2 the 80s with The Breakfast Klub
DESCRIPTION:The Breakfast Klub\, Reno’s legendary 80’s cover band\, will be rockin’ the stage with rad tunes from the decade\, so bring your best dance moves! Break out those acid wash jeans\, legwarmers\, and scunchies — Dressing in 80’s style is highly encouraged to capture the night’s memories in our retro 360 photo booth sponsored by Epics Photo Booth.
URL:https://oldediblerenotahoe.com/event/step-back-2-the-80s-with-the-breakfast-klub-2/
LOCATION:Silver Legacy Resort & Casino\, 407 North Virginia Street\, Reno\, NV\, 89501
END:VEVENT
BEGIN:VEVENT
DTSTART;TZID=America/Los_Angeles:20250321T180000
DTEND;TZID=America/Los_Angeles:20250321T200000
DTSTAMP:20260425T081904
CREATED:20250209T225823Z
LAST-MODIFIED:20250209T225823Z
UID:41487-1742580000-1742587200@oldediblerenotahoe.com
SUMMARY:Sushi Class
DESCRIPTION:
URL:https://oldediblerenotahoe.com/event/sushi-class-3/
LOCATION:Nothing To It!\, 225 Crummer Lane\, Reno\, NV\, 89502\, United States
END:VEVENT
BEGIN:VEVENT
DTSTART;TZID=America/Los_Angeles:20250321T090000
DTEND;TZID=America/Los_Angeles:20250321T150000
DTSTAMP:20260425T081904
CREATED:20250312T182416Z
LAST-MODIFIED:20250312T182416Z
UID:42266-1742547600-1742569200@oldediblerenotahoe.com
SUMMARY:Country Roads ~ Farm & Producer Tour | California Artisan Cheese Festival
DESCRIPTION:Enjoy the day traveling along two lane country roads\, from Sebastopol to the coastal towns of Valley Ford and Freestone. Your first tour begins at Wm. Cofield Cheesemakers where you will be able to see how proper British style cheese is made from start to finish — from the milk vats operating on site to the aging room to the packaging and shipping area. Following the tour\, you will enjoy a full tasting of all Wm. Cofield has to offer.
URL:https://oldediblerenotahoe.com/event/country-roads-farm-producer-tour-california-artisan-cheese-festival/
LOCATION:Goldridge Organic Farms\, 3387 Canfield Rd.\, Sebastopol\, CA\, 95472
END:VEVENT
BEGIN:VEVENT
DTSTART;TZID=America/Los_Angeles:20250320T200000
DTEND;TZID=America/Los_Angeles:20250320T230000
DTSTAMP:20260425T081904
CREATED:20250209T233526Z
LAST-MODIFIED:20250209T233526Z
UID:41548-1742500800-1742511600@oldediblerenotahoe.com
SUMMARY:Justin Moore: Live in Concert
DESCRIPTION:
URL:https://oldediblerenotahoe.com/event/justin-moore-live-in-concert/
LOCATION:Grand Sierra Resort\, 2500 E 2nd St\, Reno\, NV
END:VEVENT
BEGIN:VEVENT
DTSTART;TZID=America/Los_Angeles:20250320T193000
DTEND;TZID=America/Los_Angeles:20250320T213000
DTSTAMP:20260425T081904
CREATED:20250221T235646Z
LAST-MODIFIED:20250221T235646Z
UID:41684-1742499000-1742506200@oldediblerenotahoe.com
SUMMARY:A Perfect Ganesh
DESCRIPTION:A Perfect Ganesh by Terrence McNally follows two American women\, Margaret and Katharine\, on a transformative journey to India. The play explores themes of grief\, healing\, and self-discovery as the women confront their personal tragedies and seek spiritual solace in the vibrant culture of India. The play’s narrative\, guided by Ganesha\, the Hindu god of wisdom and remover of obstacles\, appears to the two women in various forms throughout their journey\, offering guidance and support.
URL:https://oldediblerenotahoe.com/event/a-perfect-ganesh-2025-03-20/
LOCATION:Brüka Theatre\, 99 North Virginia Street\, Reno\, NV\, 89501
END:VEVENT
BEGIN:VEVENT
DTSTART;TZID=America/Los_Angeles:20250320T090000
DTEND;TZID=America/Los_Angeles:20250320T170000
DTSTAMP:20260425T081904
CREATED:20250209T204715Z
LAST-MODIFIED:20250209T204715Z
UID:41368-1742461200-1742490000@oldediblerenotahoe.com
SUMMARY:Nevada Bee & Garden Conference
DESCRIPTION:
URL:https://oldediblerenotahoe.com/event/nevada-bee-garden-conference/
LOCATION:Carson Valley Inn\, 1627 Hwy 395 N\,\, Minden\, NV
END:VEVENT
BEGIN:VEVENT
DTSTART;TZID=America/Los_Angeles:20250319T193000
DTEND;TZID=America/Los_Angeles:20250319T213000
DTSTAMP:20260425T081904
CREATED:20250221T235646Z
LAST-MODIFIED:20250221T235646Z
UID:41683-1742412600-1742419800@oldediblerenotahoe.com
SUMMARY:A Perfect Ganesh
DESCRIPTION:A Perfect Ganesh by Terrence McNally follows two American women\, Margaret and Katharine\, on a transformative journey to India. The play explores themes of grief\, healing\, and self-discovery as the women confront their personal tragedies and seek spiritual solace in the vibrant culture of India. The play’s narrative\, guided by Ganesha\, the Hindu god of wisdom and remover of obstacles\, appears to the two women in various forms throughout their journey\, offering guidance and support.
URL:https://oldediblerenotahoe.com/event/a-perfect-ganesh-2025-03-19/
LOCATION:Brüka Theatre\, 99 North Virginia Street\, Reno\, NV\, 89501
END:VEVENT
BEGIN:VEVENT
DTSTART;TZID=America/Los_Angeles:20250319T180000
DTEND;TZID=America/Los_Angeles:20250319T200000
DTSTAMP:20260425T081904
CREATED:20250209T225745Z
LAST-MODIFIED:20250209T225745Z
UID:41485-1742407200-1742414400@oldediblerenotahoe.com
SUMMARY:Taste of Greece Class
DESCRIPTION:
URL:https://oldediblerenotahoe.com/event/taste-of-greece-class-2/
LOCATION:Nothing To It!\, 225 Crummer Lane\, Reno\, NV\, 89502\, United States
END:VEVENT
BEGIN:VEVENT
DTSTART;TZID=America/Los_Angeles:20250318T180000
DTEND;TZID=America/Los_Angeles:20250318T200000
DTSTAMP:20260425T081904
CREATED:20250209T212042Z
LAST-MODIFIED:20250209T212042Z
UID:41401-1742320800-1742328000@oldediblerenotahoe.com
SUMMARY:Gardening in Nevada: The Cut Flower Garden
DESCRIPTION:
URL:https://oldediblerenotahoe.com/event/gardening-in-nevada-the-cut-flower-garden/
LOCATION:Bartley Ranch
END:VEVENT
BEGIN:VEVENT
DTSTART;TZID=America/Los_Angeles:20250317T170000
DTEND;TZID=America/Los_Angeles:20250317T190000
DTSTAMP:20260425T081904
CREATED:20250314T174626Z
LAST-MODIFIED:20250314T174626Z
UID:42471-1742230800-1742238000@oldediblerenotahoe.com
SUMMARY:Luck of the Irish Dinner
DESCRIPTION:
URL:https://oldediblerenotahoe.com/event/luck-of-the-irish-dinner/
LOCATION:Genoa Town Hall\, 2287 Main Street\, Minden\, NV
END:VEVENT
BEGIN:VEVENT
DTSTART;TZID=America/Los_Angeles:20250316T190000
DTEND;TZID=America/Los_Angeles:20250316T210000
DTSTAMP:20260425T081904
CREATED:20250221T233210Z
LAST-MODIFIED:20250221T233210Z
UID:41670-1742151600-1742158800@oldediblerenotahoe.com
SUMMARY:Sunday Jazz at RLT with Eunace
DESCRIPTION:Eunace is a high power quartet from Reno\, Nevada led by keyboardist (and FTLOJ Board Member!) Nick Bentz. The group features Nick on Hammond organ\, synthesizer\, and electric keyboard\, Chris Clark on Saxophone\, Dylan Coleman on Bass\, and Tyler Cravines on Drumset. While taking an immense amount of influence from contemporary jazz\, the group blurs the lines between rock\, post-hardcore\, and the avante-garde. With influences ranging from Brad Mehldau to the deathcore stylings of bands like ‘Knocked Loose’\, Eunace is sure to bring huge energy and emotive output through original compositions and boundless creativity.
URL:https://oldediblerenotahoe.com/event/sunday-jazz-at-rlt-with-eunace/
LOCATION:Reno Little Theatre\, 147 E Pueblo St\, Reno
END:VEVENT
BEGIN:VEVENT
DTSTART;TZID=America/Los_Angeles:20250316T140000
DTEND;TZID=America/Los_Angeles:20250316T170000
DTSTAMP:20260425T081904
CREATED:20250221T235646Z
LAST-MODIFIED:20250221T235646Z
UID:41682-1742133600-1742144400@oldediblerenotahoe.com
SUMMARY:A Perfect Ganesh
DESCRIPTION:A Perfect Ganesh by Terrence McNally follows two American women\, Margaret and Katharine\, on a transformative journey to India. The play explores themes of grief\, healing\, and self-discovery as the women confront their personal tragedies and seek spiritual solace in the vibrant culture of India. The play’s narrative\, guided by Ganesha\, the Hindu god of wisdom and remover of obstacles\, appears to the two women in various forms throughout their journey\, offering guidance and support.
URL:https://oldediblerenotahoe.com/event/a-perfect-ganesh-2025-03-16/
LOCATION:Brüka Theatre\, 99 North Virginia Street\, Reno\, NV\, 89501
END:VEVENT
BEGIN:VEVENT
DTSTART;TZID=America/Los_Angeles:20250316T140000
DTEND;TZID=America/Los_Angeles:20250316T170000
DTSTAMP:20260425T081904
CREATED:20241216T185928Z
LAST-MODIFIED:20241216T185928Z
UID:40737-1742133600-1742144400@oldediblerenotahoe.com
SUMMARY:A.V.A. Ballet Theatre and the Reno Phil's Peter Pan
DESCRIPTION:The spring season for the A.V.A. Ballet Theatre opens with the classic ballet Peter Pan on March 15 th and 16 th at the Pioneer Center for the Performing Arts. Re-staged and re-choreographed by Alexander Van Alstyne\, Peter Pan is the captivating story of Peter Pan and Wendy and their adventures in Neverland. Fairies\, pirates and the Lost Boys all have starring roles in this fantasy adventure. This classic story is filled with mesmerizing dance\, intrigue\, and is fun for the entire family.
URL:https://oldediblerenotahoe.com/event/a-v-a-ballet-theatre-and-the-reno-phils-peter-pan-2025-03-16/
LOCATION:Pioneer Center\, 100 S. Virginia St.\, Reno\, NV\, 89501
ATTACH;FMTTYPE=image/jpeg:https://oldediblerenotahoe.com/wp-content/uploads/2024/12/Peter-Pan-and-Wendy-Great-Andy.jpg
END:VEVENT
BEGIN:VEVENT
DTSTART;TZID=America/Los_Angeles:20250316T140000
DTEND;TZID=America/Los_Angeles:20250316T160000
DTSTAMP:20260425T081904
CREATED:20250221T233053Z
LAST-MODIFIED:20250221T233053Z
UID:41668-1742133600-1742140800@oldediblerenotahoe.com
SUMMARY:The Enchanged Bookshop
DESCRIPTION:During the day\, A Likely Story may look like any other used bookstore. But at night\, it’s a place where magic happens. That’s when the characters inside the books come alive. Six of those characters — Dorothy Gale\, Robin Hood\, Pollyanna\, Sherlock Holmes\, Heidi\, and Tom Sawyer — long to help Margie\, the scatterbrained owner\, save her struggling store. But they’re not allowed to leave the building or be seen by human eyes. So when a pair of smugglers comes looking for a stolen necklace hidden inside one of the books\, the characters are torn. Should they warn Margie and risk disappearing forever? Or can they find a way to defeat the crooks without being seen? Featuring additional appearances by such beloved literary characters as the Queen of Hearts\, Long John Silver\, and Doctor Dolittle\, this charming comedy celebrates the joy of reading in a fresh\, fun-filled way.
URL:https://oldediblerenotahoe.com/event/the-enchanged-bookshop-6/
LOCATION:Reno Little Theatre\, 147 E Pueblo St\, Reno
END:VEVENT
BEGIN:VEVENT
DTSTART;TZID=America/Los_Angeles:20250316T090000
DTEND;TZID=America/Los_Angeles:20250316T130000
DTSTAMP:20260425T081904
CREATED:20250312T173605Z
LAST-MODIFIED:20250312T173605Z
UID:42035-1742115600-1742130000@oldediblerenotahoe.com
SUMMARY:Riverside Farmers Market
DESCRIPTION:The Riverside Farmers Market is Reno’s truly local market\, with all vendors growing\, raising\, or making their goods within the tightest possible radius around Reno. The event showcases small\, local\, and sustainable farmers and ranchers who believe that healthy food begins with a healthy land. They are also are home to Reno’s newest farmers and ranchers\, making it the perfect place to meet the fine folks growing food locally for the Truckee Meadows community.
URL:https://oldediblerenotahoe.com/event/riverside-farmers-market-4/
LOCATION:Idlewild Park\, 1000 Cowan Dr.\, Reno\, NV\, 89509
END:VEVENT
BEGIN:VEVENT
DTSTART;TZID=America/Los_Angeles:20250316T080000
DTEND;TZID=America/Los_Angeles:20250316T170000
DTSTAMP:20260425T081904
CREATED:20250209T213820Z
LAST-MODIFIED:20250209T213820Z
UID:41414-1742112000-1742144400@oldediblerenotahoe.com
SUMMARY:13th Annual Leprechaun Race
DESCRIPTION:It’s going to be so much fun! Lots of green to be seen\, a bagpiper playing tunes\, green smoothies and tots for sale\, free beer and non-alcoholic Hoppy Hour plus lots of other great vendors will be there. Our speedy Leprechaun is training and will be ready so don’t wait – register today because this race will sell out. \nThe day will be fun as you walk or run on a unique course surrounding The Discovery Museum in the Midtown District! After you’re done\, you even get into The Discovery free with your race bib on race day.
URL:https://oldediblerenotahoe.com/event/13th-annual-leprechaun-race/
LOCATION:NV
END:VEVENT
BEGIN:VEVENT
DTSTART;TZID=America/Los_Angeles:20250315T200000
DTEND;TZID=America/Los_Angeles:20250315T220000
DTSTAMP:20260425T081904
CREATED:20241216T185928Z
LAST-MODIFIED:20241216T185928Z
UID:40735-1742068800-1742076000@oldediblerenotahoe.com
SUMMARY:A.V.A. Ballet Theatre and the Reno Phil's Peter Pan
DESCRIPTION:The spring season for the A.V.A. Ballet Theatre opens with the classic ballet Peter Pan on March 15 th and 16 th at the Pioneer Center for the Performing Arts. Re-staged and re-choreographed by Alexander Van Alstyne\, Peter Pan is the captivating story of Peter Pan and Wendy and their adventures in Neverland. Fairies\, pirates and the Lost Boys all have starring roles in this fantasy adventure. This classic story is filled with mesmerizing dance\, intrigue\, and is fun for the entire family.
URL:https://oldediblerenotahoe.com/event/a-v-a-ballet-theatre-and-the-reno-phils-peter-pan/
LOCATION:Pioneer Center\, 100 S. Virginia St.\, Reno\, NV\, 89501
ATTACH;FMTTYPE=image/jpeg:https://oldediblerenotahoe.com/wp-content/uploads/2024/12/Peter-Pan-and-Wendy-Great-Andy.jpg
END:VEVENT
BEGIN:VEVENT
DTSTART;TZID=America/Los_Angeles:20250315T193000
DTEND;TZID=America/Los_Angeles:20250315T213000
DTSTAMP:20260425T081904
CREATED:20250221T235646Z
LAST-MODIFIED:20250221T235646Z
UID:41681-1742067000-1742074200@oldediblerenotahoe.com
SUMMARY:A Perfect Ganesh
DESCRIPTION:A Perfect Ganesh by Terrence McNally follows two American women\, Margaret and Katharine\, on a transformative journey to India. The play explores themes of grief\, healing\, and self-discovery as the women confront their personal tragedies and seek spiritual solace in the vibrant culture of India. The play’s narrative\, guided by Ganesha\, the Hindu god of wisdom and remover of obstacles\, appears to the two women in various forms throughout their journey\, offering guidance and support.
URL:https://oldediblerenotahoe.com/event/a-perfect-ganesh-2025-03-15/
LOCATION:Brüka Theatre\, 99 North Virginia Street\, Reno\, NV\, 89501
END:VEVENT
BEGIN:VEVENT
DTSTART;TZID=America/Los_Angeles:20250315T190000
DTEND;TZID=America/Los_Angeles:20250315T210000
DTSTAMP:20260425T081904
CREATED:20250221T233020Z
LAST-MODIFIED:20250221T233020Z
UID:41666-1742065200-1742072400@oldediblerenotahoe.com
SUMMARY:The Enchanged Bookshop
DESCRIPTION:During the day\, A Likely Story may look like any other used bookstore. But at night\, it’s a place where magic happens. That’s when the characters inside the books come alive. Six of those characters — Dorothy Gale\, Robin Hood\, Pollyanna\, Sherlock Holmes\, Heidi\, and Tom Sawyer — long to help Margie\, the scatterbrained owner\, save her struggling store. But they’re not allowed to leave the building or be seen by human eyes. So when a pair of smugglers comes looking for a stolen necklace hidden inside one of the books\, the characters are torn. Should they warn Margie and risk disappearing forever? Or can they find a way to defeat the crooks without being seen? Featuring additional appearances by such beloved literary characters as the Queen of Hearts\, Long John Silver\, and Doctor Dolittle\, this charming comedy celebrates the joy of reading in a fresh\, fun-filled way.
URL:https://oldediblerenotahoe.com/event/the-enchanged-bookshop-5/
LOCATION:Reno Little Theatre\, 147 E Pueblo St\, Reno
END:VEVENT
END:VCALENDAR