BEGIN:VCALENDAR
VERSION:2.0
PRODID:-//Edible Reno-Tahoe - ECPv6.15.20//NONSGML v1.0//EN
CALSCALE:GREGORIAN
METHOD:PUBLISH
X-WR-CALNAME:Edible Reno-Tahoe
X-ORIGINAL-URL:https://oldediblerenotahoe.com
X-WR-CALDESC:Events for Edible Reno-Tahoe
REFRESH-INTERVAL;VALUE=DURATION:PT1H
X-Robots-Tag:noindex
X-PUBLISHED-TTL:PT1H
BEGIN:VTIMEZONE
TZID:America/Los_Angeles
BEGIN:DAYLIGHT
TZOFFSETFROM:-0800
TZOFFSETTO:-0700
TZNAME:PDT
DTSTART:20240310T100000
END:DAYLIGHT
BEGIN:STANDARD
TZOFFSETFROM:-0700
TZOFFSETTO:-0800
TZNAME:PST
DTSTART:20241103T090000
END:STANDARD
BEGIN:DAYLIGHT
TZOFFSETFROM:-0800
TZOFFSETTO:-0700
TZNAME:PDT
DTSTART:20250309T100000
END:DAYLIGHT
BEGIN:STANDARD
TZOFFSETFROM:-0700
TZOFFSETTO:-0800
TZNAME:PST
DTSTART:20251102T090000
END:STANDARD
BEGIN:DAYLIGHT
TZOFFSETFROM:-0800
TZOFFSETTO:-0700
TZNAME:PDT
DTSTART:20260308T100000
END:DAYLIGHT
BEGIN:STANDARD
TZOFFSETFROM:-0700
TZOFFSETTO:-0800
TZNAME:PST
DTSTART:20261101T090000
END:STANDARD
END:VTIMEZONE
BEGIN:VEVENT
DTSTART;TZID=America/Los_Angeles:20250702T180000
DTEND;TZID=America/Los_Angeles:20250702T210000
DTSTAMP:20260425T091756
CREATED:20250312T192331Z
LAST-MODIFIED:20250312T192331Z
UID:42347-1751479200-1751490000@oldediblerenotahoe.com
SUMMARY:A Beautiful Noise: The Neil Diamond Musical
DESCRIPTION:
URL:https://oldediblerenotahoe.com/event/a-beautiful-noise-the-neil-diamond-musical-2025-07-02/
LOCATION:Pioneer Center\, 100 S. Virginia St.\, Reno\, NV\, 89501
END:VEVENT
BEGIN:VEVENT
DTSTART;TZID=America/Los_Angeles:20250702T170000
DTEND;TZID=America/Los_Angeles:20250702T200000
DTSTAMP:20260425T091756
CREATED:20250323T183407Z
LAST-MODIFIED:20250323T183407Z
UID:42498-1751475600-1751486400@oldediblerenotahoe.com
SUMMARY:Feed the Camel
DESCRIPTION:
URL:https://oldediblerenotahoe.com/event/feed-the-camel-4-2025-07-02/
LOCATION:McKinley Arts and Culture Center\, 925 Riverside Dr.\, Reno\, NV
END:VEVENT
BEGIN:VEVENT
DTSTART;TZID=America/Los_Angeles:20250701T190000
DTEND;TZID=America/Los_Angeles:20250701T210000
DTSTAMP:20260425T091756
CREATED:20250312T172858Z
LAST-MODIFIED:20250312T172858Z
UID:42213-1751396400-1751403600@oldediblerenotahoe.com
SUMMARY:That's Magic!
DESCRIPTION:This grand illusion show is like no other! Presented by the award winning magic duo Kaileigh and Chase Hasty\, “That’s Magic!” will leave you dazzled and amazed. This upbeat\, interactive show is fun for all ages and guaranteed to have something for everyone. Not only will you be immersed by mind blowing magic\, but you will also see a cast of featured dancers and some elements of surprise. Step inside the White Rabbit Theater for an experience like nowhere else!
URL:https://oldediblerenotahoe.com/event/thats-magic-2025-07-01/
LOCATION:Grand Sierra Resort\, 2500 E 2nd St\, Reno\, NV
END:VEVENT
BEGIN:VEVENT
DTSTART;TZID=America/Los_Angeles:20250701T180000
DTEND;TZID=America/Los_Angeles:20250701T210000
DTSTAMP:20260425T091756
CREATED:20250312T192331Z
LAST-MODIFIED:20250312T192331Z
UID:42346-1751392800-1751403600@oldediblerenotahoe.com
SUMMARY:A Beautiful Noise: The Neil Diamond Musical
DESCRIPTION:
URL:https://oldediblerenotahoe.com/event/a-beautiful-noise-the-neil-diamond-musical/
LOCATION:Pioneer Center\, 100 S. Virginia St.\, Reno\, NV\, 89501
END:VEVENT
BEGIN:VEVENT
DTSTART;VALUE=DATE:20250701
DTEND;VALUE=DATE:20250801
DTSTAMP:20260425T091756
CREATED:20250312T192216Z
LAST-MODIFIED:20250312T192216Z
UID:42344-1751328000-1754006399@oldediblerenotahoe.com
SUMMARY:Reno Is Artown
DESCRIPTION:
URL:https://oldediblerenotahoe.com/event/reno-is-artown-2/
LOCATION:NV
END:VEVENT
BEGIN:VEVENT
DTSTART;TZID=America/Los_Angeles:20250630T190000
DTEND;TZID=America/Los_Angeles:20250630T210000
DTSTAMP:20260425T091756
CREATED:20250312T172858Z
LAST-MODIFIED:20250312T172858Z
UID:42212-1751310000-1751317200@oldediblerenotahoe.com
SUMMARY:That's Magic!
DESCRIPTION:This grand illusion show is like no other! Presented by the award winning magic duo Kaileigh and Chase Hasty\, “That’s Magic!” will leave you dazzled and amazed. This upbeat\, interactive show is fun for all ages and guaranteed to have something for everyone. Not only will you be immersed by mind blowing magic\, but you will also see a cast of featured dancers and some elements of surprise. Step inside the White Rabbit Theater for an experience like nowhere else!
URL:https://oldediblerenotahoe.com/event/thats-magic-2025-06-30/
LOCATION:Grand Sierra Resort\, 2500 E 2nd St\, Reno\, NV
END:VEVENT
BEGIN:VEVENT
DTSTART;TZID=America/Los_Angeles:20250629T190000
DTEND;TZID=America/Los_Angeles:20250629T210000
DTSTAMP:20260425T091756
CREATED:20250312T172858Z
LAST-MODIFIED:20250312T172858Z
UID:42211-1751223600-1751230800@oldediblerenotahoe.com
SUMMARY:That's Magic!
DESCRIPTION:This grand illusion show is like no other! Presented by the award winning magic duo Kaileigh and Chase Hasty\, “That’s Magic!” will leave you dazzled and amazed. This upbeat\, interactive show is fun for all ages and guaranteed to have something for everyone. Not only will you be immersed by mind blowing magic\, but you will also see a cast of featured dancers and some elements of surprise. Step inside the White Rabbit Theater for an experience like nowhere else!
URL:https://oldediblerenotahoe.com/event/thats-magic-2025-06-29/
LOCATION:Grand Sierra Resort\, 2500 E 2nd St\, Reno\, NV
END:VEVENT
BEGIN:VEVENT
DTSTART;TZID=America/Los_Angeles:20250629T140000
DTEND;TZID=America/Los_Angeles:20250629T170000
DTSTAMP:20260425T091756
CREATED:20250222T000756Z
LAST-MODIFIED:20250222T000756Z
UID:41710-1751205600-1751216400@oldediblerenotahoe.com
SUMMARY:Ride the Cyclone
DESCRIPTION:This hilarious and outlandish musical glimpses the lives of six teenagers from a Canadian chamber choir that are cut short in a freak accident aboard a roller coaster. When they awake in limbo\, a mechanical fortune teller invites each to tell a story to win a prize like no other — the chance to return to life. RIDE THE CYCLONE is an outrageous musical about life & limbo directed by Rose Sambrano with Mary Bennett.
URL:https://oldediblerenotahoe.com/event/ride-the-cyclone-2025-06-29/
LOCATION:Brüka Theatre\, 99 North Virginia Street\, Reno\, NV\, 89501
END:VEVENT
BEGIN:VEVENT
DTSTART;TZID=America/Los_Angeles:20250629T090000
DTEND;TZID=America/Los_Angeles:20250629T130000
DTSTAMP:20260425T091756
CREATED:20250312T173605Z
LAST-MODIFIED:20250312T173605Z
UID:42051-1751187600-1751202000@oldediblerenotahoe.com
SUMMARY:Riverside Farmers Market
DESCRIPTION:The Riverside Farmers Market is Reno’s truly local market\, with all vendors growing\, raising\, or making their goods within the tightest possible radius around Reno. The event showcases small\, local\, and sustainable farmers and ranchers who believe that healthy food begins with a healthy land. They are also are home to Reno’s newest farmers and ranchers\, making it the perfect place to meet the fine folks growing food locally for the Truckee Meadows community.
URL:https://oldediblerenotahoe.com/event/riverside-farmers-market-4-2025-06-29/
LOCATION:Idlewild Park\, 1000 Cowan Dr.\, Reno\, NV\, 89509
END:VEVENT
BEGIN:VEVENT
DTSTART;TZID=America/Los_Angeles:20250628T210000
DTEND;TZID=America/Los_Angeles:20250628T230000
DTSTAMP:20260425T091756
CREATED:20250312T174315Z
LAST-MODIFIED:20250312T174315Z
UID:42165-1751144400-1751151600@oldediblerenotahoe.com
SUMMARY:Nocturnal!
DESCRIPTION:Lose your inhibitions as you step into the magical world of “Nocturnal”. This is an 18 and over show\, featuring world class illusions\, beautiful dancers\, adult humor\, and plenty of surprises. Grab a cocktail at the White Rabbit Lounge\, sit back\, and prepare to be amazed. You might even end up being a part of the magic!
URL:https://oldediblerenotahoe.com/event/nocturnal-2025-06-28/
LOCATION:Grand Sierra Resort\, 2500 E 2nd St\, Reno\, NV
END:VEVENT
BEGIN:VEVENT
DTSTART;TZID=America/Los_Angeles:20250628T193000
DTEND;TZID=America/Los_Angeles:20250628T220000
DTSTAMP:20260425T091756
CREATED:20250222T000756Z
LAST-MODIFIED:20250222T000756Z
UID:41709-1751139000-1751148000@oldediblerenotahoe.com
SUMMARY:Ride the Cyclone
DESCRIPTION:This hilarious and outlandish musical glimpses the lives of six teenagers from a Canadian chamber choir that are cut short in a freak accident aboard a roller coaster. When they awake in limbo\, a mechanical fortune teller invites each to tell a story to win a prize like no other — the chance to return to life. RIDE THE CYCLONE is an outrageous musical about life & limbo directed by Rose Sambrano with Mary Bennett.
URL:https://oldediblerenotahoe.com/event/ride-the-cyclone-2025-06-28/
LOCATION:Brüka Theatre\, 99 North Virginia Street\, Reno\, NV\, 89501
END:VEVENT
BEGIN:VEVENT
DTSTART;TZID=America/Los_Angeles:20250628T190000
DTEND;TZID=America/Los_Angeles:20250628T210000
DTSTAMP:20260425T091756
CREATED:20250312T172858Z
LAST-MODIFIED:20250312T172858Z
UID:42210-1751137200-1751144400@oldediblerenotahoe.com
SUMMARY:That's Magic!
DESCRIPTION:This grand illusion show is like no other! Presented by the award winning magic duo Kaileigh and Chase Hasty\, “That’s Magic!” will leave you dazzled and amazed. This upbeat\, interactive show is fun for all ages and guaranteed to have something for everyone. Not only will you be immersed by mind blowing magic\, but you will also see a cast of featured dancers and some elements of surprise. Step inside the White Rabbit Theater for an experience like nowhere else!
URL:https://oldediblerenotahoe.com/event/thats-magic-2025-06-28/
LOCATION:Grand Sierra Resort\, 2500 E 2nd St\, Reno\, NV
END:VEVENT
BEGIN:VEVENT
DTSTART;TZID=America/Los_Angeles:20250628T101500
DTEND;TZID=America/Los_Angeles:20250628T114500
DTSTAMP:20260425T091756
CREATED:20250312T183607Z
LAST-MODIFIED:20250312T183607Z
UID:42282-1751105700-1751111100@oldediblerenotahoe.com
SUMMARY:Orchard Hike with Farmer Brooke Hazen
DESCRIPTION:Walk the rolling hills of Gold Ridge Organic Farms with founder and farmer Brooke Hazen and explore the wonders within the 88 acres of organic olive\, apple\, and citrus trees. You’ll learn about the history of the farm\, its organic growing practice\, and can ask your most burning questions about apple and olive cultivation\, straight from the founder himself.
URL:https://oldediblerenotahoe.com/event/orchard-hike-with-farmer-brooke-hazen-2025-06-28/
LOCATION:Goldridge Organic Farms\, 3387 Canfield Rd.\, Sebastopol\, CA\, 95472
END:VEVENT
BEGIN:VEVENT
DTSTART;TZID=America/Los_Angeles:20250628T080000
DTEND;TZID=America/Los_Angeles:20250628T170000
DTSTAMP:20260425T091756
CREATED:20250312T191838Z
LAST-MODIFIED:20250312T191838Z
UID:42342-1751097600-1751130000@oldediblerenotahoe.com
SUMMARY:Karson Kruzer's Car Show
DESCRIPTION:
URL:https://oldediblerenotahoe.com/event/karson-kruzers-car-show/
LOCATION:Mills Park\, 111 E William St\, Carson City\, NV\, 89701
END:VEVENT
BEGIN:VEVENT
DTSTART;TZID=America/Los_Angeles:20250627T210000
DTEND;TZID=America/Los_Angeles:20250627T230000
DTSTAMP:20260425T091756
CREATED:20250312T174315Z
LAST-MODIFIED:20250312T174315Z
UID:42164-1751058000-1751065200@oldediblerenotahoe.com
SUMMARY:Nocturnal!
DESCRIPTION:Lose your inhibitions as you step into the magical world of “Nocturnal”. This is an 18 and over show\, featuring world class illusions\, beautiful dancers\, adult humor\, and plenty of surprises. Grab a cocktail at the White Rabbit Lounge\, sit back\, and prepare to be amazed. You might even end up being a part of the magic!
URL:https://oldediblerenotahoe.com/event/nocturnal-2025-06-27/
LOCATION:Grand Sierra Resort\, 2500 E 2nd St\, Reno\, NV
END:VEVENT
BEGIN:VEVENT
DTSTART;TZID=America/Los_Angeles:20250627T193000
DTEND;TZID=America/Los_Angeles:20250627T220000
DTSTAMP:20260425T091756
CREATED:20250222T000756Z
LAST-MODIFIED:20250222T000756Z
UID:41708-1751052600-1751061600@oldediblerenotahoe.com
SUMMARY:Ride the Cyclone
DESCRIPTION:This hilarious and outlandish musical glimpses the lives of six teenagers from a Canadian chamber choir that are cut short in a freak accident aboard a roller coaster. When they awake in limbo\, a mechanical fortune teller invites each to tell a story to win a prize like no other — the chance to return to life. RIDE THE CYCLONE is an outrageous musical about life & limbo directed by Rose Sambrano with Mary Bennett.
URL:https://oldediblerenotahoe.com/event/ride-the-cyclone/
LOCATION:Brüka Theatre\, 99 North Virginia Street\, Reno\, NV\, 89501
END:VEVENT
BEGIN:VEVENT
DTSTART;TZID=America/Los_Angeles:20250627T190000
DTEND;TZID=America/Los_Angeles:20250627T210000
DTSTAMP:20260425T091756
CREATED:20250312T172858Z
LAST-MODIFIED:20250312T172858Z
UID:42209-1751050800-1751058000@oldediblerenotahoe.com
SUMMARY:That's Magic!
DESCRIPTION:This grand illusion show is like no other! Presented by the award winning magic duo Kaileigh and Chase Hasty\, “That’s Magic!” will leave you dazzled and amazed. This upbeat\, interactive show is fun for all ages and guaranteed to have something for everyone. Not only will you be immersed by mind blowing magic\, but you will also see a cast of featured dancers and some elements of surprise. Step inside the White Rabbit Theater for an experience like nowhere else!
URL:https://oldediblerenotahoe.com/event/thats-magic-2025-06-27/
LOCATION:Grand Sierra Resort\, 2500 E 2nd St\, Reno\, NV
END:VEVENT
BEGIN:VEVENT
DTSTART;TZID=America/Los_Angeles:20250627T160000
DTEND;TZID=America/Los_Angeles:20250627T210000
DTSTAMP:20260425T091756
CREATED:20250323T183505Z
LAST-MODIFIED:20250323T183505Z
UID:42512-1751040000-1751058000@oldediblerenotahoe.com
SUMMARY:Food Truck Friday
DESCRIPTION:
URL:https://oldediblerenotahoe.com/event/food-truck-friday-3-2025-06-27/
LOCATION:Idlewild Park\, 1000 Cowan Dr.\, Reno\, NV\, 89509
END:VEVENT
BEGIN:VEVENT
DTSTART;TZID=America/Los_Angeles:20250627T160000
DTEND;TZID=America/Los_Angeles:20250627T190000
DTSTAMP:20260425T091756
CREATED:20250209T220358Z
LAST-MODIFIED:20250209T220358Z
UID:41433-1751040000-1751050800@oldediblerenotahoe.com
SUMMARY:Achieve Tahoe's Summer Wine Tasting
DESCRIPTION:Welcome summer and support Achieve Tahoe at our second annual Summer Wine Tasting! Taste wine from two dozen of Northern California’s top wineries while enjoying appetizers from PlumpJack Inn.
URL:https://oldediblerenotahoe.com/event/achieve-tahoes-summer-wine-tasting-3/
LOCATION:PlumpJack Cafe & Bar\, 1920 Olympic Valley Rd\, Olympic Valley\, CA\, 96146
END:VEVENT
BEGIN:VEVENT
DTSTART;TZID=America/Los_Angeles:20250627T120000
DTEND;TZID=America/Los_Angeles:20250627T130000
DTSTAMP:20260425T091756
CREATED:20250312T191737Z
LAST-MODIFIED:20250312T191737Z
UID:42340-1751025600-1751029200@oldediblerenotahoe.com
SUMMARY:The Birth of Icky IPA
DESCRIPTION:Tom Young\, Founder and Brewmaster\, recounts the origin story of the Icky IPA\, its iconic logo and the history of the Great Basin Brewing Company.
URL:https://oldediblerenotahoe.com/event/the-birth-of-icky-ipa/
LOCATION:Nevada Museum of Art\, 160 West Liberty\, Reno\, Nevada\, 89501
END:VEVENT
BEGIN:VEVENT
DTSTART;TZID=America/Los_Angeles:20250626T190000
DTEND;TZID=America/Los_Angeles:20250626T210000
DTSTAMP:20260425T091756
CREATED:20250312T172858Z
LAST-MODIFIED:20250312T172858Z
UID:42208-1750964400-1750971600@oldediblerenotahoe.com
SUMMARY:That's Magic!
DESCRIPTION:This grand illusion show is like no other! Presented by the award winning magic duo Kaileigh and Chase Hasty\, “That’s Magic!” will leave you dazzled and amazed. This upbeat\, interactive show is fun for all ages and guaranteed to have something for everyone. Not only will you be immersed by mind blowing magic\, but you will also see a cast of featured dancers and some elements of surprise. Step inside the White Rabbit Theater for an experience like nowhere else!
URL:https://oldediblerenotahoe.com/event/thats-magic-2025-06-26/
LOCATION:Grand Sierra Resort\, 2500 E 2nd St\, Reno\, NV
END:VEVENT
BEGIN:VEVENT
DTSTART;TZID=America/Los_Angeles:20250626T180000
DTEND;TZID=America/Los_Angeles:20250626T210000
DTSTAMP:20260425T091756
CREATED:20250312T191638Z
LAST-MODIFIED:20250312T191638Z
UID:42338-1750960800-1750971600@oldediblerenotahoe.com
SUMMARY:Anthony's Chophouse Winemaker Dinner: Joseph Phelps Vineyards
DESCRIPTION:
URL:https://oldediblerenotahoe.com/event/anthonys-chophouse-winemaker-dinner-joseph-phelps-vineyards/
LOCATION:Anthony’s Chophouse\, 1100 Nugget Ave\, Sparks\, NV\, 89431
END:VEVENT
BEGIN:VEVENT
DTSTART;TZID=America/Los_Angeles:20250625T190000
DTEND;TZID=America/Los_Angeles:20250625T210000
DTSTAMP:20260425T091756
CREATED:20250312T172858Z
LAST-MODIFIED:20250312T172858Z
UID:42207-1750878000-1750885200@oldediblerenotahoe.com
SUMMARY:That's Magic!
DESCRIPTION:This grand illusion show is like no other! Presented by the award winning magic duo Kaileigh and Chase Hasty\, “That’s Magic!” will leave you dazzled and amazed. This upbeat\, interactive show is fun for all ages and guaranteed to have something for everyone. Not only will you be immersed by mind blowing magic\, but you will also see a cast of featured dancers and some elements of surprise. Step inside the White Rabbit Theater for an experience like nowhere else!
URL:https://oldediblerenotahoe.com/event/thats-magic-2025-06-25/
LOCATION:Grand Sierra Resort\, 2500 E 2nd St\, Reno\, NV
END:VEVENT
BEGIN:VEVENT
DTSTART;TZID=America/Los_Angeles:20250625T170000
DTEND;TZID=America/Los_Angeles:20250625T200000
DTSTAMP:20260425T091756
CREATED:20250323T183407Z
LAST-MODIFIED:20250323T183407Z
UID:42497-1750870800-1750881600@oldediblerenotahoe.com
SUMMARY:Feed the Camel
DESCRIPTION:
URL:https://oldediblerenotahoe.com/event/feed-the-camel-4-2025-06-25/
LOCATION:McKinley Arts and Culture Center\, 925 Riverside Dr.\, Reno\, NV
END:VEVENT
BEGIN:VEVENT
DTSTART;TZID=America/Los_Angeles:20250624T190000
DTEND;TZID=America/Los_Angeles:20250624T210000
DTSTAMP:20260425T091756
CREATED:20250312T172858Z
LAST-MODIFIED:20250312T172858Z
UID:42206-1750791600-1750798800@oldediblerenotahoe.com
SUMMARY:That's Magic!
DESCRIPTION:This grand illusion show is like no other! Presented by the award winning magic duo Kaileigh and Chase Hasty\, “That’s Magic!” will leave you dazzled and amazed. This upbeat\, interactive show is fun for all ages and guaranteed to have something for everyone. Not only will you be immersed by mind blowing magic\, but you will also see a cast of featured dancers and some elements of surprise. Step inside the White Rabbit Theater for an experience like nowhere else!
URL:https://oldediblerenotahoe.com/event/thats-magic-2025-06-24/
LOCATION:Grand Sierra Resort\, 2500 E 2nd St\, Reno\, NV
END:VEVENT
BEGIN:VEVENT
DTSTART;TZID=America/Los_Angeles:20250623T190000
DTEND;TZID=America/Los_Angeles:20250623T210000
DTSTAMP:20260425T091756
CREATED:20250312T172858Z
LAST-MODIFIED:20250312T172858Z
UID:42205-1750705200-1750712400@oldediblerenotahoe.com
SUMMARY:That's Magic!
DESCRIPTION:This grand illusion show is like no other! Presented by the award winning magic duo Kaileigh and Chase Hasty\, “That’s Magic!” will leave you dazzled and amazed. This upbeat\, interactive show is fun for all ages and guaranteed to have something for everyone. Not only will you be immersed by mind blowing magic\, but you will also see a cast of featured dancers and some elements of surprise. Step inside the White Rabbit Theater for an experience like nowhere else!
URL:https://oldediblerenotahoe.com/event/thats-magic-2025-06-23/
LOCATION:Grand Sierra Resort\, 2500 E 2nd St\, Reno\, NV
END:VEVENT
BEGIN:VEVENT
DTSTART;TZID=America/Los_Angeles:20250622T190000
DTEND;TZID=America/Los_Angeles:20250622T210000
DTSTAMP:20260425T091756
CREATED:20250312T172858Z
LAST-MODIFIED:20250312T172858Z
UID:42204-1750618800-1750626000@oldediblerenotahoe.com
SUMMARY:That's Magic!
DESCRIPTION:This grand illusion show is like no other! Presented by the award winning magic duo Kaileigh and Chase Hasty\, “That’s Magic!” will leave you dazzled and amazed. This upbeat\, interactive show is fun for all ages and guaranteed to have something for everyone. Not only will you be immersed by mind blowing magic\, but you will also see a cast of featured dancers and some elements of surprise. Step inside the White Rabbit Theater for an experience like nowhere else!
URL:https://oldediblerenotahoe.com/event/thats-magic-2025-06-22/
LOCATION:Grand Sierra Resort\, 2500 E 2nd St\, Reno\, NV
END:VEVENT
BEGIN:VEVENT
DTSTART;TZID=America/Los_Angeles:20250622T120000
DTEND;TZID=America/Los_Angeles:20250622T160000
DTSTAMP:20260425T091756
CREATED:20250323T185502Z
LAST-MODIFIED:20250323T185502Z
UID:42544-1750593600-1750608000@oldediblerenotahoe.com
SUMMARY:World Refugee Day
DESCRIPTION:
URL:https://oldediblerenotahoe.com/event/world-refugee-day/
LOCATION:Miguel Ribera Park
END:VEVENT
BEGIN:VEVENT
DTSTART;TZID=America/Los_Angeles:20250622T090000
DTEND;TZID=America/Los_Angeles:20250622T130000
DTSTAMP:20260425T091756
CREATED:20250312T173605Z
LAST-MODIFIED:20250312T173605Z
UID:42050-1750582800-1750597200@oldediblerenotahoe.com
SUMMARY:Riverside Farmers Market
DESCRIPTION:The Riverside Farmers Market is Reno’s truly local market\, with all vendors growing\, raising\, or making their goods within the tightest possible radius around Reno. The event showcases small\, local\, and sustainable farmers and ranchers who believe that healthy food begins with a healthy land. They are also are home to Reno’s newest farmers and ranchers\, making it the perfect place to meet the fine folks growing food locally for the Truckee Meadows community.
URL:https://oldediblerenotahoe.com/event/riverside-farmers-market-4-2025-06-22/
LOCATION:Idlewild Park\, 1000 Cowan Dr.\, Reno\, NV\, 89509
END:VEVENT
BEGIN:VEVENT
DTSTART;TZID=America/Los_Angeles:20250621T210000
DTEND;TZID=America/Los_Angeles:20250621T230000
DTSTAMP:20260425T091756
CREATED:20250312T174315Z
LAST-MODIFIED:20250312T174315Z
UID:42163-1750539600-1750546800@oldediblerenotahoe.com
SUMMARY:Nocturnal!
DESCRIPTION:Lose your inhibitions as you step into the magical world of “Nocturnal”. This is an 18 and over show\, featuring world class illusions\, beautiful dancers\, adult humor\, and plenty of surprises. Grab a cocktail at the White Rabbit Lounge\, sit back\, and prepare to be amazed. You might even end up being a part of the magic!
URL:https://oldediblerenotahoe.com/event/nocturnal-2025-06-21/
LOCATION:Grand Sierra Resort\, 2500 E 2nd St\, Reno\, NV
END:VEVENT
END:VCALENDAR