BEGIN:VCALENDAR
VERSION:2.0
PRODID:-//Edible Reno-Tahoe - ECPv6.15.20//NONSGML v1.0//EN
CALSCALE:GREGORIAN
METHOD:PUBLISH
X-WR-CALNAME:Edible Reno-Tahoe
X-ORIGINAL-URL:https://oldediblerenotahoe.com
X-WR-CALDESC:Events for Edible Reno-Tahoe
REFRESH-INTERVAL;VALUE=DURATION:PT1H
X-Robots-Tag:noindex
X-PUBLISHED-TTL:PT1H
BEGIN:VTIMEZONE
TZID:America/Los_Angeles
BEGIN:DAYLIGHT
TZOFFSETFROM:-0800
TZOFFSETTO:-0700
TZNAME:PDT
DTSTART:20230312T100000
END:DAYLIGHT
BEGIN:STANDARD
TZOFFSETFROM:-0700
TZOFFSETTO:-0800
TZNAME:PST
DTSTART:20231105T090000
END:STANDARD
BEGIN:DAYLIGHT
TZOFFSETFROM:-0800
TZOFFSETTO:-0700
TZNAME:PDT
DTSTART:20240310T100000
END:DAYLIGHT
BEGIN:STANDARD
TZOFFSETFROM:-0700
TZOFFSETTO:-0800
TZNAME:PST
DTSTART:20241103T090000
END:STANDARD
BEGIN:DAYLIGHT
TZOFFSETFROM:-0800
TZOFFSETTO:-0700
TZNAME:PDT
DTSTART:20250309T100000
END:DAYLIGHT
BEGIN:STANDARD
TZOFFSETFROM:-0700
TZOFFSETTO:-0800
TZNAME:PST
DTSTART:20251102T090000
END:STANDARD
END:VTIMEZONE
BEGIN:VEVENT
DTSTART;TZID=America/Los_Angeles:20241026T200000
DTEND;TZID=America/Los_Angeles:20241026T220000
DTSTAMP:20260425T183641
CREATED:20240713T214052Z
LAST-MODIFIED:20240713T224438Z
UID:39381-1729972800-1729980000@oldediblerenotahoe.com
SUMMARY:Magique - The Show of Shows
DESCRIPTION:Magique is Reno’s resident five-star attraction that is sure to amaze and entertain audiences of all ages. Featuring a cast of 10\, Magique is a whirlwind of excitement with over 20 grand illusions\, 100+ elaborate handmade costumes\, an epic soundtrack\, and special effects galore. Magique is the perfect event for your night out in Reno. Magique is truly the show of shows with hundreds of rave reviews on TripAdvisor\, Yelp\, Google and Facebook. Don’t miss this unique Reno experience!
URL:https://oldediblerenotahoe.com/event/magique-the-show-of-shows-2024-10-26/
LOCATION:The Theatre\, 505 Keystone Ave\, Reno\, NV\, 89503
END:VEVENT
BEGIN:VEVENT
DTSTART;TZID=America/Los_Angeles:20241026T180000
DTEND;TZID=America/Los_Angeles:20241026T210000
DTSTAMP:20260425T183641
CREATED:20240912T160054Z
LAST-MODIFIED:20240912T160054Z
UID:39916-1729965600-1729976400@oldediblerenotahoe.com
SUMMARY:The BEEFSTEAK Reno
DESCRIPTION:Join Charlie Palmer Steak Reno for The BEEFSTEAK\, a classic steakhouse tradition. Enjoy a feast of meats\, drinks\, and communal dining hosted by Chef Charlie Palmer. Celebrate with great food\, drinks\, and lively company.
URL:https://oldediblerenotahoe.com/event/the-beefsteak-reno/
LOCATION:Grand Sierra Resort\, 2500 E 2nd St\, Reno\, NV
END:VEVENT
BEGIN:VEVENT
DTSTART;TZID=America/Los_Angeles:20241026T180000
DTEND;TZID=America/Los_Angeles:20241026T200000
DTSTAMP:20260425T183641
CREATED:20241021T194702Z
LAST-MODIFIED:20241021T194702Z
UID:40359-1729965600-1729972800@oldediblerenotahoe.com
SUMMARY:A Circus Murder Mystery Dinner
DESCRIPTION:Join Chefs Chapin and Daryl from Reno Recipes and I do a fun night of Mystery\, laughter\, and food!
URL:https://oldediblerenotahoe.com/event/a-circus-murder-mystery-dinner/
LOCATION:The Flavor Studio\, 5303 Louie Lane\, Suite 1\, Reno\, NV
END:VEVENT
BEGIN:VEVENT
DTSTART;TZID=America/Los_Angeles:20241026T180000
DTEND;TZID=America/Los_Angeles:20241026T180000
DTSTAMP:20260425T183641
CREATED:20241003T013209Z
LAST-MODIFIED:20241003T013209Z
UID:40198-1729965600-1729965600@oldediblerenotahoe.com
SUMMARY:Victorian All Hallow's Eve Ball
DESCRIPTION:Indulge in the silver splendor of the 4th Annual All Hallows Eve Victorian Ball at the Historic Fourth Ward School Museum. The event will feature light snacks\, music\, dancing\, a costume contest\, flashlight tours and tarot readings.
URL:https://oldediblerenotahoe.com/event/victorian-all-hallows-eve-ball/
LOCATION:Historic Fourth Ward School Museum
END:VEVENT
BEGIN:VEVENT
DTSTART;TZID=America/Los_Angeles:20241026T173000
DTEND;TZID=America/Los_Angeles:20241026T203000
DTSTAMP:20260425T183641
CREATED:20241003T013100Z
LAST-MODIFIED:20241003T013100Z
UID:40195-1729963800-1729974600@oldediblerenotahoe.com
SUMMARY:Haunted Halloween Graveyard Train
DESCRIPTION:This 40-minute round trip transforms into a spine-tingling adventure where you can safely travel in open-air train cars\, taking in the eerie glow of the crescent moon.
URL:https://oldediblerenotahoe.com/event/haunted-halloween-graveyard-train-2024-10-26/
LOCATION:NV
END:VEVENT
BEGIN:VEVENT
DTSTART;TZID=America/Los_Angeles:20241026T120000
DTEND;TZID=America/Los_Angeles:20241026T190000
DTSTAMP:20260425T183641
CREATED:20241003T012847Z
LAST-MODIFIED:20241003T012847Z
UID:40191-1729944000-1729969200@oldediblerenotahoe.com
SUMMARY:Haywagon and Horseless Carriage Rides
DESCRIPTION:Hop on a spooky Hay-wagon or Haunted Horseless Carriage for a thrilling ride through Virginia City. You’ll journey along C Street to the eerie Virginia City Cemetery and back\, all while enjoying haunting music and chilling tales of the past. Tickets are $25 per adult and $10 per child. Pick up will be next to Bucket of Blood Saloon.
URL:https://oldediblerenotahoe.com/event/haywagon-and-horseless-carriage-rides-2024-10-26/
LOCATION:NV
END:VEVENT
BEGIN:VEVENT
DTSTART;TZID=America/Los_Angeles:20241026T110000
DTEND;TZID=America/Los_Angeles:20241026T170000
DTSTAMP:20260425T183641
CREATED:20240114T161242Z
LAST-MODIFIED:20240114T161242Z
UID:37094-1729940400-1729962000@oldediblerenotahoe.com
SUMMARY:The Spirits Made Me Do It Saloon Crawl
DESCRIPTION:
URL:https://oldediblerenotahoe.com/event/the-spirits-made-me-do-it-saloon-crawl/
LOCATION:Virginia City
CATEGORIES:Beer
END:VEVENT
BEGIN:VEVENT
DTSTART;TZID=America/Los_Angeles:20241026T110000
DTEND;TZID=America/Los_Angeles:20241026T130000
DTSTAMP:20260425T183641
CREATED:20241021T195134Z
LAST-MODIFIED:20241021T195152Z
UID:40367-1729940400-1729947600@oldediblerenotahoe.com
SUMMARY:Spooktacular Family Fun
DESCRIPTION:
URL:https://oldediblerenotahoe.com/event/spooktacular-family-fun/
LOCATION:Natural Grocers
END:VEVENT
BEGIN:VEVENT
DTSTART;TZID=America/Los_Angeles:20241026T100000
DTEND;TZID=America/Los_Angeles:20241026T123000
DTSTAMP:20260425T183641
CREATED:20241003T014102Z
LAST-MODIFIED:20241003T014102Z
UID:40212-1729936800-1729945800@oldediblerenotahoe.com
SUMMARY:Little Chefs
DESCRIPTION:Our Little Chefs still have two more classes to whip up some magic. Urban Roots and registered dietitian Anastasia Gavrilets are serving up a fall series for our budding kitchen stars. We’re cooking with the littlest chefs (ages 2-4) and the more experienced young cooks (ages 5-13). Enjoy tasty snacks and take home a farm-fresh ingredient to keep the cooking excitement going at home. Join for one class or join both!
URL:https://oldediblerenotahoe.com/event/little-chefs/
LOCATION:Urban Teaching Farm\, 1700 E 2nd Street\, Reno\, NV\, 89502
END:VEVENT
BEGIN:VEVENT
DTSTART;TZID=America/Los_Angeles:20241026T100000
DTEND;TZID=America/Los_Angeles:20241026T120000
DTSTAMP:20260425T183641
CREATED:20241021T200130Z
LAST-MODIFIED:20241021T200130Z
UID:40386-1729936800-1729944000@oldediblerenotahoe.com
SUMMARY:Pie Basics - Dough & Fillings Class
DESCRIPTION:
URL:https://oldediblerenotahoe.com/event/pie-basics-dough-fillings-class/
LOCATION:Sierra Chef\, 2292 Main Street\, Genoa\, NV
END:VEVENT
BEGIN:VEVENT
DTSTART;TZID=America/Los_Angeles:20241026T093000
DTEND;TZID=America/Los_Angeles:20241026T113000
DTSTAMP:20260425T183641
CREATED:20240811T010628Z
LAST-MODIFIED:20240811T010628Z
UID:39609-1729935000-1729942200@oldediblerenotahoe.com
SUMMARY:Ravioli Workshop
DESCRIPTION:
URL:https://oldediblerenotahoe.com/event/ravioli-workshop/
LOCATION:Nothing To It!\, 225 Crummer Lane\, Reno\, NV\, 89502\, United States
END:VEVENT
BEGIN:VEVENT
DTSTART;TZID=America/Los_Angeles:20241026T090000
DTEND;TZID=America/Los_Angeles:20241026T180000
DTSTAMP:20260425T183641
CREATED:20241021T185612Z
LAST-MODIFIED:20241021T185612Z
UID:40260-1729933200-1729965600@oldediblerenotahoe.com
SUMMARY:Spooktacular Carnival
DESCRIPTION:This beloved Halloween event brings the magic of the season to life with exciting trick-or-treating\, ghoulish games\, and spine-chilling entertainment. There’s something for everyone\, so gather the family and immerse yourself in a day full of festive fun! Costumes are encouraged\, so let your creativity shine and get ready for a hauntingly good time.
URL:https://oldediblerenotahoe.com/event/spooktacular-carnival/
LOCATION:National Automobile Museum\, 10 South Lake St.\, Reno\, 89501
END:VEVENT
BEGIN:VEVENT
DTSTART;VALUE=DATE:20241026
DTEND;VALUE=DATE:20241027
DTSTAMP:20260425T183641
CREATED:20240912T161718Z
LAST-MODIFIED:20240912T161718Z
UID:39994-1729900800-1729987199@oldediblerenotahoe.com
SUMMARY:Andelin Farm 5-Acre Corn Maze
DESCRIPTION:
URL:https://oldediblerenotahoe.com/event/andelin-farm-5-acre-corn-maze-2024-10-26/
LOCATION:Andelin Family Farm\, 8100 Pyramid Way\, Spanish Springs\, NV\, 89436
END:VEVENT
BEGIN:VEVENT
DTSTART;VALUE=DATE:20241026
DTEND;VALUE=DATE:20241027
DTSTAMP:20260425T183641
CREATED:20240912T161650Z
LAST-MODIFIED:20240912T161650Z
UID:39969-1729900800-1729987199@oldediblerenotahoe.com
SUMMARY:Andelin Farm Fall Festival
DESCRIPTION:
URL:https://oldediblerenotahoe.com/event/andelin-farm-fall-festival-2024-10-26/
LOCATION:Andelin Family Farm\, 8100 Pyramid Way\, Spanish Springs\, NV\, 89436
END:VEVENT
BEGIN:VEVENT
DTSTART;VALUE=DATE:20241026
DTEND;VALUE=DATE:20241028
DTSTAMP:20260425T183641
CREATED:20240318T024243Z
LAST-MODIFIED:20240318T024243Z
UID:37857-1729900800-1730073599@oldediblerenotahoe.com
SUMMARY:Animal Ark Harvest Festival
DESCRIPTION:Visit throughout the day to catch Animal Ark animals receiving special pumpkin treats and participate in fun harvest activities and stations.
URL:https://oldediblerenotahoe.com/event/animal-ark-harvest-festival/
LOCATION:Animal Ark\, 1265 Deerlodge Road\, Reno
CATEGORIES:Activity,Family friendly
END:VEVENT
BEGIN:VEVENT
DTSTART;TZID=America/Los_Angeles:20241025T180000
DTEND;TZID=America/Los_Angeles:20241025T200000
DTSTAMP:20260425T183641
CREATED:20241021T200022Z
LAST-MODIFIED:20241021T200022Z
UID:40382-1729879200-1729886400@oldediblerenotahoe.com
SUMMARY:Foley Wine Pairing Dinner
DESCRIPTION:
URL:https://oldediblerenotahoe.com/event/foley-wine-pairing-dinner/
LOCATION:Sierra Chef\, 2292 Main Street\, Genoa\, NV
END:VEVENT
BEGIN:VEVENT
DTSTART;TZID=America/Los_Angeles:20241025T180000
DTEND;TZID=America/Los_Angeles:20241025T200000
DTSTAMP:20260425T183641
CREATED:20240811T010555Z
LAST-MODIFIED:20240811T010555Z
UID:39607-1729879200-1729886400@oldediblerenotahoe.com
SUMMARY:Date Night - Provence Class
DESCRIPTION:
URL:https://oldediblerenotahoe.com/event/date-night-provence-class/
LOCATION:Nothing To It!\, 225 Crummer Lane\, Reno\, NV\, 89502\, United States
END:VEVENT
BEGIN:VEVENT
DTSTART;TZID=America/Los_Angeles:20241025T173000
DTEND;TZID=America/Los_Angeles:20241025T203000
DTSTAMP:20260425T183641
CREATED:20241003T013100Z
LAST-MODIFIED:20241003T013100Z
UID:40194-1729877400-1729888200@oldediblerenotahoe.com
SUMMARY:Haunted Halloween Graveyard Train
DESCRIPTION:This 40-minute round trip transforms into a spine-tingling adventure where you can safely travel in open-air train cars\, taking in the eerie glow of the crescent moon.
URL:https://oldediblerenotahoe.com/event/haunted-halloween-graveyard-train/
LOCATION:NV
END:VEVENT
BEGIN:VEVENT
DTSTART;TZID=America/Los_Angeles:20241025T171500
DTEND;TZID=America/Los_Angeles:20241025T191500
DTSTAMP:20260425T183642
CREATED:20241021T190850Z
LAST-MODIFIED:20241021T190850Z
UID:40276-1729876500-1729883700@oldediblerenotahoe.com
SUMMARY:Sugar Cookie Decorating Class
DESCRIPTION:This class is for the sugar cookie beginner! You will learn how to outline\, flood and then decorate your 8 large cookies with royal icing. We will discuss and give a demonstration on how to prepare royal icing\, how to find the correct consistency for the job you are doing and how to mix in color. We’ll show you all of the tools you’ll need to make them at home and where to get them. At the end\, we’ll box up your cookies so that you can take them home with you. Please join us for this fun\, informative class. \nClass recommended for ages 12 and up.
URL:https://oldediblerenotahoe.com/event/sugar-cookie-decorating-class-2024-10-25/
LOCATION:Mix Bakeshop\, 1117 California Avenue\, Reno\, NV\, 89509
END:VEVENT
BEGIN:VEVENT
DTSTART;VALUE=DATE:20241025
DTEND;VALUE=DATE:20241026
DTSTAMP:20260425T183642
CREATED:20240912T161718Z
LAST-MODIFIED:20240912T161718Z
UID:39993-1729814400-1729900799@oldediblerenotahoe.com
SUMMARY:Andelin Farm 5-Acre Corn Maze
DESCRIPTION:
URL:https://oldediblerenotahoe.com/event/andelin-farm-5-acre-corn-maze-2024-10-25/
LOCATION:Andelin Family Farm\, 8100 Pyramid Way\, Spanish Springs\, NV\, 89436
END:VEVENT
BEGIN:VEVENT
DTSTART;VALUE=DATE:20241025
DTEND;VALUE=DATE:20241026
DTSTAMP:20260425T183642
CREATED:20240912T161650Z
LAST-MODIFIED:20240912T161650Z
UID:39968-1729814400-1729900799@oldediblerenotahoe.com
SUMMARY:Andelin Farm Fall Festival
DESCRIPTION:
URL:https://oldediblerenotahoe.com/event/andelin-farm-fall-festival-2024-10-25/
LOCATION:Andelin Family Farm\, 8100 Pyramid Way\, Spanish Springs\, NV\, 89436
END:VEVENT
BEGIN:VEVENT
DTSTART;VALUE=DATE:20241025
DTEND;VALUE=DATE:20241028
DTSTAMP:20260425T183642
CREATED:20241021T201035Z
LAST-MODIFIED:20241021T201035Z
UID:40410-1729814400-1730073599@oldediblerenotahoe.com
SUMMARY:Beatty Days Festival
DESCRIPTION:Experience the wild side of Nevada at Beatty Days. This three-day festival offers everything from root beer belching and chicken “drop” bingo to the legendary Bed Races. With a parade\, chili cook-off\, art shows\, and lots of offbeat fun\, Beatty Days is the ultimate celebration of Southwestern Nevada’s quirky spirit.
URL:https://oldediblerenotahoe.com/event/beatty-days-festival/
LOCATION:NV
END:VEVENT
BEGIN:VEVENT
DTSTART;TZID=America/Los_Angeles:20241024T190000
DTEND;TZID=America/Los_Angeles:20241024T210000
DTSTAMP:20260425T183642
CREATED:20240713T224951Z
LAST-MODIFIED:20240713T224951Z
UID:39418-1729796400-1729803600@oldediblerenotahoe.com
SUMMARY:Harry Potter and the Sorcerer's Stone™ in Concert
DESCRIPTION:Years ago\, Harry Potter and the Sorcerer’s Stone™ enchanted our screens and now it’s returning\, for the first time ever\, with the music of a live symphony orchestra. Momentous scenes from the film play on a giant screen in high-definition while John Williams’ unforgettable score is performed by the Reno Phil. Experience the magic with the first installment of the Harry Potter™ Film Concert Series. \nWIZARDING WORLD and all related trademarks\, characters\, names\, and indicia are © & ™ Warner Bros. Entertainment Inc. Publishing Rights © JKR.
URL:https://oldediblerenotahoe.com/event/harry-potter-and-the-sorcerers-stone-in-concert/
LOCATION:Grand Sierra Resort\, 2500 E 2nd St\, Reno\, NV
END:VEVENT
BEGIN:VEVENT
DTSTART;TZID=America/Los_Angeles:20241024T183000
DTEND;TZID=America/Los_Angeles:20241024T213000
DTSTAMP:20260425T183642
CREATED:20241021T194558Z
LAST-MODIFIED:20241021T194558Z
UID:40357-1729794600-1729805400@oldediblerenotahoe.com
SUMMARY:Witchy Girls Night
DESCRIPTION:An evening of food\, wine and N/A will be available\, tarot cards and more!
URL:https://oldediblerenotahoe.com/event/witchy-girls-night/
LOCATION:The Flavor Studio\, 5303 Louie Lane\, Suite 1\, Reno\, NV
END:VEVENT
BEGIN:VEVENT
DTSTART;TZID=America/Los_Angeles:20241024T180000
DTEND;TZID=America/Los_Angeles:20241024T210000
DTSTAMP:20260425T183642
CREATED:20240526T220329Z
LAST-MODIFIED:20240526T220329Z
UID:38842-1729792800-1729803600@oldediblerenotahoe.com
SUMMARY:Anthony's Chophouse Winemaker Dinner: Opus One & Robert Mondavi Winery
DESCRIPTION:
URL:https://oldediblerenotahoe.com/event/anthonys-chophouse-winemaker-dinner-opus-one-robert-mondavi-winery/
LOCATION:Nugget Casino Resort\, 1100 Nugget Avenue\,\, Sparks\, NV
CATEGORIES:Food & Drink,Wine
END:VEVENT
BEGIN:VEVENT
DTSTART;TZID=America/Los_Angeles:20241024T180000
DTEND;TZID=America/Los_Angeles:20241024T200000
DTSTAMP:20260425T183642
CREATED:20240811T010523Z
LAST-MODIFIED:20240811T010523Z
UID:39605-1729792800-1729800000@oldediblerenotahoe.com
SUMMARY:Basque Table Class
DESCRIPTION:
URL:https://oldediblerenotahoe.com/event/basque-table-class/
LOCATION:Nothing To It!\, 225 Crummer Lane\, Reno\, NV\, 89502\, United States
END:VEVENT
BEGIN:VEVENT
DTSTART;TZID=America/Los_Angeles:20241024T180000
DTEND;TZID=America/Los_Angeles:20241024T190000
DTSTAMP:20260425T183642
CREATED:20240526T214123Z
LAST-MODIFIED:20240526T214123Z
UID:38822-1729792800-1729796400@oldediblerenotahoe.com
SUMMARY:Science & Nature Speaker Series
DESCRIPTION:Join The Nature Conservancy Nevada for their spring speaker series featuring experts from The Nature Conservancy in Nevada and partner organizations who will share their expertise on a variety of topics.
URL:https://oldediblerenotahoe.com/event/science-nature-speaker-series-2024-10-24/
LOCATION:River Fork Ranch Preserve
END:VEVENT
BEGIN:VEVENT
DTSTART;TZID=America/Los_Angeles:20241024T173000
DTEND;TZID=America/Los_Angeles:20241024T200000
DTSTAMP:20260425T183642
CREATED:20241021T190502Z
LAST-MODIFIED:20241021T190502Z
UID:40268-1729791000-1729800000@oldediblerenotahoe.com
SUMMARY:Baggin' For Apples
DESCRIPTION:This event is open to kids and adults of all ages but it does fill up quickly so reserve your spot. Attendees are encouraged to wear their halloween costumes\, and this is a perfect event for the little ones to volunteer with their family. There will be a volunteer activity of bagging fresh produce for distribution\, face painting\, games and refreshments.
URL:https://oldediblerenotahoe.com/event/baggin-for-apples/
LOCATION:Food Bank of Northern Nevada
END:VEVENT
BEGIN:VEVENT
DTSTART;TZID=America/Los_Angeles:20241024T100000
DTEND;TZID=America/Los_Angeles:20241024T120000
DTSTAMP:20260425T183642
CREATED:20241021T200055Z
LAST-MODIFIED:20241021T200055Z
UID:40384-1729764000-1729771200@oldediblerenotahoe.com
SUMMARY:Kids Halloween Treats Class
DESCRIPTION:
URL:https://oldediblerenotahoe.com/event/kids-halloween-treats-class/
LOCATION:Sierra Chef\, 2292 Main Street\, Genoa\, NV
END:VEVENT
BEGIN:VEVENT
DTSTART;TZID=America/Los_Angeles:20241024T083000
DTEND;TZID=America/Los_Angeles:20241024T093000
DTSTAMP:20260425T183642
CREATED:20241003T014347Z
LAST-MODIFIED:20241003T014347Z
UID:40225-1729758600-1729762200@oldediblerenotahoe.com
SUMMARY:Farm Homeschool Program
DESCRIPTION:Our Farm Homeschool Program is the perfect way for your homeschooler to dive into hands-on gardening at the farm. Whether your child loves mingling with a group or prefers a solo adventure\, this program is the place for them to grow\, learn\, and make some feathered (and non-feathered) friends while engaging in our STEAM curriculum. This time\, it’s Science Fair Month! It’s the perfect time to experiment with all things Fall and discover the wonders of the season through fun\, interactive activities.
URL:https://oldediblerenotahoe.com/event/farm-homeschool-program-2024-10-24/
LOCATION:Urban Teaching Farm\, 1700 E 2nd Street\, Reno\, NV\, 89502
END:VEVENT
END:VCALENDAR