BEGIN:VCALENDAR
VERSION:2.0
PRODID:-//Edible Reno-Tahoe - ECPv6.15.20//NONSGML v1.0//EN
CALSCALE:GREGORIAN
METHOD:PUBLISH
X-WR-CALNAME:Edible Reno-Tahoe
X-ORIGINAL-URL:https://oldediblerenotahoe.com
X-WR-CALDESC:Events for Edible Reno-Tahoe
REFRESH-INTERVAL;VALUE=DURATION:PT1H
X-Robots-Tag:noindex
X-PUBLISHED-TTL:PT1H
BEGIN:VTIMEZONE
TZID:America/Los_Angeles
BEGIN:DAYLIGHT
TZOFFSETFROM:-0800
TZOFFSETTO:-0700
TZNAME:PDT
DTSTART:20230312T100000
END:DAYLIGHT
BEGIN:STANDARD
TZOFFSETFROM:-0700
TZOFFSETTO:-0800
TZNAME:PST
DTSTART:20231105T090000
END:STANDARD
BEGIN:DAYLIGHT
TZOFFSETFROM:-0800
TZOFFSETTO:-0700
TZNAME:PDT
DTSTART:20240310T100000
END:DAYLIGHT
BEGIN:STANDARD
TZOFFSETFROM:-0700
TZOFFSETTO:-0800
TZNAME:PST
DTSTART:20241103T090000
END:STANDARD
BEGIN:DAYLIGHT
TZOFFSETFROM:-0800
TZOFFSETTO:-0700
TZNAME:PDT
DTSTART:20250309T100000
END:DAYLIGHT
BEGIN:STANDARD
TZOFFSETFROM:-0700
TZOFFSETTO:-0800
TZNAME:PST
DTSTART:20251102T090000
END:STANDARD
BEGIN:DAYLIGHT
TZOFFSETFROM:-0800
TZOFFSETTO:-0700
TZNAME:PDT
DTSTART:20260308T100000
END:DAYLIGHT
BEGIN:STANDARD
TZOFFSETFROM:-0700
TZOFFSETTO:-0800
TZNAME:PST
DTSTART:20261101T090000
END:STANDARD
END:VTIMEZONE
BEGIN:VEVENT
DTSTART;TZID=America/Los_Angeles:20250104T093000
DTEND;TZID=America/Los_Angeles:20250104T113000
DTSTAMP:20260425T072901
CREATED:20241021T192058Z
LAST-MODIFIED:20241021T192058Z
UID:40293-1735983000-1735990200@oldediblerenotahoe.com
SUMMARY:Culinary Basics Workshop
DESCRIPTION:
URL:https://oldediblerenotahoe.com/event/culinary-basics-workshop-2/
LOCATION:Nothing To It!\, 225 Crummer Lane\, Reno\, NV\, 89502\, United States
END:VEVENT
BEGIN:VEVENT
DTSTART;TZID=America/Los_Angeles:20250103T180000
DTEND;TZID=America/Los_Angeles:20250103T200000
DTSTAMP:20260425T072901
CREATED:20241021T192028Z
LAST-MODIFIED:20241021T192028Z
UID:40291-1735927200-1735934400@oldediblerenotahoe.com
SUMMARY:Pan Roast & Cioppino Class
DESCRIPTION:
URL:https://oldediblerenotahoe.com/event/pan-roast-cioppino-class/
LOCATION:Nothing To It!\, 225 Crummer Lane\, Reno\, NV\, 89502\, United States
END:VEVENT
BEGIN:VEVENT
DTSTART;TZID=America/Los_Angeles:20250102T180000
DTEND;TZID=America/Los_Angeles:20250102T210000
DTSTAMP:20260425T072901
CREATED:20241216T192155Z
LAST-MODIFIED:20241216T192155Z
UID:40767-1735840800-1735851600@oldediblerenotahoe.com
SUMMARY:Alpenglow Sports Winter Speaker Series
DESCRIPTION:The Alpenglow Sports Winter Speaker Series presented by North Tahoe Chamber is the largest free community speaker series in the country.Get inspired by listening to your heroes tell amazing stories about outdoor achievement. \nJanuary 2\, 2025: Kimmy Fasani: Outside Ourselves\nJanuary 24\, 2025: Greg Hill: Chapters of Our Lives\nFebruary 7\, 2025: Angela Hawse: Small but Mighty\nFebruary 28\, 2025: Dave Nettle: Patagonia – A Climber’s Journey \n 
URL:https://oldediblerenotahoe.com/event/alpenglow-sports-winter-speaker-series/
LOCATION:Olympic Village Event Center\, 1901 Chamonix Place\, Olympic Valley\, CA
END:VEVENT
BEGIN:VEVENT
DTSTART;TZID=America/Los_Angeles:20250102T143000
DTEND;TZID=America/Los_Angeles:20250102T163000
DTSTAMP:20260425T072901
CREATED:20241021T191954Z
LAST-MODIFIED:20241021T191954Z
UID:40289-1735828200-1735835400@oldediblerenotahoe.com
SUMMARY:Kids Winter Break Workshop
DESCRIPTION:
URL:https://oldediblerenotahoe.com/event/kids-winter-break-workshop/
LOCATION:Nothing To It!\, 225 Crummer Lane\, Reno\, NV\, 89502\, United States
END:VEVENT
BEGIN:VEVENT
DTSTART;TZID=America/Los_Angeles:20241231T200000
DTEND;TZID=America/Los_Angeles:20241231T220000
DTSTAMP:20260425T072901
CREATED:20240913T043340Z
LAST-MODIFIED:20240913T043340Z
UID:40128-1735675200-1735682400@oldediblerenotahoe.com
SUMMARY:Village People
DESCRIPTION:Village People is one of the most iconic music groups in the world. Their music is part of the international songbook and has been featured in numerous motion pictures\, on Broadway\, and in commercials. Of course\, “Y.M.C.A” (along with its namesake dance) is played at almost every party\, wedding\, bar mitzvah and sporting event in the world. They’ve sold over 100 million records worldwide.
URL:https://oldediblerenotahoe.com/event/village-people/
LOCATION:Nugget Casino Resort\, 1100 Nugget Avenue\,\, Sparks\, NV
END:VEVENT
BEGIN:VEVENT
DTSTART;TZID=America/Los_Angeles:20241229T190000
DTEND;TZID=America/Los_Angeles:20241229T210000
DTSTAMP:20260425T072901
CREATED:20240913T042111Z
LAST-MODIFIED:20240913T042111Z
UID:40117-1735498800-1735506000@oldediblerenotahoe.com
SUMMARY:Santa's Epic Holiday Show!
DESCRIPTION:A spectacular Holiday Cirque show featuring Holograms\, Projection Mapping\, Interactive Lasers and amazing cirque performers.
URL:https://oldediblerenotahoe.com/event/santas-epic-holiday-show-2024-12-29/
LOCATION:Grand Sierra Resort\, 2500 E 2nd St\, Reno\, NV
END:VEVENT
BEGIN:VEVENT
DTSTART;TZID=America/Los_Angeles:20241229T160000
DTEND;TZID=America/Los_Angeles:20241229T180000
DTSTAMP:20260425T072901
CREATED:20240713T214052Z
LAST-MODIFIED:20240713T214052Z
UID:39396-1735488000-1735495200@oldediblerenotahoe.com
SUMMARY:Magique - The Show of Shows
DESCRIPTION:Magique is Reno’s resident five-star attraction that is sure to amaze and entertain audiences of all ages. Featuring a cast of 10\, Magique is a whirlwind of excitement with over 20 grand illusions\, 100+ elaborate handmade costumes\, an epic soundtrack\, and special effects galore. Magique is the perfect event for your night out in Reno. Magique is truly the show of shows with hundreds of rave reviews on TripAdvisor\, Yelp\, Google and Facebook. Don’t miss this unique Reno experience!
URL:https://oldediblerenotahoe.com/event/magique-the-show-of-shows-2024-12-29/
LOCATION:The Theatre\, 505 Keystone Ave\, Reno\, NV\, 89503
END:VEVENT
BEGIN:VEVENT
DTSTART;TZID=America/Los_Angeles:20241229T103000
DTEND;TZID=America/Los_Angeles:20241229T143000
DTSTAMP:20260425T072901
CREATED:20230922T193120Z
LAST-MODIFIED:20230922T193120Z
UID:36295-1735468200-1735482600@oldediblerenotahoe.com
SUMMARY:Sunday Music Brunch
DESCRIPTION:Sunday Music Brunch at the Nevada Museum of Art Café is the perfect precursor to an afternoon exploring galleries. Chef Colin Smith has updated the menu to include an eclectic array of options from traditional breakfast fare to lunch options–both of which pair nicely with juice\, coffee\, champagne or a mimosa. Enjoy live music by Colin Ross from 11:30 to 2:30. Doors open at 10:30 am and service continues until 2:30 pm. Reservations are required for parties of five or more\, but encouraged for all as space is limited. Museum members receive 10% savings as a benefit of membership. \nCall the Café at 775-284-2921 for more information.
URL:https://oldediblerenotahoe.com/event/sundaymusicbrunch-2024-12-29/
LOCATION:Nevada Museum of Art\, 160 West Liberty\, Reno\, Nevada\, 89501
CATEGORIES:Food & Drink,Music
ATTACH;FMTTYPE=image/jpeg:https://oldediblerenotahoe.com/wp-content/uploads/2023/09/Roundabout_CafeAtNMA-Spring2022-3186-768x432-1.jpg
END:VEVENT
BEGIN:VEVENT
DTSTART;TZID=America/Los_Angeles:20241229T090000
DTEND;TZID=America/Los_Angeles:20241229T130000
DTSTAMP:20260425T072901
CREATED:20231103T014135Z
LAST-MODIFIED:20231103T014135Z
UID:35282-1735462800-1735477200@oldediblerenotahoe.com
SUMMARY:Riverside Farmers Market
DESCRIPTION:The Riverside Farmers Market stands as Reno’s authentic local market\, exclusively featuring vendors who cultivate\, rear\, or craft their products within the immediate vicinity of the city. Highlighting small-scale\, community-focused\, and sustainable farmers and ranchers\, the market is a testament to the belief that the foundation of healthy food lies in the health of the land. It also serves as a welcoming platform for Reno’s emerging agricultural talents\, providing a space for residents to connect with those who are dedicated to nourishing the Truckee Meadows community through locally grown produce.
URL:https://oldediblerenotahoe.com/event/riverside-farmers-market-3-2024-12-29/
LOCATION:Idlewild Park\, 1000 Cowan Dr.\, Reno\, NV\, 89509
CATEGORIES:Farmers Market,Shopping
END:VEVENT
BEGIN:VEVENT
DTSTART;TZID=America/Los_Angeles:20241228T200000
DTEND;TZID=America/Los_Angeles:20241228T220000
DTSTAMP:20260425T072901
CREATED:20240713T221342Z
LAST-MODIFIED:20240713T221342Z
UID:39348-1735416000-1735423200@oldediblerenotahoe.com
SUMMARY:Bret Michaels
DESCRIPTION:Global Entrepreneur\, Philanthropist and Humanitarian of the Year\, Bret Michaels\, has over 100 million records\, digital and streams sold worldwide\, is a reality TV superstar with some of the highest rated reality shows in history as well as a lifelong type 1 diabetic. Having had a career that has spanned over 30 years he has built his brand piece by piece and retaining ownership and control of his own personal brand has solidified Bret as a successful entrepreneur and in the words of former Viacom CEO Judy McGrath made him a ‘cultural touchdown’. Bret has produced and stared in record-breaking hit TV shows\, (Rock of Love with Bret Michaels\, Life as I know it with Bret Michaels and Travel Channel’s Bret Michaels Rock My RV )\, is a Celebrity Apprentice winner and was voted NBC Apprentice fan favorite. To date Bret is the only Celebrity Apprentice winner to launch a product from the show to the public. Bret’s Blend Trop-A-Rocka Diet Snapple Tea became an instant hit with the public and has remains one of Snapple’s bestselling flavors to date. Bret’s conglomerate Michaels Entertainment Group Inc. also oversees the entrepreneur’s other business endeavors\, such as his Bret Michaels Suite at the Hard Rock Riviera Maya\, a line of signature guitars\, his Pets Rock Collection with partners PetSmart and his highly successful marketing campaigns with the likes of Nissan\, Free Credit Score\, Overstock and Hard Rock International. The global and entrepreneur is also highly recognized as a “Rockstar of Real Estate.” His personally-designed Hard Rock Hotels suite is the largest in the famous hotel chain’s properties and his own real estate spans multiple properties\, residential & commercialdevelopments\, and homes around the globe and the highly demanded\, recent “Behind the Music” episode featuring Bret is currently streaming on Paramount Plus and features tales from the street-level underdog with an UNBROKEN fighting spirit who fought his way from playing in his Pennsylvania garage to continuing to sell out stadiums and arenas around the world. Michaels has also created exclusive video-on- demand content such as “The Big Read\,” “Videos\, Songs & Stories” and the highly purchased download “Classic Acoustic Songs & Stories” that all provide a deeper intimate look and listen given directly by Michaels.
URL:https://oldediblerenotahoe.com/event/bret-michaels/
LOCATION:Nugget Casino Resort\, 1100 Nugget Avenue\,\, Sparks\, NV
END:VEVENT
BEGIN:VEVENT
DTSTART;TZID=America/Los_Angeles:20241228T200000
DTEND;TZID=America/Los_Angeles:20241228T220000
DTSTAMP:20260425T072901
CREATED:20240713T214052Z
LAST-MODIFIED:20240713T214052Z
UID:39395-1735416000-1735423200@oldediblerenotahoe.com
SUMMARY:Magique - The Show of Shows
DESCRIPTION:Magique is Reno’s resident five-star attraction that is sure to amaze and entertain audiences of all ages. Featuring a cast of 10\, Magique is a whirlwind of excitement with over 20 grand illusions\, 100+ elaborate handmade costumes\, an epic soundtrack\, and special effects galore. Magique is the perfect event for your night out in Reno. Magique is truly the show of shows with hundreds of rave reviews on TripAdvisor\, Yelp\, Google and Facebook. Don’t miss this unique Reno experience!
URL:https://oldediblerenotahoe.com/event/magique-the-show-of-shows-2024-12-28/
LOCATION:The Theatre\, 505 Keystone Ave\, Reno\, NV\, 89503
END:VEVENT
BEGIN:VEVENT
DTSTART;TZID=America/Los_Angeles:20241228T190000
DTEND;TZID=America/Los_Angeles:20241228T210000
DTSTAMP:20260425T072901
CREATED:20240913T042111Z
LAST-MODIFIED:20240913T042111Z
UID:40116-1735412400-1735419600@oldediblerenotahoe.com
SUMMARY:Santa's Epic Holiday Show!
DESCRIPTION:A spectacular Holiday Cirque show featuring Holograms\, Projection Mapping\, Interactive Lasers and amazing cirque performers.
URL:https://oldediblerenotahoe.com/event/santas-epic-holiday-show-2024-12-28-2/
LOCATION:Grand Sierra Resort\, 2500 E 2nd St\, Reno\, NV
END:VEVENT
BEGIN:VEVENT
DTSTART;TZID=America/Los_Angeles:20241228T170000
DTEND;TZID=America/Los_Angeles:20241228T190000
DTSTAMP:20260425T072901
CREATED:20241021T193925Z
LAST-MODIFIED:20241021T193925Z
UID:40349-1735405200-1735412400@oldediblerenotahoe.com
SUMMARY:Taste of Tuscany Class
DESCRIPTION:
URL:https://oldediblerenotahoe.com/event/taste-of-tuscany-class-3-2024-12-28/
LOCATION:Nothing To It!\, 225 Crummer Lane\, Reno\, NV\, 89502\, United States
END:VEVENT
BEGIN:VEVENT
DTSTART;TZID=America/Los_Angeles:20241228T140000
DTEND;TZID=America/Los_Angeles:20241228T170000
DTSTAMP:20260425T072901
CREATED:20240913T042111Z
LAST-MODIFIED:20240913T042111Z
UID:40115-1735394400-1735405200@oldediblerenotahoe.com
SUMMARY:Santa's Epic Holiday Show!
DESCRIPTION:A spectacular Holiday Cirque show featuring Holograms\, Projection Mapping\, Interactive Lasers and amazing cirque performers.
URL:https://oldediblerenotahoe.com/event/santas-epic-holiday-show-2024-12-28/
LOCATION:Grand Sierra Resort\, 2500 E 2nd St\, Reno\, NV
END:VEVENT
BEGIN:VEVENT
DTSTART;TZID=America/Los_Angeles:20241228T130000
DTEND;TZID=America/Los_Angeles:20241228T150000
DTSTAMP:20260425T072901
CREATED:20240913T031909Z
LAST-MODIFIED:20240913T031909Z
UID:40039-1735390800-1735398000@oldediblerenotahoe.com
SUMMARY:Hot Buttered Rum Spirit Making Class
DESCRIPTION:
URL:https://oldediblerenotahoe.com/event/hot-buttered-rum-spirit-making-class/
LOCATION:High Mark Distillery\, 4690 Longley Lane\, Unit 28\, Reno\, Nevada\, 89502
END:VEVENT
BEGIN:VEVENT
DTSTART;VALUE=DATE:20241228
DTEND;VALUE=DATE:20250101
DTSTAMP:20260425T072901
CREATED:20241003T015227Z
LAST-MODIFIED:20241003T015227Z
UID:40241-1735344000-1735689599@oldediblerenotahoe.com
SUMMARY:Reno Chamber Orchestra presents The 21st Nevada Chamber Music Festival
DESCRIPTION:Six concerts in four days\, featuring the fine musicians from Reno and beyond. Curated by Artistic Director Clive Greensmith.\nIndividual tickets $55 per concert\nPasses $280 for the entire six concert festival \nPurchase at www.renochamberorchestra.org\nor by calling 775-348-9413
URL:https://oldediblerenotahoe.com/event/reno-chamber-orchestra-presents-the-21st-nevada-chamber-music-festival/
LOCATION:University of Nevada\, Reno
ATTACH;FMTTYPE=image/png:https://oldediblerenotahoe.com/wp-content/uploads/2024/10/unnamed.png
END:VEVENT
BEGIN:VEVENT
DTSTART;TZID=America/Los_Angeles:20241227T200000
DTEND;TZID=America/Los_Angeles:20241227T220000
DTSTAMP:20260425T072901
CREATED:20240713T214052Z
LAST-MODIFIED:20240713T214052Z
UID:39394-1735329600-1735336800@oldediblerenotahoe.com
SUMMARY:Magique - The Show of Shows
DESCRIPTION:Magique is Reno’s resident five-star attraction that is sure to amaze and entertain audiences of all ages. Featuring a cast of 10\, Magique is a whirlwind of excitement with over 20 grand illusions\, 100+ elaborate handmade costumes\, an epic soundtrack\, and special effects galore. Magique is the perfect event for your night out in Reno. Magique is truly the show of shows with hundreds of rave reviews on TripAdvisor\, Yelp\, Google and Facebook. Don’t miss this unique Reno experience!
URL:https://oldediblerenotahoe.com/event/magique-the-show-of-shows-2024-12-27/
LOCATION:The Theatre\, 505 Keystone Ave\, Reno\, NV\, 89503
END:VEVENT
BEGIN:VEVENT
DTSTART;TZID=America/Los_Angeles:20241227T190000
DTEND;TZID=America/Los_Angeles:20241227T210000
DTSTAMP:20260425T072901
CREATED:20240913T042111Z
LAST-MODIFIED:20240913T042111Z
UID:40114-1735326000-1735333200@oldediblerenotahoe.com
SUMMARY:Santa's Epic Holiday Show!
DESCRIPTION:A spectacular Holiday Cirque show featuring Holograms\, Projection Mapping\, Interactive Lasers and amazing cirque performers.
URL:https://oldediblerenotahoe.com/event/santas-epic-holiday-show-2024-12-27/
LOCATION:Grand Sierra Resort\, 2500 E 2nd St\, Reno\, NV
END:VEVENT
BEGIN:VEVENT
DTSTART;TZID=America/Los_Angeles:20241227T180000
DTEND;TZID=America/Los_Angeles:20241227T200000
DTSTAMP:20260425T072901
CREATED:20241021T193925Z
LAST-MODIFIED:20241021T193925Z
UID:40348-1735322400-1735329600@oldediblerenotahoe.com
SUMMARY:Taste of Tuscany Class
DESCRIPTION:
URL:https://oldediblerenotahoe.com/event/taste-of-tuscany-class-3/
LOCATION:Nothing To It!\, 225 Crummer Lane\, Reno\, NV\, 89502\, United States
END:VEVENT
BEGIN:VEVENT
DTSTART;TZID=America/Los_Angeles:20241226T200000
DTEND;TZID=America/Los_Angeles:20241226T220000
DTSTAMP:20260425T072901
CREATED:20240713T214052Z
LAST-MODIFIED:20240713T214052Z
UID:39393-1735243200-1735250400@oldediblerenotahoe.com
SUMMARY:Magique - The Show of Shows
DESCRIPTION:Magique is Reno’s resident five-star attraction that is sure to amaze and entertain audiences of all ages. Featuring a cast of 10\, Magique is a whirlwind of excitement with over 20 grand illusions\, 100+ elaborate handmade costumes\, an epic soundtrack\, and special effects galore. Magique is the perfect event for your night out in Reno. Magique is truly the show of shows with hundreds of rave reviews on TripAdvisor\, Yelp\, Google and Facebook. Don’t miss this unique Reno experience!
URL:https://oldediblerenotahoe.com/event/magique-the-show-of-shows-2024-12-26/
LOCATION:The Theatre\, 505 Keystone Ave\, Reno\, NV\, 89503
END:VEVENT
BEGIN:VEVENT
DTSTART;TZID=America/Los_Angeles:20241226T190000
DTEND;TZID=America/Los_Angeles:20241226T210000
DTSTAMP:20260425T072901
CREATED:20240913T042111Z
LAST-MODIFIED:20240913T042111Z
UID:40113-1735239600-1735246800@oldediblerenotahoe.com
SUMMARY:Santa's Epic Holiday Show!
DESCRIPTION:A spectacular Holiday Cirque show featuring Holograms\, Projection Mapping\, Interactive Lasers and amazing cirque performers.
URL:https://oldediblerenotahoe.com/event/santas-epic-holiday-show-2024-12-26/
LOCATION:Grand Sierra Resort\, 2500 E 2nd St\, Reno\, NV
END:VEVENT
BEGIN:VEVENT
DTSTART;TZID=America/Los_Angeles:20241226T180000
DTEND;TZID=America/Los_Angeles:20241226T200000
DTSTAMP:20260425T072901
CREATED:20241021T193840Z
LAST-MODIFIED:20241021T193840Z
UID:40346-1735236000-1735243200@oldediblerenotahoe.com
SUMMARY:Sushi Class
DESCRIPTION:
URL:https://oldediblerenotahoe.com/event/sushi-class-2/
LOCATION:Nothing To It!\, 225 Crummer Lane\, Reno\, NV\, 89502\, United States
END:VEVENT
BEGIN:VEVENT
DTSTART;TZID=America/Los_Angeles:20241225T190000
DTEND;TZID=America/Los_Angeles:20241225T210000
DTSTAMP:20260425T072901
CREATED:20240913T042111Z
LAST-MODIFIED:20240913T042111Z
UID:40112-1735153200-1735160400@oldediblerenotahoe.com
SUMMARY:Santa's Epic Holiday Show!
DESCRIPTION:A spectacular Holiday Cirque show featuring Holograms\, Projection Mapping\, Interactive Lasers and amazing cirque performers.
URL:https://oldediblerenotahoe.com/event/santas-epic-holiday-show-2024-12-25/
LOCATION:Grand Sierra Resort\, 2500 E 2nd St\, Reno\, NV
END:VEVENT
BEGIN:VEVENT
DTSTART;TZID=America/Los_Angeles:20241224T190000
DTEND;TZID=America/Los_Angeles:20241224T210000
DTSTAMP:20260425T072901
CREATED:20240913T042111Z
LAST-MODIFIED:20240913T042111Z
UID:40111-1735066800-1735074000@oldediblerenotahoe.com
SUMMARY:Santa's Epic Holiday Show!
DESCRIPTION:A spectacular Holiday Cirque show featuring Holograms\, Projection Mapping\, Interactive Lasers and amazing cirque performers.
URL:https://oldediblerenotahoe.com/event/santas-epic-holiday-show-2024-12-24/
LOCATION:Grand Sierra Resort\, 2500 E 2nd St\, Reno\, NV
END:VEVENT
BEGIN:VEVENT
DTSTART;TZID=America/Los_Angeles:20241224T183000
DTEND;TZID=America/Los_Angeles:20241224T210000
DTSTAMP:20260425T072901
CREATED:20241216T191700Z
LAST-MODIFIED:20241216T191700Z
UID:40765-1735065000-1735074000@oldediblerenotahoe.com
SUMMARY:Christmas Eve Dinner at Palisades
DESCRIPTION:Enjoy a delicious grand buffet\, complete with carving stations\, holiday side dishes and desserts. Guests will receive a complimentary glass of champagne upon arrival\, and afterwards a full bar will be available for purchase. Please make your reservations by 5:00 PM on Wednesday\, 12/23/24. Please add every member of your party to your reservation\, even children under the age of 4\, so we can seat you at a properly sized table. We are excited to see you on Christmas Eve at the Olympic Valley Events Center for a truly festive evening!
URL:https://oldediblerenotahoe.com/event/christmas-eve-dinner-at-palisades/
LOCATION:Olympic Village Event Center\, 1901 Chamonix Place\, Olympic Valley\, CA
END:VEVENT
BEGIN:VEVENT
DTSTART;TZID=America/Los_Angeles:20241223T190000
DTEND;TZID=America/Los_Angeles:20241223T210000
DTSTAMP:20260425T072901
CREATED:20240913T042111Z
LAST-MODIFIED:20240913T042111Z
UID:40110-1734980400-1734987600@oldediblerenotahoe.com
SUMMARY:Santa's Epic Holiday Show!
DESCRIPTION:A spectacular Holiday Cirque show featuring Holograms\, Projection Mapping\, Interactive Lasers and amazing cirque performers.
URL:https://oldediblerenotahoe.com/event/santas-epic-holiday-show-2024-12-23/
LOCATION:Grand Sierra Resort\, 2500 E 2nd St\, Reno\, NV
END:VEVENT
BEGIN:VEVENT
DTSTART;TZID=America/Los_Angeles:20241223T170000
DTEND;TZID=America/Los_Angeles:20241223T210000
DTSTAMP:20260425T072901
CREATED:20241130T203500Z
LAST-MODIFIED:20241130T203500Z
UID:40697-1734973200-1734987600@oldediblerenotahoe.com
SUMMARY:Liberty Food & Wine Exchange's Feast of the 7 Fishes
DESCRIPTION:
URL:https://oldediblerenotahoe.com/event/liberty-food-wine-exchanges-feast-of-the-7-fishes-2024-12-23/
LOCATION:NV
END:VEVENT
BEGIN:VEVENT
DTSTART;TZID=America/Los_Angeles:20241223T093000
DTEND;TZID=America/Los_Angeles:20241223T113000
DTSTAMP:20260425T072901
CREATED:20241021T193808Z
LAST-MODIFIED:20241021T193808Z
UID:40344-1734946200-1734953400@oldediblerenotahoe.com
SUMMARY:Cinnamon Roll Workshop
DESCRIPTION:
URL:https://oldediblerenotahoe.com/event/cinnamon-roll-workshop-2/
LOCATION:Nothing To It!\, 225 Crummer Lane\, Reno\, NV\, 89502\, United States
END:VEVENT
BEGIN:VEVENT
DTSTART;TZID=America/Los_Angeles:20241222T200000
DTEND;TZID=America/Los_Angeles:20241222T220000
DTSTAMP:20260425T072901
CREATED:20231227T224115Z
LAST-MODIFIED:20231227T224115Z
UID:39485-1734897600-1734904800@oldediblerenotahoe.com
SUMMARY:The Nutcracker
DESCRIPTION:The stage at the Pioneer Center for the Performing Arts will be alive with a sugar plum fairy and dancing mice as A.V.A. Ballet Theatre presents the annual Nutcracker Ballet.  Artistic director Alexander Van Alstyne has choreographed an exciting rendition of the popular holiday ballet and the Reno Philharmonic Orchestra will perform Tchaikovsky’s moving score. Laura Jackson will be conducting the orchestra. Due to popular demand\, we will continue to have a fifth performance. \nPrincipal dancers who have performed with professional ballet companies such as Ballet West\, Kansas City Ballet and the Diablo Ballet will perform the leading roles along side a large cast of local talent. \nA special Sugar Plum party will be held after the Saturday and Sunday afternoon performances where children can meet the Nutcracker characters.
URL:https://oldediblerenotahoe.com/event/the-nutcracker-2024-12-22/
LOCATION:Pioneer Center\, 100 S. Virginia St.\, Reno\, NV\, 89501
CATEGORIES:Dance,Holiday,Music
END:VEVENT
BEGIN:VEVENT
DTSTART;TZID=America/Los_Angeles:20241222T190000
DTEND;TZID=America/Los_Angeles:20241222T210000
DTSTAMP:20260425T072901
CREATED:20240913T042111Z
LAST-MODIFIED:20240913T042111Z
UID:40109-1734894000-1734901200@oldediblerenotahoe.com
SUMMARY:Santa's Epic Holiday Show!
DESCRIPTION:A spectacular Holiday Cirque show featuring Holograms\, Projection Mapping\, Interactive Lasers and amazing cirque performers.
URL:https://oldediblerenotahoe.com/event/santas-epic-holiday-show-2024-12-22/
LOCATION:Grand Sierra Resort\, 2500 E 2nd St\, Reno\, NV
END:VEVENT
END:VCALENDAR