BEGIN:VCALENDAR
VERSION:2.0
PRODID:-//Edible Reno-Tahoe - ECPv6.15.20//NONSGML v1.0//EN
CALSCALE:GREGORIAN
METHOD:PUBLISH
X-WR-CALNAME:Edible Reno-Tahoe
X-ORIGINAL-URL:https://oldediblerenotahoe.com
X-WR-CALDESC:Events for Edible Reno-Tahoe
REFRESH-INTERVAL;VALUE=DURATION:PT1H
X-Robots-Tag:noindex
X-PUBLISHED-TTL:PT1H
BEGIN:VTIMEZONE
TZID:America/Los_Angeles
BEGIN:DAYLIGHT
TZOFFSETFROM:-0800
TZOFFSETTO:-0700
TZNAME:PDT
DTSTART:20240310T100000
END:DAYLIGHT
BEGIN:STANDARD
TZOFFSETFROM:-0700
TZOFFSETTO:-0800
TZNAME:PST
DTSTART:20241103T090000
END:STANDARD
BEGIN:DAYLIGHT
TZOFFSETFROM:-0800
TZOFFSETTO:-0700
TZNAME:PDT
DTSTART:20250309T100000
END:DAYLIGHT
BEGIN:STANDARD
TZOFFSETFROM:-0700
TZOFFSETTO:-0800
TZNAME:PST
DTSTART:20251102T090000
END:STANDARD
BEGIN:DAYLIGHT
TZOFFSETFROM:-0800
TZOFFSETTO:-0700
TZNAME:PDT
DTSTART:20260308T100000
END:DAYLIGHT
BEGIN:STANDARD
TZOFFSETFROM:-0700
TZOFFSETTO:-0800
TZNAME:PST
DTSTART:20261101T090000
END:STANDARD
END:VTIMEZONE
BEGIN:VEVENT
DTSTART;TZID=America/Los_Angeles:20251129T160000
DTEND;TZID=America/Los_Angeles:20251129T210000
DTSTAMP:20260423T163425
CREATED:20250114T035446Z
LAST-MODIFIED:20250114T035446Z
UID:41191-1764432000-1764450000@oldediblerenotahoe.com
SUMMARY:Holiday Lights Festival
DESCRIPTION:Experience the magic of the holiday season at the Holiday Lights Festival\, a dazzling celebration that will illuminate downtown Reno from City Plaza to the iconic Reno Arch. Free for artists and local car clubs\, this enchanting event transforms the heart of Reno into a festive wonderland. \nIn partnership with the City of Reno’s annual Christmas tree lighting\, the festival features holiday train rides\, photos with Santa\, a charming Christmas Village\, and much more. With its blend of twinkling lights\, joyful activities\, and community spirit\, the Holiday Lights Festival is the perfect way to kick off the season in style.
URL:https://oldediblerenotahoe.com/event/holiday-lights-festival-2/
LOCATION:Reno City Plaza
END:VEVENT
BEGIN:VEVENT
DTSTART;TZID=America/Los_Angeles:20251123T090000
DTEND;TZID=America/Los_Angeles:20251123T130000
DTSTAMP:20260423T163425
CREATED:20250312T173605Z
LAST-MODIFIED:20250312T173605Z
UID:42072-1763888400-1763902800@oldediblerenotahoe.com
SUMMARY:Riverside Farmers Market
DESCRIPTION:The Riverside Farmers Market is Reno’s truly local market\, with all vendors growing\, raising\, or making their goods within the tightest possible radius around Reno. The event showcases small\, local\, and sustainable farmers and ranchers who believe that healthy food begins with a healthy land. They are also are home to Reno’s newest farmers and ranchers\, making it the perfect place to meet the fine folks growing food locally for the Truckee Meadows community.
URL:https://oldediblerenotahoe.com/event/riverside-farmers-market-4-2025-11-23/
LOCATION:Idlewild Park\, 1000 Cowan Dr.\, Reno\, NV\, 89509
END:VEVENT
BEGIN:VEVENT
DTSTART;TZID=America/Los_Angeles:20251121T180000
DTEND;TZID=America/Los_Angeles:20251121T210000
DTSTAMP:20260423T163425
CREATED:20250314T165822Z
LAST-MODIFIED:20250314T165822Z
UID:42465-1763748000-1763758800@oldediblerenotahoe.com
SUMMARY:Nevada Women's Fund's Power of the Purse
DESCRIPTION:
URL:https://oldediblerenotahoe.com/event/nevada-womens-funds-power-of-the-purse/
LOCATION:NV
END:VEVENT
BEGIN:VEVENT
DTSTART;TZID=America/Los_Angeles:20251116T180000
DTEND;TZID=America/Los_Angeles:20251116T210000
DTSTAMP:20260423T163425
CREATED:20250314T002240Z
LAST-MODIFIED:20250314T002240Z
UID:42425-1763316000-1763326800@oldediblerenotahoe.com
SUMMARY:Trees & Lights Gala
DESCRIPTION:
URL:https://oldediblerenotahoe.com/event/trees-lights-gala-2/
LOCATION:Grand Sierra Resort\, 2500 E 2nd St\, Reno\, NV
END:VEVENT
BEGIN:VEVENT
DTSTART;TZID=America/Los_Angeles:20251116T090000
DTEND;TZID=America/Los_Angeles:20251116T130000
DTSTAMP:20260423T163425
CREATED:20250312T173605Z
LAST-MODIFIED:20250312T173605Z
UID:42071-1763283600-1763298000@oldediblerenotahoe.com
SUMMARY:Riverside Farmers Market
DESCRIPTION:The Riverside Farmers Market is Reno’s truly local market\, with all vendors growing\, raising\, or making their goods within the tightest possible radius around Reno. The event showcases small\, local\, and sustainable farmers and ranchers who believe that healthy food begins with a healthy land. They are also are home to Reno’s newest farmers and ranchers\, making it the perfect place to meet the fine folks growing food locally for the Truckee Meadows community.
URL:https://oldediblerenotahoe.com/event/riverside-farmers-market-4-2025-11-16/
LOCATION:Idlewild Park\, 1000 Cowan Dr.\, Reno\, NV\, 89509
END:VEVENT
BEGIN:VEVENT
DTSTART;TZID=America/Los_Angeles:20251109T090000
DTEND;TZID=America/Los_Angeles:20251109T130000
DTSTAMP:20260423T163425
CREATED:20250312T173605Z
LAST-MODIFIED:20250312T173605Z
UID:42070-1762678800-1762693200@oldediblerenotahoe.com
SUMMARY:Riverside Farmers Market
DESCRIPTION:The Riverside Farmers Market is Reno’s truly local market\, with all vendors growing\, raising\, or making their goods within the tightest possible radius around Reno. The event showcases small\, local\, and sustainable farmers and ranchers who believe that healthy food begins with a healthy land. They are also are home to Reno’s newest farmers and ranchers\, making it the perfect place to meet the fine folks growing food locally for the Truckee Meadows community.
URL:https://oldediblerenotahoe.com/event/riverside-farmers-market-4-2025-11-09/
LOCATION:Idlewild Park\, 1000 Cowan Dr.\, Reno\, NV\, 89509
END:VEVENT
BEGIN:VEVENT
DTSTART;TZID=America/Los_Angeles:20251108T180000
DTEND;TZID=America/Los_Angeles:20251108T210000
DTSTAMP:20260423T163425
CREATED:20250314T165607Z
LAST-MODIFIED:20250314T165607Z
UID:42461-1762624800-1762635600@oldediblerenotahoe.com
SUMMARY:Chemistry of a Cocktail
DESCRIPTION:
URL:https://oldediblerenotahoe.com/event/chemistry-of-a-cocktail/
LOCATION:Terry Lee Wells Discovery Museum\, 490 S. Center Street\, Reno\, NV\, 89501
END:VEVENT
BEGIN:VEVENT
DTSTART;TZID=America/Los_Angeles:20251102T090000
DTEND;TZID=America/Los_Angeles:20251102T130000
DTSTAMP:20260423T163425
CREATED:20250312T173605Z
LAST-MODIFIED:20250312T173605Z
UID:42069-1762074000-1762088400@oldediblerenotahoe.com
SUMMARY:Riverside Farmers Market
DESCRIPTION:The Riverside Farmers Market is Reno’s truly local market\, with all vendors growing\, raising\, or making their goods within the tightest possible radius around Reno. The event showcases small\, local\, and sustainable farmers and ranchers who believe that healthy food begins with a healthy land. They are also are home to Reno’s newest farmers and ranchers\, making it the perfect place to meet the fine folks growing food locally for the Truckee Meadows community.
URL:https://oldediblerenotahoe.com/event/riverside-farmers-market-4-2025-11-02/
LOCATION:Idlewild Park\, 1000 Cowan Dr.\, Reno\, NV\, 89509
END:VEVENT
BEGIN:VEVENT
DTSTART;VALUE=DATE:20251101
DTEND;VALUE=DATE:20260101
DTSTAMP:20260423T163425
CREATED:20250314T165702Z
LAST-MODIFIED:20250314T165702Z
UID:42463-1761955200-1767225599@oldediblerenotahoe.com
SUMMARY:Reno Rodeo Foundation's Denim Drive
DESCRIPTION:
URL:https://oldediblerenotahoe.com/event/reno-rodeo-foundations-denim-drive/
LOCATION:NV
END:VEVENT
BEGIN:VEVENT
DTSTART;TZID=America/Los_Angeles:20251026T090000
DTEND;TZID=America/Los_Angeles:20251026T130000
DTSTAMP:20260423T163425
CREATED:20250312T173605Z
LAST-MODIFIED:20250312T173605Z
UID:42068-1761469200-1761483600@oldediblerenotahoe.com
SUMMARY:Riverside Farmers Market
DESCRIPTION:The Riverside Farmers Market is Reno’s truly local market\, with all vendors growing\, raising\, or making their goods within the tightest possible radius around Reno. The event showcases small\, local\, and sustainable farmers and ranchers who believe that healthy food begins with a healthy land. They are also are home to Reno’s newest farmers and ranchers\, making it the perfect place to meet the fine folks growing food locally for the Truckee Meadows community.
URL:https://oldediblerenotahoe.com/event/riverside-farmers-market-4-2025-10-26/
LOCATION:Idlewild Park\, 1000 Cowan Dr.\, Reno\, NV\, 89509
END:VEVENT
BEGIN:VEVENT
DTSTART;TZID=America/Los_Angeles:20251025T130000
DTEND;TZID=America/Los_Angeles:20251025T170000
DTSTAMP:20260423T163425
CREATED:20250209T222345Z
LAST-MODIFIED:20250209T222345Z
UID:41452-1761397200-1761411600@oldediblerenotahoe.com
SUMMARY:The Spirits Made Me Do It Saloon Crawl
DESCRIPTION:The Spirits Made Me Do It Saloon Crawl offers up a spine-tingling tasting tour through Virginia City. Watch out for apparitions lurking where you’d least expect it and embark on this tasty excursion through Virginia City’s many haunts as you sip and sample intoxicating elixirs and spooktacular sweets during the event. To keep you on your toes\, uncover haunted hiding spots to collect your spirits and the prize. \nThe saloons and merchants of Virginia City are oozing in anticipation to take you into the realm of the supernatural. Plus\, the locations are competing for your vote for the most enchanting cocktail\, creepiest crawl stop and most sincerely sweet treat. \nThe crawl takes place during “Hauntober” which celebrate Virginia City’s haunted status. From attempting to sleep in a haunted hotel to creepy tours and even lighted evening trains\, the town becomes an epicenter of all things spooky and fun.
URL:https://oldediblerenotahoe.com/event/the-spirits-made-me-do-it-saloon-crawl-2/
LOCATION:Virginia City
END:VEVENT
BEGIN:VEVENT
DTSTART;TZID=America/Los_Angeles:20251025T101500
DTEND;TZID=America/Los_Angeles:20251025T114500
DTSTAMP:20260423T163425
CREATED:20250312T183607Z
LAST-MODIFIED:20250312T183607Z
UID:42285-1761387300-1761392700@oldediblerenotahoe.com
SUMMARY:Orchard Hike with Farmer Brooke Hazen
DESCRIPTION:Walk the rolling hills of Gold Ridge Organic Farms with founder and farmer Brooke Hazen and explore the wonders within the 88 acres of organic olive\, apple\, and citrus trees. You’ll learn about the history of the farm\, its organic growing practice\, and can ask your most burning questions about apple and olive cultivation\, straight from the founder himself.
URL:https://oldediblerenotahoe.com/event/orchard-hike-with-farmer-brooke-hazen-2025-10-25/
LOCATION:Goldridge Organic Farms\, 3387 Canfield Rd.\, Sebastopol\, CA\, 95472
END:VEVENT
BEGIN:VEVENT
DTSTART;TZID=America/Los_Angeles:20251024T180000
DTEND;TZID=America/Los_Angeles:20251024T220000
DTSTAMP:20260423T163425
CREATED:20250314T165452Z
LAST-MODIFIED:20250314T165452Z
UID:42459-1761328800-1761343200@oldediblerenotahoe.com
SUMMARY:NYEP's Halloween Ball
DESCRIPTION:
URL:https://oldediblerenotahoe.com/event/nyeps-halloween-ball/
LOCATION:NV
END:VEVENT
BEGIN:VEVENT
DTSTART;TZID=America/Los_Angeles:20251019T090000
DTEND;TZID=America/Los_Angeles:20251019T130000
DTSTAMP:20260423T163425
CREATED:20250312T173605Z
LAST-MODIFIED:20250312T173605Z
UID:42067-1760864400-1760878800@oldediblerenotahoe.com
SUMMARY:Riverside Farmers Market
DESCRIPTION:The Riverside Farmers Market is Reno’s truly local market\, with all vendors growing\, raising\, or making their goods within the tightest possible radius around Reno. The event showcases small\, local\, and sustainable farmers and ranchers who believe that healthy food begins with a healthy land. They are also are home to Reno’s newest farmers and ranchers\, making it the perfect place to meet the fine folks growing food locally for the Truckee Meadows community.
URL:https://oldediblerenotahoe.com/event/riverside-farmers-market-4-2025-10-19/
LOCATION:Idlewild Park\, 1000 Cowan Dr.\, Reno\, NV\, 89509
END:VEVENT
BEGIN:VEVENT
DTSTART;TZID=America/Los_Angeles:20251017T100000
DTEND;TZID=America/Los_Angeles:20251017T140000
DTSTAMP:20260423T163425
CREATED:20250314T002003Z
LAST-MODIFIED:20250314T002003Z
UID:42421-1760695200-1760709600@oldediblerenotahoe.com
SUMMARY:Veterans Guest House's Champagne Brunch & Fashion Show
DESCRIPTION:
URL:https://oldediblerenotahoe.com/event/veterans-guest-houses-champagne-brunch-fashion-show/
LOCATION:NV
END:VEVENT
BEGIN:VEVENT
DTSTART;VALUE=DATE:20251017
DTEND;VALUE=DATE:20251019
DTSTAMP:20260423T163425
CREATED:20250314T002135Z
LAST-MODIFIED:20250314T002135Z
UID:42423-1760659200-1760831999@oldediblerenotahoe.com
SUMMARY:Haunted Hoops
DESCRIPTION:
URL:https://oldediblerenotahoe.com/event/haunted-hoops/
LOCATION:Urban Teaching Farm\, 1700 E 2nd Street\, Reno\, NV\, 89502
END:VEVENT
BEGIN:VEVENT
DTSTART;TZID=America/Los_Angeles:20251012T090000
DTEND;TZID=America/Los_Angeles:20251012T130000
DTSTAMP:20260423T163425
CREATED:20250312T173605Z
LAST-MODIFIED:20250312T173605Z
UID:42066-1760259600-1760274000@oldediblerenotahoe.com
SUMMARY:Riverside Farmers Market
DESCRIPTION:The Riverside Farmers Market is Reno’s truly local market\, with all vendors growing\, raising\, or making their goods within the tightest possible radius around Reno. The event showcases small\, local\, and sustainable farmers and ranchers who believe that healthy food begins with a healthy land. They are also are home to Reno’s newest farmers and ranchers\, making it the perfect place to meet the fine folks growing food locally for the Truckee Meadows community.
URL:https://oldediblerenotahoe.com/event/riverside-farmers-market-4-2025-10-12/
LOCATION:Idlewild Park\, 1000 Cowan Dr.\, Reno\, NV\, 89509
END:VEVENT
BEGIN:VEVENT
DTSTART;TZID=America/Los_Angeles:20251011T110000
DTEND;TZID=America/Los_Angeles:20251011T190000
DTSTAMP:20260423T163425
CREATED:20250114T035344Z
LAST-MODIFIED:20250114T035344Z
UID:41189-1760180400-1760209200@oldediblerenotahoe.com
SUMMARY:The Great Pumpkin Festival
DESCRIPTION:Celebrate fall at the Great Pumpkin Festival\, held at Idlewild Park in Reno and free to the public! Running from October 4th through October 11th\, this week-long festival offers a full midway with classic rides and games\, including a carousel\, Ferris wheel\, ring toss\, balloon pop\, and more. Enjoy the pumpkin patch\, live entertainment\, and a fall-themed artisan fair featuring over 100 vendors. It’s the perfect seasonal event for families and fall enthusiasts alike!
URL:https://oldediblerenotahoe.com/event/the-great-pumpkin-festival-2-2025-10-11/
LOCATION:Idlewild Park\, 1000 Cowan Dr.\, Reno\, NV\, 89509
END:VEVENT
BEGIN:VEVENT
DTSTART;TZID=America/Los_Angeles:20251010T110000
DTEND;TZID=America/Los_Angeles:20251010T190000
DTSTAMP:20260423T163425
CREATED:20250114T035344Z
LAST-MODIFIED:20250114T035344Z
UID:41188-1760094000-1760122800@oldediblerenotahoe.com
SUMMARY:The Great Pumpkin Festival
DESCRIPTION:Celebrate fall at the Great Pumpkin Festival\, held at Idlewild Park in Reno and free to the public! Running from October 4th through October 11th\, this week-long festival offers a full midway with classic rides and games\, including a carousel\, Ferris wheel\, ring toss\, balloon pop\, and more. Enjoy the pumpkin patch\, live entertainment\, and a fall-themed artisan fair featuring over 100 vendors. It’s the perfect seasonal event for families and fall enthusiasts alike!
URL:https://oldediblerenotahoe.com/event/the-great-pumpkin-festival-2-2025-10-10/
LOCATION:Idlewild Park\, 1000 Cowan Dr.\, Reno\, NV\, 89509
END:VEVENT
BEGIN:VEVENT
DTSTART;TZID=America/Los_Angeles:20251009T130000
DTEND;TZID=America/Los_Angeles:20251009T190000
DTSTAMP:20260423T163425
CREATED:20250114T035344Z
LAST-MODIFIED:20250114T035344Z
UID:41187-1760014800-1760036400@oldediblerenotahoe.com
SUMMARY:The Great Pumpkin Festival
DESCRIPTION:Celebrate fall at the Great Pumpkin Festival\, held at Idlewild Park in Reno and free to the public! Running from October 4th through October 11th\, this week-long festival offers a full midway with classic rides and games\, including a carousel\, Ferris wheel\, ring toss\, balloon pop\, and more. Enjoy the pumpkin patch\, live entertainment\, and a fall-themed artisan fair featuring over 100 vendors. It’s the perfect seasonal event for families and fall enthusiasts alike!
URL:https://oldediblerenotahoe.com/event/the-great-pumpkin-festival-2-2025-10-09/
LOCATION:Idlewild Park\, 1000 Cowan Dr.\, Reno\, NV\, 89509
END:VEVENT
BEGIN:VEVENT
DTSTART;TZID=America/Los_Angeles:20251008T130000
DTEND;TZID=America/Los_Angeles:20251008T190000
DTSTAMP:20260423T163425
CREATED:20250114T035344Z
LAST-MODIFIED:20250114T035344Z
UID:41186-1759928400-1759950000@oldediblerenotahoe.com
SUMMARY:The Great Pumpkin Festival
DESCRIPTION:Celebrate fall at the Great Pumpkin Festival\, held at Idlewild Park in Reno and free to the public! Running from October 4th through October 11th\, this week-long festival offers a full midway with classic rides and games\, including a carousel\, Ferris wheel\, ring toss\, balloon pop\, and more. Enjoy the pumpkin patch\, live entertainment\, and a fall-themed artisan fair featuring over 100 vendors. It’s the perfect seasonal event for families and fall enthusiasts alike!
URL:https://oldediblerenotahoe.com/event/the-great-pumpkin-festival-2-2025-10-08/
LOCATION:Idlewild Park\, 1000 Cowan Dr.\, Reno\, NV\, 89509
END:VEVENT
BEGIN:VEVENT
DTSTART;TZID=America/Los_Angeles:20251007T130000
DTEND;TZID=America/Los_Angeles:20251007T190000
DTSTAMP:20260423T163425
CREATED:20250114T035344Z
LAST-MODIFIED:20250114T035344Z
UID:41185-1759842000-1759863600@oldediblerenotahoe.com
SUMMARY:The Great Pumpkin Festival
DESCRIPTION:Celebrate fall at the Great Pumpkin Festival\, held at Idlewild Park in Reno and free to the public! Running from October 4th through October 11th\, this week-long festival offers a full midway with classic rides and games\, including a carousel\, Ferris wheel\, ring toss\, balloon pop\, and more. Enjoy the pumpkin patch\, live entertainment\, and a fall-themed artisan fair featuring over 100 vendors. It’s the perfect seasonal event for families and fall enthusiasts alike!
URL:https://oldediblerenotahoe.com/event/the-great-pumpkin-festival-2-2025-10-07/
LOCATION:Idlewild Park\, 1000 Cowan Dr.\, Reno\, NV\, 89509
END:VEVENT
BEGIN:VEVENT
DTSTART;TZID=America/Los_Angeles:20251006T130000
DTEND;TZID=America/Los_Angeles:20251006T190000
DTSTAMP:20260423T163425
CREATED:20250114T035344Z
LAST-MODIFIED:20250114T035344Z
UID:41184-1759755600-1759777200@oldediblerenotahoe.com
SUMMARY:The Great Pumpkin Festival
DESCRIPTION:Celebrate fall at the Great Pumpkin Festival\, held at Idlewild Park in Reno and free to the public! Running from October 4th through October 11th\, this week-long festival offers a full midway with classic rides and games\, including a carousel\, Ferris wheel\, ring toss\, balloon pop\, and more. Enjoy the pumpkin patch\, live entertainment\, and a fall-themed artisan fair featuring over 100 vendors. It’s the perfect seasonal event for families and fall enthusiasts alike!
URL:https://oldediblerenotahoe.com/event/the-great-pumpkin-festival-2-2025-10-06/
LOCATION:Idlewild Park\, 1000 Cowan Dr.\, Reno\, NV\, 89509
END:VEVENT
BEGIN:VEVENT
DTSTART;TZID=America/Los_Angeles:20251005T130000
DTEND;TZID=America/Los_Angeles:20251005T190000
DTSTAMP:20260423T163425
CREATED:20250114T035344Z
LAST-MODIFIED:20250114T035344Z
UID:41183-1759669200-1759690800@oldediblerenotahoe.com
SUMMARY:The Great Pumpkin Festival
DESCRIPTION:Celebrate fall at the Great Pumpkin Festival\, held at Idlewild Park in Reno and free to the public! Running from October 4th through October 11th\, this week-long festival offers a full midway with classic rides and games\, including a carousel\, Ferris wheel\, ring toss\, balloon pop\, and more. Enjoy the pumpkin patch\, live entertainment\, and a fall-themed artisan fair featuring over 100 vendors. It’s the perfect seasonal event for families and fall enthusiasts alike!
URL:https://oldediblerenotahoe.com/event/the-great-pumpkin-festival-2-2025-10-05/
LOCATION:Idlewild Park\, 1000 Cowan Dr.\, Reno\, NV\, 89509
END:VEVENT
BEGIN:VEVENT
DTSTART;TZID=America/Los_Angeles:20251005T090000
DTEND;TZID=America/Los_Angeles:20251005T130000
DTSTAMP:20260423T163425
CREATED:20250312T173605Z
LAST-MODIFIED:20250312T173605Z
UID:42065-1759654800-1759669200@oldediblerenotahoe.com
SUMMARY:Riverside Farmers Market
DESCRIPTION:The Riverside Farmers Market is Reno’s truly local market\, with all vendors growing\, raising\, or making their goods within the tightest possible radius around Reno. The event showcases small\, local\, and sustainable farmers and ranchers who believe that healthy food begins with a healthy land. They are also are home to Reno’s newest farmers and ranchers\, making it the perfect place to meet the fine folks growing food locally for the Truckee Meadows community.
URL:https://oldediblerenotahoe.com/event/riverside-farmers-market-4-2025-10-05/
LOCATION:Idlewild Park\, 1000 Cowan Dr.\, Reno\, NV\, 89509
END:VEVENT
BEGIN:VEVENT
DTSTART;TZID=America/Los_Angeles:20251004T180000
DTEND;TZID=America/Los_Angeles:20251004T210000
DTSTAMP:20260423T163425
CREATED:20250314T001859Z
LAST-MODIFIED:20250314T001859Z
UID:42419-1759600800-1759611600@oldediblerenotahoe.com
SUMMARY:Dinner on the Bridge
DESCRIPTION:
URL:https://oldediblerenotahoe.com/event/dinner-on-the-bridge-2/
LOCATION:NV
END:VEVENT
BEGIN:VEVENT
DTSTART;TZID=America/Los_Angeles:20251004T170000
DTEND;TZID=America/Los_Angeles:20251004T233000
DTSTAMP:20260423T163425
CREATED:20250314T165956Z
LAST-MODIFIED:20250314T165956Z
UID:42467-1759597200-1759620600@oldediblerenotahoe.com
SUMMARY:Reno Rodeo Foundation's Texas Hold 'Em Poker Tournament
DESCRIPTION:
URL:https://oldediblerenotahoe.com/event/reno-rodeo-foundations-texas-hold-em-poker-tournament/
LOCATION:New West Distributing\, Sparks\, NV
END:VEVENT
BEGIN:VEVENT
DTSTART;TZID=America/Los_Angeles:20251004T120000
DTEND;TZID=America/Los_Angeles:20251004T160000
DTSTAMP:20260423T163425
CREATED:20250209T222228Z
LAST-MODIFIED:20250209T222228Z
UID:41450-1759579200-1759593600@oldediblerenotahoe.com
SUMMARY:World Championship Outhouse Races
DESCRIPTION:Ready. Set. Push! America’s looniest loo race returns to historic Virginia City for a weekend flushed with fun. The 36th annual World Championship Outhouse Races is a free-to-attend\, quirky commode competition that takes over the center of town with costumed racers and their themed outhouses. Teams are pitted against each other two at a time in an all-out sprint down C Street. They’re rolling fast and all decked out for their shot at the latrine title and your vote for best outhouse. \nThousands line the historic boardwalks for this age-old toilet tradition. It is the only outhouse race in the U.S. that began as a political protest. One fateful day\, the use of outdoor toilets was banned\, and angry residents pushed\, pulled\, and dragged their outhouses to town hall. Now\, it’s the wackiest weekend of the year in Virginia City and an unforgettable way to explore everything the town has to offer! Grab lunch\, a unique gift and a drink at an iconic saloon before stepping out the doors for a front row seat to the races.
URL:https://oldediblerenotahoe.com/event/world-championship-outhouse-races/
LOCATION:Virginia City
END:VEVENT
BEGIN:VEVENT
DTSTART;TZID=America/Los_Angeles:20251004T110000
DTEND;TZID=America/Los_Angeles:20251004T190000
DTSTAMP:20260423T163425
CREATED:20250114T035344Z
LAST-MODIFIED:20250114T035344Z
UID:41182-1759575600-1759604400@oldediblerenotahoe.com
SUMMARY:The Great Pumpkin Festival
DESCRIPTION:Celebrate fall at the Great Pumpkin Festival\, held at Idlewild Park in Reno and free to the public! Running from October 4th through October 11th\, this week-long festival offers a full midway with classic rides and games\, including a carousel\, Ferris wheel\, ring toss\, balloon pop\, and more. Enjoy the pumpkin patch\, live entertainment\, and a fall-themed artisan fair featuring over 100 vendors. It’s the perfect seasonal event for families and fall enthusiasts alike!
URL:https://oldediblerenotahoe.com/event/the-great-pumpkin-festival-2/
LOCATION:Idlewild Park\, 1000 Cowan Dr.\, Reno\, NV\, 89509
END:VEVENT
BEGIN:VEVENT
DTSTART;TZID=America/Los_Angeles:20250929T070000
DTEND;TZID=America/Los_Angeles:20250929T170000
DTSTAMP:20260423T163425
CREATED:20250314T001752Z
LAST-MODIFIED:20250314T001752Z
UID:42416-1759129200-1759165200@oldediblerenotahoe.com
SUMMARY:Al Porta Memorial Golf Tournament
DESCRIPTION:
URL:https://oldediblerenotahoe.com/event/al-porta-memorial-golf-tournament/
LOCATION:Toiyabe Golf Course
END:VEVENT
END:VCALENDAR