BEGIN:VCALENDAR
VERSION:2.0
PRODID:-//Edible Reno-Tahoe - ECPv6.15.20//NONSGML v1.0//EN
CALSCALE:GREGORIAN
METHOD:PUBLISH
X-ORIGINAL-URL:https://oldediblerenotahoe.com
X-WR-CALDESC:Events for Edible Reno-Tahoe
REFRESH-INTERVAL;VALUE=DURATION:PT1H
X-Robots-Tag:noindex
X-PUBLISHED-TTL:PT1H
BEGIN:VTIMEZONE
TZID:America/Los_Angeles
BEGIN:DAYLIGHT
TZOFFSETFROM:-0800
TZOFFSETTO:-0700
TZNAME:PDT
DTSTART:20230312T100000
END:DAYLIGHT
BEGIN:STANDARD
TZOFFSETFROM:-0700
TZOFFSETTO:-0800
TZNAME:PST
DTSTART:20231105T090000
END:STANDARD
BEGIN:DAYLIGHT
TZOFFSETFROM:-0800
TZOFFSETTO:-0700
TZNAME:PDT
DTSTART:20240310T100000
END:DAYLIGHT
BEGIN:STANDARD
TZOFFSETFROM:-0700
TZOFFSETTO:-0800
TZNAME:PST
DTSTART:20241103T090000
END:STANDARD
BEGIN:DAYLIGHT
TZOFFSETFROM:-0800
TZOFFSETTO:-0700
TZNAME:PDT
DTSTART:20250309T100000
END:DAYLIGHT
BEGIN:STANDARD
TZOFFSETFROM:-0700
TZOFFSETTO:-0800
TZNAME:PST
DTSTART:20251102T090000
END:STANDARD
END:VTIMEZONE
BEGIN:VEVENT
DTSTART;TZID=America/Los_Angeles:20241006T090000
DTEND;TZID=America/Los_Angeles:20241006T130000
DTSTAMP:20260425T212006
CREATED:20231103T014135Z
LAST-MODIFIED:20231103T014135Z
UID:35270-1728205200-1728219600@oldediblerenotahoe.com
SUMMARY:Riverside Farmers Market
DESCRIPTION:The Riverside Farmers Market stands as Reno’s authentic local market\, exclusively featuring vendors who cultivate\, rear\, or craft their products within the immediate vicinity of the city. Highlighting small-scale\, community-focused\, and sustainable farmers and ranchers\, the market is a testament to the belief that the foundation of healthy food lies in the health of the land. It also serves as a welcoming platform for Reno’s emerging agricultural talents\, providing a space for residents to connect with those who are dedicated to nourishing the Truckee Meadows community through locally grown produce.
URL:https://oldediblerenotahoe.com/event/riverside-farmers-market-3-2024-10-06/
LOCATION:Idlewild Park\, 1000 Cowan Dr.\, Reno\, NV\, 89509
CATEGORIES:Farmers Market,Shopping
END:VEVENT
BEGIN:VEVENT
DTSTART;TZID=America/Los_Angeles:20241006T090000
DTEND;TZID=America/Los_Angeles:20241006T140000
DTSTAMP:20260425T212006
CREATED:20240212T180258Z
LAST-MODIFIED:20240212T180258Z
UID:37283-1728205200-1728223200@oldediblerenotahoe.com
SUMMARY:Practical Permaculture Class
DESCRIPTION:Imagine heading outside to your yard and being able to gather ingredients for a delicious main course or side dish. It is easier than you think. \nEvery site requires site-specific techniques\, and we’ll teach you how to identify what is needed to implement a successful project. \nStudents will gain the confidence to read their own landscapes and identify resources and weaknesses. Using permaculture design principles and the very best organic gardening techniques\, they will then learn how to plan and install a system for prolific production. \nLearn more at cobitat.org/practical-permaculture
URL:https://oldediblerenotahoe.com/event/practical-permaculture-class-2024-10-06/
LOCATION:NV
CATEGORIES:Community Class,Gardening
ATTACH;FMTTYPE=image/png:https://oldediblerenotahoe.com/wp-content/uploads/2024/02/IMG_20230702_070452234.png
END:VEVENT
BEGIN:VEVENT
DTSTART;TZID=America/Los_Angeles:20241006T100000
DTEND;TZID=America/Los_Angeles:20241006T130000
DTSTAMP:20260425T212006
CREATED:20241003T012518Z
LAST-MODIFIED:20241003T012518Z
UID:40179-1728208800-1728219600@oldediblerenotahoe.com
SUMMARY:Voices from the Past presented by Funtime Theater at Silver Terrace
DESCRIPTION:Silver Terrace Cemeteries and Funtime Theater present “Voices from the Past\,” a live production of Virginia City history. These shows allow you to “talk to the dead” as actors portray real 19th-century Comstockers.
URL:https://oldediblerenotahoe.com/event/voices-from-the-past-presented-by-funtime-theater-at-silver-terrace-2024-10-06/
LOCATION:Silver Terrace Cemeteries
END:VEVENT
BEGIN:VEVENT
DTSTART;TZID=America/Los_Angeles:20241006T100000
DTEND;TZID=America/Los_Angeles:20241006T160000
DTSTAMP:20260425T212006
CREATED:20240114T155116Z
LAST-MODIFIED:20240114T155116Z
UID:37064-1728208800-1728230400@oldediblerenotahoe.com
SUMMARY:The Great Pumpkin Festival
DESCRIPTION:Who doesn’t love fall? In addition to the one hundred artists\, you can off the fall season with: pumpkin throwing\, pumpkin beer & treats\, pumpkin crafts & activities\, and more! \nThe Festival is geared towards the family and guarantees to find something every member will enjoy.
URL:https://oldediblerenotahoe.com/event/the-great-pumpkin-festival-2024-10-06/
LOCATION:McKinley Arts and Culture Center\, 925 Riverside Dr.\, Reno\, NV
CATEGORIES:Arts,Holiday
END:VEVENT
BEGIN:VEVENT
DTSTART;TZID=America/Los_Angeles:20241006T100000
DTEND;TZID=America/Los_Angeles:20241006T170000
DTSTAMP:20260425T212006
CREATED:20241003T014735Z
LAST-MODIFIED:20241003T014735Z
UID:40235-1728208800-1728234000@oldediblerenotahoe.com
SUMMARY:Oktoberfest at Camp Richardson Resort
DESCRIPTION:Join us for Lake Tahoe’s most authentic Oktoberfest\, October 5 & 6\, from 10am to 5pm! Come early and enjoy FREE Parking\, FREE Bike Valet\, FREE Admission\, Beer & Wine Garden\, Traditional Bavarian Food\, Live Music\, Vendor Booths\, Special Events & Games\, and Kid Activities. \nSchedule of Events:\nSaturday:\n11:00 am – The Studio’s Shining Stars\n12:00 pm – Gruber Family Band\n1:00 pm – Stein Hold or Yodeling Contest\n2:00 pm – Owner & Pet Costume Contest\n3:00 pm – Stein Hold or Yodeling Contest \nSunday:\n11:00 am – The Studio’s Shining Stars\n12:00 pm – Gruber Family Band\n1:00 pm – Stein Hold or Yodeling Contest\n2:00 pm – Owner & Pet Costume Contest\n3:00 pm – Stein Hold or Yodeling Contest
URL:https://oldediblerenotahoe.com/event/oktoberfest-at-camp-richardson-resort-2024-10-06/
LOCATION:Camp Richardson Resort
END:VEVENT
BEGIN:VEVENT
DTSTART;TZID=America/Los_Angeles:20241006T103000
DTEND;TZID=America/Los_Angeles:20241006T143000
DTSTAMP:20260425T212006
CREATED:20230922T193120Z
LAST-MODIFIED:20230922T193120Z
UID:36283-1728210600-1728225000@oldediblerenotahoe.com
SUMMARY:Sunday Music Brunch
DESCRIPTION:Sunday Music Brunch at the Nevada Museum of Art Café is the perfect precursor to an afternoon exploring galleries. Chef Colin Smith has updated the menu to include an eclectic array of options from traditional breakfast fare to lunch options–both of which pair nicely with juice\, coffee\, champagne or a mimosa. Enjoy live music by Colin Ross from 11:30 to 2:30. Doors open at 10:30 am and service continues until 2:30 pm. Reservations are required for parties of five or more\, but encouraged for all as space is limited. Museum members receive 10% savings as a benefit of membership. \nCall the Café at 775-284-2921 for more information.
URL:https://oldediblerenotahoe.com/event/sundaymusicbrunch-2024-10-06/
LOCATION:Nevada Museum of Art\, 160 West Liberty\, Reno\, Nevada\, 89501
CATEGORIES:Food & Drink,Music
ATTACH;FMTTYPE=image/jpeg:https://oldediblerenotahoe.com/wp-content/uploads/2023/09/Roundabout_CafeAtNMA-Spring2022-3186-768x432-1.jpg
END:VEVENT
BEGIN:VEVENT
DTSTART;TZID=America/Los_Angeles:20241006T110000
DTEND;TZID=America/Los_Angeles:20241006T140000
DTSTAMP:20260425T212006
CREATED:20240118T233701Z
LAST-MODIFIED:20240118T233701Z
UID:37162-1728212400-1728223200@oldediblerenotahoe.com
SUMMARY:Green College Class: Scarecrow Building
DESCRIPTION:
URL:https://oldediblerenotahoe.com/event/scarecrowbuilding-2024-10-06/
LOCATION:Rail City Garden Center\, 1720 Brierley Way\, Sparks\, NV\, 89434
CATEGORIES:Gardening
END:VEVENT
BEGIN:VEVENT
DTSTART;TZID=America/Los_Angeles:20241006T120000
DTEND;TZID=America/Los_Angeles:20241006T180000
DTSTAMP:20260425T212006
CREATED:20240713T221609Z
LAST-MODIFIED:20240713T221609Z
UID:39352-1728216000-1728237600@oldediblerenotahoe.com
SUMMARY:Nugget Casino Resort Oktoberfest
DESCRIPTION:
URL:https://oldediblerenotahoe.com/event/nugget-casino-resort-oktoberfest-2024-10-06/
LOCATION:Nugget Casino Resort\, 1100 Nugget Avenue\,\, Sparks\, NV
END:VEVENT
BEGIN:VEVENT
DTSTART;TZID=America/Los_Angeles:20241006T160000
DTEND;TZID=America/Los_Angeles:20241006T180000
DTSTAMP:20260425T212006
CREATED:20240713T214052Z
LAST-MODIFIED:20240713T224438Z
UID:39377-1728230400-1728237600@oldediblerenotahoe.com
SUMMARY:Magique - The Show of Shows
DESCRIPTION:Magique is Reno’s resident five-star attraction that is sure to amaze and entertain audiences of all ages. Featuring a cast of 10\, Magique is a whirlwind of excitement with over 20 grand illusions\, 100+ elaborate handmade costumes\, an epic soundtrack\, and special effects galore. Magique is the perfect event for your night out in Reno. Magique is truly the show of shows with hundreds of rave reviews on TripAdvisor\, Yelp\, Google and Facebook. Don’t miss this unique Reno experience!
URL:https://oldediblerenotahoe.com/event/magique-the-show-of-shows-2024-10-06/
LOCATION:The Theatre\, 505 Keystone Ave\, Reno\, NV\, 89503
END:VEVENT
BEGIN:VEVENT
DTSTART;TZID=America/Los_Angeles:20241006T170000
DTEND;TZID=America/Los_Angeles:20241006T210000
DTSTAMP:20260425T212006
CREATED:20240712T002034Z
LAST-MODIFIED:20240712T002034Z
UID:39234-1728234000-1728248400@oldediblerenotahoe.com
SUMMARY:Dragon Lights
DESCRIPTION:Dragon Lights Reno returns to the enchanting setting of Wilbur D. May Arboretum and Botanic Gardens in Rancho San Rafael Park. Embracing the shift in seasons\, this year’s event unveils exciting new themes sure to captivate guests of all ages.
URL:https://oldediblerenotahoe.com/event/dragon-lights-2024-10-06/
LOCATION:Wilbur D. May Arboretum and Botanical Garden\, Reno
END:VEVENT
BEGIN:VEVENT
DTSTART;TZID=America/Los_Angeles:20241007T170000
DTEND;TZID=America/Los_Angeles:20241007T210000
DTSTAMP:20260425T212006
CREATED:20240712T002034Z
LAST-MODIFIED:20240712T002034Z
UID:39235-1728320400-1728334800@oldediblerenotahoe.com
SUMMARY:Dragon Lights
DESCRIPTION:Dragon Lights Reno returns to the enchanting setting of Wilbur D. May Arboretum and Botanic Gardens in Rancho San Rafael Park. Embracing the shift in seasons\, this year’s event unveils exciting new themes sure to captivate guests of all ages.
URL:https://oldediblerenotahoe.com/event/dragon-lights-2024-10-07/
LOCATION:Wilbur D. May Arboretum and Botanical Garden\, Reno
END:VEVENT
BEGIN:VEVENT
DTSTART;TZID=America/Los_Angeles:20241007T180000
DTEND;TZID=America/Los_Angeles:20241007T203000
DTSTAMP:20260425T212006
CREATED:20240811T014525Z
LAST-MODIFIED:20240811T014525Z
UID:39666-1728324000-1728333000@oldediblerenotahoe.com
SUMMARY:Sushi 101
DESCRIPTION:Learn to make several varieties of the popular Japanese dish in this hands-on class. To a base of vinegared rice with a little sugar and salt\, add seafood — often raw — and vegetables. Make California rolls with avocado\, cucumber and lump crab meat; Rainbow rolls\, a California roll with fresh fish on top; and Philadelphia rolls with smoked salmon\, cream cheese\, crunchy cucumber and pickled red onions. $50 materials fee
URL:https://oldediblerenotahoe.com/event/sushi-101/
LOCATION:Café de Thai\, 760 S Virginia St\, Reno\, NV\, 89501
END:VEVENT
BEGIN:VEVENT
DTSTART;VALUE=DATE:20241008
DTEND;VALUE=DATE:20241009
DTSTAMP:20260425T212006
CREATED:20240912T161718Z
LAST-MODIFIED:20240912T161718Z
UID:39980-1728345600-1728431999@oldediblerenotahoe.com
SUMMARY:Andelin Farm 5-Acre Corn Maze
DESCRIPTION:
URL:https://oldediblerenotahoe.com/event/andelin-farm-5-acre-corn-maze-2024-10-08/
LOCATION:Andelin Family Farm\, 8100 Pyramid Way\, Spanish Springs\, NV\, 89436
END:VEVENT
BEGIN:VEVENT
DTSTART;TZID=America/Los_Angeles:20241008T083000
DTEND;TZID=America/Los_Angeles:20241008T093000
DTSTAMP:20260425T212006
CREATED:20241003T014347Z
LAST-MODIFIED:20241003T014347Z
UID:40220-1728376200-1728379800@oldediblerenotahoe.com
SUMMARY:Farm Homeschool Program
DESCRIPTION:Our Farm Homeschool Program is the perfect way for your homeschooler to dive into hands-on gardening at the farm. Whether your child loves mingling with a group or prefers a solo adventure\, this program is the place for them to grow\, learn\, and make some feathered (and non-feathered) friends while engaging in our STEAM curriculum. This time\, it’s Science Fair Month! It’s the perfect time to experiment with all things Fall and discover the wonders of the season through fun\, interactive activities.
URL:https://oldediblerenotahoe.com/event/farm-homeschool-program-2024-10-08/
LOCATION:Urban Teaching Farm\, 1700 E 2nd Street\, Reno\, NV\, 89502
END:VEVENT
BEGIN:VEVENT
DTSTART;VALUE=DATE:20241009
DTEND;VALUE=DATE:20241010
DTSTAMP:20260425T212006
CREATED:20240912T161650Z
LAST-MODIFIED:20240912T161650Z
UID:39958-1728432000-1728518399@oldediblerenotahoe.com
SUMMARY:Andelin Farm Fall Festival
DESCRIPTION:
URL:https://oldediblerenotahoe.com/event/andelin-farm-fall-festival-2024-10-09/
LOCATION:Andelin Family Farm\, 8100 Pyramid Way\, Spanish Springs\, NV\, 89436
END:VEVENT
BEGIN:VEVENT
DTSTART;VALUE=DATE:20241009
DTEND;VALUE=DATE:20241010
DTSTAMP:20260425T212006
CREATED:20240912T161718Z
LAST-MODIFIED:20240912T161718Z
UID:39981-1728432000-1728518399@oldediblerenotahoe.com
SUMMARY:Andelin Farm 5-Acre Corn Maze
DESCRIPTION:
URL:https://oldediblerenotahoe.com/event/andelin-farm-5-acre-corn-maze-2024-10-09/
LOCATION:Andelin Family Farm\, 8100 Pyramid Way\, Spanish Springs\, NV\, 89436
END:VEVENT
BEGIN:VEVENT
DTSTART;VALUE=DATE:20241010
DTEND;VALUE=DATE:20241011
DTSTAMP:20260425T212006
CREATED:20240912T161650Z
LAST-MODIFIED:20240912T161650Z
UID:39959-1728518400-1728604799@oldediblerenotahoe.com
SUMMARY:Andelin Farm Fall Festival
DESCRIPTION:
URL:https://oldediblerenotahoe.com/event/andelin-farm-fall-festival-2024-10-10/
LOCATION:Andelin Family Farm\, 8100 Pyramid Way\, Spanish Springs\, NV\, 89436
END:VEVENT
BEGIN:VEVENT
DTSTART;VALUE=DATE:20241010
DTEND;VALUE=DATE:20241011
DTSTAMP:20260425T212006
CREATED:20240912T161718Z
LAST-MODIFIED:20240912T161718Z
UID:39982-1728518400-1728604799@oldediblerenotahoe.com
SUMMARY:Andelin Farm 5-Acre Corn Maze
DESCRIPTION:
URL:https://oldediblerenotahoe.com/event/andelin-farm-5-acre-corn-maze-2024-10-10/
LOCATION:Andelin Family Farm\, 8100 Pyramid Way\, Spanish Springs\, NV\, 89436
END:VEVENT
BEGIN:VEVENT
DTSTART;VALUE=DATE:20241010
DTEND;VALUE=DATE:20241011
DTSTAMP:20260425T212006
CREATED:20240912T161833Z
LAST-MODIFIED:20240912T161833Z
UID:39943-1728518400-1728604799@oldediblerenotahoe.com
SUMMARY:Zombie Paintball & Corn Creepers
DESCRIPTION:
URL:https://oldediblerenotahoe.com/event/zombie-paintball-corn-creepers-2024-10-10/
LOCATION:Andelin Family Farm\, 8100 Pyramid Way\, Spanish Springs\, NV\, 89436
END:VEVENT
BEGIN:VEVENT
DTSTART;TZID=America/Los_Angeles:20241010T083000
DTEND;TZID=America/Los_Angeles:20241010T093000
DTSTAMP:20260425T212006
CREATED:20241003T014347Z
LAST-MODIFIED:20241003T014347Z
UID:40221-1728549000-1728552600@oldediblerenotahoe.com
SUMMARY:Farm Homeschool Program
DESCRIPTION:Our Farm Homeschool Program is the perfect way for your homeschooler to dive into hands-on gardening at the farm. Whether your child loves mingling with a group or prefers a solo adventure\, this program is the place for them to grow\, learn\, and make some feathered (and non-feathered) friends while engaging in our STEAM curriculum. This time\, it’s Science Fair Month! It’s the perfect time to experiment with all things Fall and discover the wonders of the season through fun\, interactive activities.
URL:https://oldediblerenotahoe.com/event/farm-homeschool-program-2024-10-10/
LOCATION:Urban Teaching Farm\, 1700 E 2nd Street\, Reno\, NV\, 89502
END:VEVENT
BEGIN:VEVENT
DTSTART;TZID=America/Los_Angeles:20241010T090000
DTEND;TZID=America/Los_Angeles:20241010T110000
DTSTAMP:20260425T212006
CREATED:20240913T032718Z
LAST-MODIFIED:20240913T032718Z
UID:40054-1728550800-1728558000@oldediblerenotahoe.com
SUMMARY:Healthy Communities with Kim Foster
DESCRIPTION:Food is a conduit for connection; we envision smiling families gathered around a table—eating\, happy\, content. But what happens when poverty\, mental illness\, homelessness\, and addiction claim a seat at that table? In The Meth Lunches\, author Kim Foster reveals stories of difficulty intertwined with hope\, of the insurmountable obstacles and fierce determination all playing out on the plates of ordinary Americans. It’s a bold invitation to pull up a chair and reconsider our responsibilities to the most vulnerable among us.
URL:https://oldediblerenotahoe.com/event/healthy-communities-with-kim-foster-2/
LOCATION:Silver City Schoolhouse\, 385 High Street\, Silver City\, NV\, 89428
END:VEVENT
BEGIN:VEVENT
DTSTART;TZID=America/Los_Angeles:20241010T180000
DTEND;TZID=America/Los_Angeles:20241010T200000
DTSTAMP:20260425T212006
CREATED:20240811T005812Z
LAST-MODIFIED:20240811T005812Z
UID:39587-1728583200-1728590400@oldediblerenotahoe.com
SUMMARY:Pho and Asian Spring Rolls Class
DESCRIPTION:
URL:https://oldediblerenotahoe.com/event/pho-and-asian-spring-rolls-class/
LOCATION:Nothing To It!\, 225 Crummer Lane\, Reno\, NV\, 89502\, United States
END:VEVENT
BEGIN:VEVENT
DTSTART;TZID=America/Los_Angeles:20241010T180000
DTEND;TZID=America/Los_Angeles:20241010T210000
DTSTAMP:20260425T212006
CREATED:20240811T003516Z
LAST-MODIFIED:20240811T003516Z
UID:39542-1728583200-1728594000@oldediblerenotahoe.com
SUMMARY:Green Gala and Golden Pinecone Sustainability Awards 2024
DESCRIPTION:Join Nevada Green Business for an unforgettable evening at The Green Gala\, where sustainability meets art\, fashion\, and exquisite dining. This event is a celebration of creativity and eco-consciousness\, captivating attendees with extravagant attire and costuming inspired by the beauty of nature.
URL:https://oldediblerenotahoe.com/event/green-gala-and-golden-pinecone-sustainability-awards-2024/
LOCATION:Wilbur D. May Arboretum and Botanical Garden\, Reno
END:VEVENT
BEGIN:VEVENT
DTSTART;TZID=America/Los_Angeles:20241010T200000
DTEND;TZID=America/Los_Angeles:20241010T220000
DTSTAMP:20260425T212006
CREATED:20240713T223210Z
LAST-MODIFIED:20240713T223210Z
UID:39374-1728590400-1728597600@oldediblerenotahoe.com
SUMMARY:Godsmack
DESCRIPTION:Boston hard rock titan Godsmack has racked up a staggering legacy in the past 20 years – eleven #1 singles\, 20 Top 10 hits\, four Grammy nominations\, and more than 20 million records sold worldwide. Plan on enjoying an epic night of hard rock with hits like Bulletproof\, Unforgettable\, When Legends Rise\, and more from Billboard Music Award’s 2001 Rock Artist of the Year.
URL:https://oldediblerenotahoe.com/event/godsmack/
LOCATION:Grand Sierra Resort\, 2500 E 2nd St\, Reno\, NV
END:VEVENT
BEGIN:VEVENT
DTSTART;VALUE=DATE:20241011
DTEND;VALUE=DATE:20241013
DTSTAMP:20260425T212006
CREATED:20240526T212156Z
LAST-MODIFIED:20240526T212156Z
UID:38791-1728604800-1728777599@oldediblerenotahoe.com
SUMMARY:Backroads Vintage Market
DESCRIPTION:
URL:https://oldediblerenotahoe.com/event/backroads-vintage-market/
LOCATION:Rafter 3C Arena\, 227 Sheckler Road\, Fallon\, NV
CATEGORIES:Shopping
END:VEVENT
BEGIN:VEVENT
DTSTART;VALUE=DATE:20241011
DTEND;VALUE=DATE:20241013
DTSTAMP:20260425T212006
CREATED:20240912T161521Z
LAST-MODIFIED:20240912T161521Z
UID:39933-1728604800-1728777599@oldediblerenotahoe.com
SUMMARY:Tahoe Literary Festival
DESCRIPTION:Author and naturalist Obi Kaufmann will be the keynote speaker for the inaugural Tahoe Literary Festival being held Oct. 11 and 12 in Tahoe City. \nKaufmann will speak on Oct. 12 as part of the tour for his newest book\, “The State of Fire\, Why California Burns\,” to be released in September. Kaufmann will also sign copies of his book at the event. \nThe festival kicks off with a free literary open mic night on Oct. 11. On Oct. 12\, enjoy a morning keynote with Wildbound PR founders Jared and Julia Drake\, following panels\, workshops and discussions with local journalists\, poets and authors. The festival concludes on Oct. 12 with a Songwriters’ Showcase.
URL:https://oldediblerenotahoe.com/event/tahoe-literary-festival/
LOCATION:Tahoe City
END:VEVENT
BEGIN:VEVENT
DTSTART;VALUE=DATE:20241011
DTEND;VALUE=DATE:20241012
DTSTAMP:20260425T212006
CREATED:20240912T161650Z
LAST-MODIFIED:20240912T161650Z
UID:39960-1728604800-1728691199@oldediblerenotahoe.com
SUMMARY:Andelin Farm Fall Festival
DESCRIPTION:
URL:https://oldediblerenotahoe.com/event/andelin-farm-fall-festival-2024-10-11/
LOCATION:Andelin Family Farm\, 8100 Pyramid Way\, Spanish Springs\, NV\, 89436
END:VEVENT
BEGIN:VEVENT
DTSTART;VALUE=DATE:20241011
DTEND;VALUE=DATE:20241012
DTSTAMP:20260425T212006
CREATED:20240912T161718Z
LAST-MODIFIED:20240912T161718Z
UID:39983-1728604800-1728691199@oldediblerenotahoe.com
SUMMARY:Andelin Farm 5-Acre Corn Maze
DESCRIPTION:
URL:https://oldediblerenotahoe.com/event/andelin-farm-5-acre-corn-maze-2024-10-11/
LOCATION:Andelin Family Farm\, 8100 Pyramid Way\, Spanish Springs\, NV\, 89436
END:VEVENT
BEGIN:VEVENT
DTSTART;VALUE=DATE:20241011
DTEND;VALUE=DATE:20241012
DTSTAMP:20260425T212006
CREATED:20240912T161833Z
LAST-MODIFIED:20240912T161833Z
UID:39944-1728604800-1728691199@oldediblerenotahoe.com
SUMMARY:Zombie Paintball & Corn Creepers
DESCRIPTION:
URL:https://oldediblerenotahoe.com/event/zombie-paintball-corn-creepers-2024-10-11/
LOCATION:Andelin Family Farm\, 8100 Pyramid Way\, Spanish Springs\, NV\, 89436
END:VEVENT
BEGIN:VEVENT
DTSTART;TZID=America/Los_Angeles:20241011T120000
DTEND;TZID=America/Los_Angeles:20241011T150000
DTSTAMP:20260425T212006
CREATED:20240811T013641Z
LAST-MODIFIED:20240811T013641Z
UID:39649-1728648000-1728658800@oldediblerenotahoe.com
SUMMARY:Backyard Beekeeping Class
DESCRIPTION:Discover what you need to do to keep happy\, healthy and productive bees\, as a hobby. Whether you want to keep bees for honey production\, improved pollination of your veggies\, or simply for the enjoyment of living in harmony with these amazing insects\, this class is for you.  Understand the environmental importance of honey bees as well as native bees and what it takes to raise them.  Learn about the equipment\, costs\, and environmental concerns about raising healthy colonies of honey bees in your back yard.  Learn traditional methods of maximizing honey production as well as more recent trends in “natural” beekeeping. Delve into their biology and husbandry needs\, bee problems and treatments\, harvesting and the many uses of bee products. Discuss initial and long-term investment costs. $10 materials fee
URL:https://oldediblerenotahoe.com/event/backyard-beekeeping-class-2024-10-11/
LOCATION:NV
END:VEVENT
END:VCALENDAR