BEGIN:VCALENDAR
VERSION:2.0
PRODID:-//Edible Reno-Tahoe - ECPv6.15.20//NONSGML v1.0//EN
CALSCALE:GREGORIAN
METHOD:PUBLISH
X-ORIGINAL-URL:https://oldediblerenotahoe.com
X-WR-CALDESC:Events for Edible Reno-Tahoe
REFRESH-INTERVAL;VALUE=DURATION:PT1H
X-Robots-Tag:noindex
X-PUBLISHED-TTL:PT1H
BEGIN:VTIMEZONE
TZID:America/Los_Angeles
BEGIN:DAYLIGHT
TZOFFSETFROM:-0800
TZOFFSETTO:-0700
TZNAME:PDT
DTSTART:20230312T100000
END:DAYLIGHT
BEGIN:STANDARD
TZOFFSETFROM:-0700
TZOFFSETTO:-0800
TZNAME:PST
DTSTART:20231105T090000
END:STANDARD
BEGIN:DAYLIGHT
TZOFFSETFROM:-0800
TZOFFSETTO:-0700
TZNAME:PDT
DTSTART:20240310T100000
END:DAYLIGHT
BEGIN:STANDARD
TZOFFSETFROM:-0700
TZOFFSETTO:-0800
TZNAME:PST
DTSTART:20241103T090000
END:STANDARD
BEGIN:DAYLIGHT
TZOFFSETFROM:-0800
TZOFFSETTO:-0700
TZNAME:PDT
DTSTART:20250309T100000
END:DAYLIGHT
BEGIN:STANDARD
TZOFFSETFROM:-0700
TZOFFSETTO:-0800
TZNAME:PST
DTSTART:20251102T090000
END:STANDARD
END:VTIMEZONE
BEGIN:VEVENT
DTSTART;TZID=America/Los_Angeles:20241018T180000
DTEND;TZID=America/Los_Angeles:20241018T210000
DTSTAMP:20260425T212004
CREATED:20241021T195712Z
LAST-MODIFIED:20241021T195712Z
UID:40374-1729274400-1729285200@oldediblerenotahoe.com
SUMMARY:Taste of Italy Dinner in the Cucina
DESCRIPTION:
URL:https://oldediblerenotahoe.com/event/taste-of-italy-dinner-in-the-cucina/
LOCATION:Sierra Chef\, 2292 Main Street\, Genoa\, NV
END:VEVENT
BEGIN:VEVENT
DTSTART;TZID=America/Los_Angeles:20241018T190000
DTEND;TZID=America/Los_Angeles:20241018T210000
DTSTAMP:20260425T212004
CREATED:20241021T194516Z
LAST-MODIFIED:20241021T194516Z
UID:40355-1729278000-1729285200@oldediblerenotahoe.com
SUMMARY:Italian Big Reds Dinner
DESCRIPTION:This will be a Course Tasting Menu with paired wines. Barolo and Brunello di Montalcino are among the world’s most celebrated wines. Taste the differences between Barolo (a highly tannic\, highly aromatic red wine made from Nebiolo grapes) and Brunello di Montalcino (a dense and powerful red wine made from 100% Sangiovese; generally less tannic\, lower alcohol and acidity).
URL:https://oldediblerenotahoe.com/event/italian-big-reds-dinner/
LOCATION:The Flavor Studio\, 5303 Louie Lane\, Suite 1\, Reno\, NV
END:VEVENT
BEGIN:VEVENT
DTSTART;TZID=America/Los_Angeles:20241018T200000
DTEND;TZID=America/Los_Angeles:20241018T220000
DTSTAMP:20260425T212004
CREATED:20240713T214052Z
LAST-MODIFIED:20240713T224438Z
UID:39379-1729281600-1729288800@oldediblerenotahoe.com
SUMMARY:Magique - The Show of Shows
DESCRIPTION:Magique is Reno’s resident five-star attraction that is sure to amaze and entertain audiences of all ages. Featuring a cast of 10\, Magique is a whirlwind of excitement with over 20 grand illusions\, 100+ elaborate handmade costumes\, an epic soundtrack\, and special effects galore. Magique is the perfect event for your night out in Reno. Magique is truly the show of shows with hundreds of rave reviews on TripAdvisor\, Yelp\, Google and Facebook. Don’t miss this unique Reno experience!
URL:https://oldediblerenotahoe.com/event/magique-the-show-of-shows-2024-10-18/
LOCATION:The Theatre\, 505 Keystone Ave\, Reno\, NV\, 89503
END:VEVENT
BEGIN:VEVENT
DTSTART;TZID=America/Los_Angeles:20241018T200000
DTEND;TZID=America/Los_Angeles:20241018T220000
DTSTAMP:20260425T212004
CREATED:20240713T224902Z
LAST-MODIFIED:20240713T224902Z
UID:39416-1729281600-1729288800@oldediblerenotahoe.com
SUMMARY:Intocable
DESCRIPTION:Intocable\, possibly one of the most influential groups in today’s Tejano music\, is celebrating thirty years of award-winning music\, racking up more than 20 Latin Top 10 hits along the way. \nTheir signature sound of strong hooks\, with tightly stacked vocal harmony\, and romantic story telling crafted fan favorites like Caminare\, Te Perdono\, Llueve\, Eso Duele\, Eres Mi Droga\, Amor Maldito\, and more. \nThe ride hasn’t been all smooth sailing\, however. In 1999\, the group tragically lost two band members\, José Ángel Farias and Silvestre Rodrigues\, plus their road manager José Ángel González in a car accident in Monterrey\, Nuevo León. Their 1999 album\, Contigo\, included chart-topping El Amgio Que Se Fue\, in honor of their fallen members\, created a whole new wave of fans and success for the group. \nIntocable has also become an award show standard\, with two Latin Grammy for Best Norteño Album in 2005 and 2013\, a Grammy for Best Norteño Album in 2011\, and a Billboard Latin Music Lifetime Achievement Award in 2012.
URL:https://oldediblerenotahoe.com/event/intocable/
LOCATION:Grand Sierra Resort\, 2500 E 2nd St\, Reno\, NV
END:VEVENT
BEGIN:VEVENT
DTSTART;VALUE=DATE:20241019
DTEND;VALUE=DATE:20241020
DTSTAMP:20260425T212004
CREATED:20240912T161650Z
LAST-MODIFIED:20240912T161650Z
UID:39965-1729296000-1729382399@oldediblerenotahoe.com
SUMMARY:Andelin Farm Fall Festival
DESCRIPTION:
URL:https://oldediblerenotahoe.com/event/andelin-farm-fall-festival-2024-10-19/
LOCATION:Andelin Family Farm\, 8100 Pyramid Way\, Spanish Springs\, NV\, 89436
END:VEVENT
BEGIN:VEVENT
DTSTART;VALUE=DATE:20241019
DTEND;VALUE=DATE:20241020
DTSTAMP:20260425T212004
CREATED:20240912T161718Z
LAST-MODIFIED:20240912T161718Z
UID:39989-1729296000-1729382399@oldediblerenotahoe.com
SUMMARY:Andelin Farm 5-Acre Corn Maze
DESCRIPTION:
URL:https://oldediblerenotahoe.com/event/andelin-farm-5-acre-corn-maze-2024-10-19/
LOCATION:Andelin Family Farm\, 8100 Pyramid Way\, Spanish Springs\, NV\, 89436
END:VEVENT
BEGIN:VEVENT
DTSTART;VALUE=DATE:20241019
DTEND;VALUE=DATE:20241020
DTSTAMP:20260425T212004
CREATED:20240912T161833Z
LAST-MODIFIED:20240912T161833Z
UID:39948-1729296000-1729382399@oldediblerenotahoe.com
SUMMARY:Zombie Paintball & Corn Creepers
DESCRIPTION:
URL:https://oldediblerenotahoe.com/event/zombie-paintball-corn-creepers-2024-10-19/
LOCATION:Andelin Family Farm\, 8100 Pyramid Way\, Spanish Springs\, NV\, 89436
END:VEVENT
BEGIN:VEVENT
DTSTART;TZID=America/Los_Angeles:20241019T060000
DTEND;TZID=America/Los_Angeles:20241019T090000
DTSTAMP:20260425T212004
CREATED:20240913T034647Z
LAST-MODIFIED:20240913T034647Z
UID:40067-1729317600-1729328400@oldediblerenotahoe.com
SUMMARY:Garden Gnomads
DESCRIPTION:The McConnell Arboretum & Botanical Gardens at the Turtle Bay Exploration Park campus features over 200 acres of native and non-native trees and plants. McConnell is listed among the 10 best botanical gardens in the United States for 2024 by USA Today.
URL:https://oldediblerenotahoe.com/event/garden-gnomads-2024-10-19/
LOCATION:Wilbur D. May Arboretum and Botanical Garden\, Reno
END:VEVENT
BEGIN:VEVENT
DTSTART;TZID=America/Los_Angeles:20241019T090000
DTEND;TZID=America/Los_Angeles:20241019T120000
DTSTAMP:20260425T212004
CREATED:20240811T013304Z
LAST-MODIFIED:20240811T013304Z
UID:39642-1729328400-1729339200@oldediblerenotahoe.com
SUMMARY:Wine Grape Growing Class
DESCRIPTION:Discover how to cultivate your own outdoor vineyard oasis. Get to know the many grape varietals and their needs\, explore popular vineyard and trellis designs and receive expert guidance as you learn the most optimal way to set up your space and begin construction. Explore the fundamentals of planting\, training and pruning your vines and find out how to protect your crop from weeds\, pests\, diseases and drought conditions. Discuss soil analysis\, municipal regulations and agricultural sustainability as you delve into growing this luscious fruit.
URL:https://oldediblerenotahoe.com/event/wine-grape-growing-class-2024-10-19/
LOCATION:TMCC Meadowood Center\, 5270 Neil Rd.\, South Bldg.\, Reno\, NV\, 89502\, United States
END:VEVENT
BEGIN:VEVENT
DTSTART;TZID=America/Los_Angeles:20241019T090000
DTEND;TZID=America/Los_Angeles:20241019T120000
DTSTAMP:20260425T212004
CREATED:20240811T014025Z
LAST-MODIFIED:20240811T014025Z
UID:39656-1729328400-1729339200@oldediblerenotahoe.com
SUMMARY:Coffee 201: Basic Brewing
DESCRIPTION:Continue to explore the many coffee varietals and processing methods for each major coffee-growing region. Learn the recommended brewing steps for coffee and refine your palate by identifying tasting notes and aromas. Understand all brewing methods: Chemex pour over\, v60 single cup pour over\, French press\, basic home brewers\, and Aeropress. Take home a gift bag of the coffee that you like best. $10 materials fee
URL:https://oldediblerenotahoe.com/event/coffee-201-basic-brewing/
LOCATION:Hub Coffee Roasters\, 727 Riverside Drive\, Reno\, NV\, 89503\, United States
END:VEVENT
BEGIN:VEVENT
DTSTART;TZID=America/Los_Angeles:20241019T093000
DTEND;TZID=America/Los_Angeles:20241019T113000
DTSTAMP:20260425T212004
CREATED:20240811T010416Z
LAST-MODIFIED:20240811T010416Z
UID:39601-1729330200-1729337400@oldediblerenotahoe.com
SUMMARY:Kids/Teens Halloween - Trick and Treats Class
DESCRIPTION:
URL:https://oldediblerenotahoe.com/event/kids-teens-halloween-trick-and-treats-class/
LOCATION:Nothing To It!\, 225 Crummer Lane\, Reno\, NV\, 89502\, United States
END:VEVENT
BEGIN:VEVENT
DTSTART;TZID=America/Los_Angeles:20241019T100000
DTEND;TZID=America/Los_Angeles:20241019T130000
DTSTAMP:20260425T212004
CREATED:20241021T195745Z
LAST-MODIFIED:20241021T195745Z
UID:40376-1729332000-1729342800@oldediblerenotahoe.com
SUMMARY:Alpen Sierra Coffee Education
DESCRIPTION:
URL:https://oldediblerenotahoe.com/event/alpen-sierra-coffee-education/
LOCATION:Sierra Chef\, 2292 Main Street\, Genoa\, NV
END:VEVENT
BEGIN:VEVENT
DTSTART;TZID=America/Los_Angeles:20241019T100000
DTEND;TZID=America/Los_Angeles:20241019T140000
DTSTAMP:20260425T212004
CREATED:20240811T003956Z
LAST-MODIFIED:20240811T003956Z
UID:39553-1729332000-1729346400@oldediblerenotahoe.com
SUMMARY:Carson City's Ghost Walking Tour
DESCRIPTION:Carson City’s rich and intriguing history officially celebrates 31 years as we explore\, narrate and theatrically embrace Carson City’s beautiful Victorian westside in these seasonal evening walking tours\, led by Madame Curry (a spirited and historically fictional character named after the widow of Carson City’s founder\, Abe Curry) some special guests and her Spirit Wranglers. These ghostly and witty community spirits lead you through Carson City’s Historically Haunted West Side highlighting the stories and legends of the Wild West town. This season Madame Curry will share her Penny Dreadful’s on each tour.
URL:https://oldediblerenotahoe.com/event/carson-citys-ghost-walking-tour-2024-10-19/
LOCATION:NV
END:VEVENT
BEGIN:VEVENT
DTSTART;TZID=America/Los_Angeles:20241019T110000
DTEND;TZID=America/Los_Angeles:20241019T140000
DTSTAMP:20260425T212004
CREATED:20240118T233839Z
LAST-MODIFIED:20240118T233839Z
UID:37166-1729335600-1729346400@oldediblerenotahoe.com
SUMMARY:Green College Class: Pumpkin Painting
DESCRIPTION:
URL:https://oldediblerenotahoe.com/event/pumpkinpainting-2024-10-19/
LOCATION:Rail City Garden Center\, 1720 Brierley Way\, Sparks\, NV\, 89434
CATEGORIES:Gardening
END:VEVENT
BEGIN:VEVENT
DTSTART;TZID=America/Los_Angeles:20241019T120000
DTEND;TZID=America/Los_Angeles:20241019T180000
DTSTAMP:20260425T212004
CREATED:20240811T020751Z
LAST-MODIFIED:20240811T020751Z
UID:39711-1729339200-1729360800@oldediblerenotahoe.com
SUMMARY:Grand Sierra Beer & Chili Festival
DESCRIPTION:What happens when tasty cold beers and live music meet spicy hot bowls of chili? That’s right\, party time! This October it’s time to don the comfy pants\, grab your best buds\, and head on over to the Grand Sierra Beer & Chili Festival. \nSavor beer tastings from dozens of local\, regional and national craft beer favorites. In between sips\, slurp your way through delicious chili samples–then vote for your favorite beer and chili to take home a People’s Choice prize. \nLive Entertainment\nStarting at Noon: DJ Rekoh Suave\n1:00 PM–2:15 PM: The Electric\n3:00 PM–4:15 PM: Bread & Butter\n4:30 PM–6:00 PM: Total Recall \nEarly entry ticket holders will receive entry at 12:00 PM\, general admission ticket holders enter at 1:00 PM. Advance purchase offers a discounted rate. \nA portion of all ticket sales will benefit the Reno Rodeo Foundation.\nAll unlimited tasting packages come with a commemorative tasting mug\, while supplies last.
URL:https://oldediblerenotahoe.com/event/grand-sierra-beer-chili-festival/
LOCATION:Grand Sierra Resort\, 2500 E 2nd St\, Reno\, NV
END:VEVENT
BEGIN:VEVENT
DTSTART;TZID=America/Los_Angeles:20241019T120000
DTEND;TZID=America/Los_Angeles:20241019T190000
DTSTAMP:20260425T212004
CREATED:20241003T012847Z
LAST-MODIFIED:20241003T012847Z
UID:40189-1729339200-1729364400@oldediblerenotahoe.com
SUMMARY:Haywagon and Horseless Carriage Rides
DESCRIPTION:Hop on a spooky Hay-wagon or Haunted Horseless Carriage for a thrilling ride through Virginia City. You’ll journey along C Street to the eerie Virginia City Cemetery and back\, all while enjoying haunting music and chilling tales of the past. Tickets are $25 per adult and $10 per child. Pick up will be next to Bucket of Blood Saloon.
URL:https://oldediblerenotahoe.com/event/haywagon-and-horseless-carriage-rides-2024-10-19/
LOCATION:NV
END:VEVENT
BEGIN:VEVENT
DTSTART;TZID=America/Los_Angeles:20241019T130000
DTEND;TZID=America/Los_Angeles:20241019T150000
DTSTAMP:20260425T212004
CREATED:20240913T031533Z
LAST-MODIFIED:20240913T031533Z
UID:40031-1729342800-1729350000@oldediblerenotahoe.com
SUMMARY:Harvest Drinks Cocktail Class
DESCRIPTION:
URL:https://oldediblerenotahoe.com/event/harvest-drinks-cocktail-class/
LOCATION:High Mark Distillery\, 4690 Longley Lane\, Unit 28\, Reno\, Nevada\, 89502
END:VEVENT
BEGIN:VEVENT
DTSTART;TZID=America/Los_Angeles:20241019T133000
DTEND;TZID=America/Los_Angeles:20241019T160000
DTSTAMP:20260425T212004
CREATED:20240811T014904Z
LAST-MODIFIED:20240811T014904Z
UID:39672-1729344600-1729353600@oldediblerenotahoe.com
SUMMARY:Basque Pintxo Party Class
DESCRIPTION:Learn to prepare an array of pintxos\, the typical small bites served in Basque Country bars. This workshop will focus on some of the classics while giving students the chance to improvise in the kitchen. Get insider information and anecdotes on Basque culture and take home additional recipes to share with family and friends. $30 materials fee
URL:https://oldediblerenotahoe.com/event/basque-pintxo-party-class/
LOCATION:TMCC Meadowood Center\, 5270 Neil Rd.\, South Bldg.\, Reno\, NV\, 89502\, United States
END:VEVENT
BEGIN:VEVENT
DTSTART;TZID=America/Los_Angeles:20241019T160000
DTEND;TZID=America/Los_Angeles:20241019T190000
DTSTAMP:20260425T212004
CREATED:20240721T234851Z
LAST-MODIFIED:20240721T234851Z
UID:39471-1729353600-1729364400@oldediblerenotahoe.com
SUMMARY:A Haunted Night at the Mansion
DESCRIPTION:This fundraising event benefiting Arts for All Nevada features creepy crafting\, a ghostly transformation of the Mansion\, live music by the Jason King Band\, bewitching food bites from culinary arts students\, and more!
URL:https://oldediblerenotahoe.com/event/a-haunted-night-at-the-mansion/
LOCATION:Lake Mansion Arts & Cultural Center\, 250 Court St. & Arlington Ave.\, Reno\, NV
CATEGORIES:21+
END:VEVENT
BEGIN:VEVENT
DTSTART;TZID=America/Los_Angeles:20241019T160000
DTEND;TZID=America/Los_Angeles:20241019T210000
DTSTAMP:20260425T212004
CREATED:20240919T011632Z
LAST-MODIFIED:20240919T011632Z
UID:40147-1729353600-1729371600@oldediblerenotahoe.com
SUMMARY:The Pig Menu at Liberty Food & Wine Exchange
DESCRIPTION:A special menu with ala carte menu options using a whole pig philosophy alongside an expertly curated list of Whistle Pig Whiskey and cocktails.
URL:https://oldediblerenotahoe.com/event/the-pig-menu-at-liberty-food-wine-exchange-2024-10-19/
LOCATION:Liberty Food and Wine Exchange\, 100 N Sierra St\, Reno\, NV\, 89501
END:VEVENT
BEGIN:VEVENT
DTSTART;TZID=America/Los_Angeles:20241019T170000
DTEND;TZID=America/Los_Angeles:20241019T220000
DTSTAMP:20260425T212004
CREATED:20240811T003311Z
LAST-MODIFIED:20240811T003311Z
UID:39540-1729357200-1729375200@oldediblerenotahoe.com
SUMMARY:The Purple Gala
DESCRIPTION:This special evening celebrates 47 years of domestic violence advocacy and features dinner\, auction\, and this year’s Hannah Humanitarian Award recipients; Inter-Tribal Council of Nevada and the Nevada Bar Foundation.
URL:https://oldediblerenotahoe.com/event/the-purple-gala-2/
LOCATION:Grand Sierra Resort\, 2500 E 2nd St\, Reno\, NV
END:VEVENT
BEGIN:VEVENT
DTSTART;TZID=America/Los_Angeles:20241019T180000
DTEND;TZID=America/Los_Angeles:20241019T200000
DTSTAMP:20260425T212004
CREATED:20240811T012026Z
LAST-MODIFIED:20240811T012026Z
UID:39613-1729360800-1729368000@oldediblerenotahoe.com
SUMMARY:Reno Chamber Orchestra's A Place For Us
DESCRIPTION:
URL:https://oldediblerenotahoe.com/event/reno-chamber-orchestras-a-place-for-us/
LOCATION:Nightingale Concert Hall\, 1335 N Virginia St\, Reno\, NV
END:VEVENT
BEGIN:VEVENT
DTSTART;TZID=America/Los_Angeles:20241019T180000
DTEND;TZID=America/Los_Angeles:20241019T210000
DTSTAMP:20260425T212004
CREATED:20241003T013850Z
LAST-MODIFIED:20241003T013850Z
UID:40208-1729360800-1729371600@oldediblerenotahoe.com
SUMMARY:"Herb" Your Enthusiasm
DESCRIPTION:Get ready for a spook-tacular evening at the farm for Haunted Hoops\, where we transform our farm into a Halloween playground full of chills\, thrills\, and haunted surprises. Enjoy fun for the whole family with crafts like eyeball props and spiderwebs and test your skills in the monster toss race. Don’t forget to stop by the caramel apple station for a sweet treat and warm up with hot chocolate\, or for the grown-ups\, a hot toddy! The Haunted Hoop House opens at 7:00 p.m.\, with different scare levels for the littles and the brave. We’re conjuring up two nights of fun this year\, so don’t ghost us! Join the fun!
URL:https://oldediblerenotahoe.com/event/herb-your-enthusiasm-2024-10-19/
LOCATION:Urban Teaching Farm\, 1700 E 2nd Street\, Reno\, NV\, 89502
END:VEVENT
BEGIN:VEVENT
DTSTART;TZID=America/Los_Angeles:20241019T180000
DTEND;TZID=America/Los_Angeles:20241019T220000
DTSTAMP:20260425T212004
CREATED:20240606T205532Z
LAST-MODIFIED:20240606T205532Z
UID:38866-1729360800-1729375200@oldediblerenotahoe.com
SUMMARY:34th Annual Tahoe Chocolate and Wine Festival
DESCRIPTION:Join Sierra Community House for an evening filled with decadent chocolate creations\, exquisite wine tastings\, and more. This year’s theme is Masquerade\, promising a mystical and festive atmosphere you won’t want to miss!
URL:https://oldediblerenotahoe.com/event/34th-annual-tahoe-chocolate-and-wine-festival/
LOCATION:Hyatt Regency\, 111 Country Club Dr.\, Incline Village\, NV
CATEGORIES:Food & Drink,Nonprofit
END:VEVENT
BEGIN:VEVENT
DTSTART;TZID=America/Los_Angeles:20241019T190000
DTEND;TZID=America/Los_Angeles:20241019T210000
DTSTAMP:20260425T212004
CREATED:20240713T221137Z
LAST-MODIFIED:20240713T221137Z
UID:39344-1729364400-1729371600@oldediblerenotahoe.com
SUMMARY:Dirty Heads & Sublime with Rome
DESCRIPTION:Since 2001\, Dirty Heads have mixed hip-hop\, reggae\, and rock to create a unique sound that both fully embodies their Southern California roots and resonates with audiences around the globe. Dirty Heads are currently out streaming some of the biggest alternative acts in the U.S.\, with over 1.31 MILLION digital track sales and 2.7 BILLION on-demand streams since 2018. Dirty Heads also have over 2.4 million unique monthly listeners on Spotify. The band’s global appeal reached new heights in 2021\, when their hit “Vacation” (originally released in 2017) garnered over six billion views and streams across social media via the ubiquitous #VacationTransition challenge that originated organically with users on TikTok. \nThe group formed when punk rocker Dustin Bushnell (aka Duddy B) asked his friend\, rapper Jared Watson (aka Dirty J)\, to collaborate on a project that would focus on positive vibes and infectious grooves. Watson added singing to his vocal skills\, and later with percussionist Jon Olazabal\, drummer Matt Ochoa\, and bassist Dave Foral\, Dirty Heads began building an immense audience.
URL:https://oldediblerenotahoe.com/event/dirty-heads-sublime-with-rome/
LOCATION:Nugget Casino Resort\, 1100 Nugget Avenue\,\, Sparks\, NV
END:VEVENT
BEGIN:VEVENT
DTSTART;TZID=America/Los_Angeles:20241019T200000
DTEND;TZID=America/Los_Angeles:20241019T220000
DTSTAMP:20260425T212004
CREATED:20240713T214052Z
LAST-MODIFIED:20240713T224438Z
UID:39380-1729368000-1729375200@oldediblerenotahoe.com
SUMMARY:Magique - The Show of Shows
DESCRIPTION:Magique is Reno’s resident five-star attraction that is sure to amaze and entertain audiences of all ages. Featuring a cast of 10\, Magique is a whirlwind of excitement with over 20 grand illusions\, 100+ elaborate handmade costumes\, an epic soundtrack\, and special effects galore. Magique is the perfect event for your night out in Reno. Magique is truly the show of shows with hundreds of rave reviews on TripAdvisor\, Yelp\, Google and Facebook. Don’t miss this unique Reno experience!
URL:https://oldediblerenotahoe.com/event/magique-the-show-of-shows-2024-10-19/
LOCATION:The Theatre\, 505 Keystone Ave\, Reno\, NV\, 89503
END:VEVENT
BEGIN:VEVENT
DTSTART;TZID=America/Los_Angeles:20241020T090000
DTEND;TZID=America/Los_Angeles:20241020T130000
DTSTAMP:20260425T212004
CREATED:20231103T014135Z
LAST-MODIFIED:20231103T014135Z
UID:35272-1729414800-1729429200@oldediblerenotahoe.com
SUMMARY:Riverside Farmers Market
DESCRIPTION:The Riverside Farmers Market stands as Reno’s authentic local market\, exclusively featuring vendors who cultivate\, rear\, or craft their products within the immediate vicinity of the city. Highlighting small-scale\, community-focused\, and sustainable farmers and ranchers\, the market is a testament to the belief that the foundation of healthy food lies in the health of the land. It also serves as a welcoming platform for Reno’s emerging agricultural talents\, providing a space for residents to connect with those who are dedicated to nourishing the Truckee Meadows community through locally grown produce.
URL:https://oldediblerenotahoe.com/event/riverside-farmers-market-3-2024-10-20/
LOCATION:Idlewild Park\, 1000 Cowan Dr.\, Reno\, NV\, 89509
CATEGORIES:Farmers Market,Shopping
END:VEVENT
BEGIN:VEVENT
DTSTART;TZID=America/Los_Angeles:20241020T100000
DTEND;TZID=America/Los_Angeles:20241020T120000
DTSTAMP:20260425T212004
CREATED:20241021T195826Z
LAST-MODIFIED:20241021T195826Z
UID:40378-1729418400-1729425600@oldediblerenotahoe.com
SUMMARY:Guest Chef Charlie Abowd: Halibut
DESCRIPTION:
URL:https://oldediblerenotahoe.com/event/guest-chef-charlie-abowd-halibut/
LOCATION:Sierra Chef\, 2292 Main Street\, Genoa\, NV
END:VEVENT
BEGIN:VEVENT
DTSTART;TZID=America/Los_Angeles:20241020T103000
DTEND;TZID=America/Los_Angeles:20241020T143000
DTSTAMP:20260425T212004
CREATED:20230922T193120Z
LAST-MODIFIED:20230922T193120Z
UID:36285-1729420200-1729434600@oldediblerenotahoe.com
SUMMARY:Sunday Music Brunch
DESCRIPTION:Sunday Music Brunch at the Nevada Museum of Art Café is the perfect precursor to an afternoon exploring galleries. Chef Colin Smith has updated the menu to include an eclectic array of options from traditional breakfast fare to lunch options–both of which pair nicely with juice\, coffee\, champagne or a mimosa. Enjoy live music by Colin Ross from 11:30 to 2:30. Doors open at 10:30 am and service continues until 2:30 pm. Reservations are required for parties of five or more\, but encouraged for all as space is limited. Museum members receive 10% savings as a benefit of membership. \nCall the Café at 775-284-2921 for more information.
URL:https://oldediblerenotahoe.com/event/sundaymusicbrunch-2024-10-20/
LOCATION:Nevada Museum of Art\, 160 West Liberty\, Reno\, Nevada\, 89501
CATEGORIES:Food & Drink,Music
ATTACH;FMTTYPE=image/jpeg:https://oldediblerenotahoe.com/wp-content/uploads/2023/09/Roundabout_CafeAtNMA-Spring2022-3186-768x432-1.jpg
END:VEVENT
BEGIN:VEVENT
DTSTART;TZID=America/Los_Angeles:20241020T110000
DTEND;TZID=America/Los_Angeles:20241020T140000
DTSTAMP:20260425T212004
CREATED:20240118T233839Z
LAST-MODIFIED:20240118T233839Z
UID:37167-1729422000-1729432800@oldediblerenotahoe.com
SUMMARY:Green College Class: Pumpkin Painting
DESCRIPTION:
URL:https://oldediblerenotahoe.com/event/pumpkinpainting-2024-10-20/
LOCATION:Rail City Garden Center\, 1720 Brierley Way\, Sparks\, NV\, 89434
CATEGORIES:Gardening
END:VEVENT
END:VCALENDAR