BEGIN:VCALENDAR
VERSION:2.0
PRODID:-//Edible Reno-Tahoe - ECPv6.15.20//NONSGML v1.0//EN
CALSCALE:GREGORIAN
METHOD:PUBLISH
X-WR-CALNAME:Edible Reno-Tahoe
X-ORIGINAL-URL:https://oldediblerenotahoe.com
X-WR-CALDESC:Events for Edible Reno-Tahoe
REFRESH-INTERVAL;VALUE=DURATION:PT1H
X-Robots-Tag:noindex
X-PUBLISHED-TTL:PT1H
BEGIN:VTIMEZONE
TZID:America/Los_Angeles
BEGIN:DAYLIGHT
TZOFFSETFROM:-0800
TZOFFSETTO:-0700
TZNAME:PDT
DTSTART:20230312T100000
END:DAYLIGHT
BEGIN:STANDARD
TZOFFSETFROM:-0700
TZOFFSETTO:-0800
TZNAME:PST
DTSTART:20231105T090000
END:STANDARD
BEGIN:DAYLIGHT
TZOFFSETFROM:-0800
TZOFFSETTO:-0700
TZNAME:PDT
DTSTART:20240310T100000
END:DAYLIGHT
BEGIN:STANDARD
TZOFFSETFROM:-0700
TZOFFSETTO:-0800
TZNAME:PST
DTSTART:20241103T090000
END:STANDARD
BEGIN:DAYLIGHT
TZOFFSETFROM:-0800
TZOFFSETTO:-0700
TZNAME:PDT
DTSTART:20250309T100000
END:DAYLIGHT
BEGIN:STANDARD
TZOFFSETFROM:-0700
TZOFFSETTO:-0800
TZNAME:PST
DTSTART:20251102T090000
END:STANDARD
END:VTIMEZONE
BEGIN:VEVENT
DTSTART;TZID=America/Los_Angeles:20241221T200000
DTEND;TZID=America/Los_Angeles:20241221T220000
DTSTAMP:20260425T090552
CREATED:20240713T214052Z
LAST-MODIFIED:20240713T214052Z
UID:39392-1734811200-1734818400@oldediblerenotahoe.com
SUMMARY:Magique - The Show of Shows
DESCRIPTION:Magique is Reno’s resident five-star attraction that is sure to amaze and entertain audiences of all ages. Featuring a cast of 10\, Magique is a whirlwind of excitement with over 20 grand illusions\, 100+ elaborate handmade costumes\, an epic soundtrack\, and special effects galore. Magique is the perfect event for your night out in Reno. Magique is truly the show of shows with hundreds of rave reviews on TripAdvisor\, Yelp\, Google and Facebook. Don’t miss this unique Reno experience!
URL:https://oldediblerenotahoe.com/event/magique-the-show-of-shows-2024-12-21/
LOCATION:The Theatre\, 505 Keystone Ave\, Reno\, NV\, 89503
END:VEVENT
BEGIN:VEVENT
DTSTART;TZID=America/Los_Angeles:20241221T200000
DTEND;TZID=America/Los_Angeles:20241221T220000
DTSTAMP:20260425T090552
CREATED:20231227T224115Z
LAST-MODIFIED:20231227T224115Z
UID:39484-1734811200-1734818400@oldediblerenotahoe.com
SUMMARY:The Nutcracker
DESCRIPTION:The stage at the Pioneer Center for the Performing Arts will be alive with a sugar plum fairy and dancing mice as A.V.A. Ballet Theatre presents the annual Nutcracker Ballet.  Artistic director Alexander Van Alstyne has choreographed an exciting rendition of the popular holiday ballet and the Reno Philharmonic Orchestra will perform Tchaikovsky’s moving score. Laura Jackson will be conducting the orchestra. Due to popular demand\, we will continue to have a fifth performance. \nPrincipal dancers who have performed with professional ballet companies such as Ballet West\, Kansas City Ballet and the Diablo Ballet will perform the leading roles along side a large cast of local talent. \nA special Sugar Plum party will be held after the Saturday and Sunday afternoon performances where children can meet the Nutcracker characters.
URL:https://oldediblerenotahoe.com/event/the-nutcracker-2024-12-21/
LOCATION:Pioneer Center\, 100 S. Virginia St.\, Reno\, NV\, 89501
CATEGORIES:Dance,Holiday,Music
END:VEVENT
BEGIN:VEVENT
DTSTART;TZID=America/Los_Angeles:20241221T170000
DTEND;TZID=America/Los_Angeles:20241221T210000
DTSTAMP:20260425T090552
CREATED:20241130T203604Z
LAST-MODIFIED:20241130T203604Z
UID:40701-1734800400-1734814800@oldediblerenotahoe.com
SUMMARY:Cucina Lupo's Feast of the 7 Fishes
DESCRIPTION:
URL:https://oldediblerenotahoe.com/event/cucina-lupos-feast-of-the-7-fishes-2024-12-21/
LOCATION:Cucina Lupo\, 308 N Curry St.\, Carson City\, NV\, 89703
END:VEVENT
BEGIN:VEVENT
DTSTART;TZID=America/Los_Angeles:20241221T170000
DTEND;TZID=America/Los_Angeles:20241221T210000
DTSTAMP:20260425T090552
CREATED:20241130T203500Z
LAST-MODIFIED:20241130T203500Z
UID:40695-1734800400-1734814800@oldediblerenotahoe.com
SUMMARY:Liberty Food & Wine Exchange's Feast of the 7 Fishes
DESCRIPTION:
URL:https://oldediblerenotahoe.com/event/liberty-food-wine-exchanges-feast-of-the-7-fishes-2024-12-21/
LOCATION:NV
END:VEVENT
BEGIN:VEVENT
DTSTART;TZID=America/Los_Angeles:20241221T160000
DTEND;TZID=America/Los_Angeles:20241221T170000
DTSTAMP:20260425T090553
CREATED:20241216T193053Z
LAST-MODIFIED:20241216T193053Z
UID:40782-1734796800-1734800400@oldediblerenotahoe.com
SUMMARY:The Nutcracker vs The Tommyknockers
DESCRIPTION:Experience The Nutcracker like never before with a Virginia City twist as Clara\, Fritz\, and Uncle Drosselmeyer take on The Tommyknockers\, mischievous mine spirits known for luring away the unsuspecting.
URL:https://oldediblerenotahoe.com/event/the-nutcracker-vs-the-tommyknockers-2024-12-21-2/
LOCATION:Piper’s Opera House\, 12 B. Street\, Virginia City\, NV\, 89440
END:VEVENT
BEGIN:VEVENT
DTSTART;TZID=America/Los_Angeles:20241221T150000
DTEND;TZID=America/Los_Angeles:20241221T170000
DTSTAMP:20260425T090553
CREATED:20241216T192744Z
LAST-MODIFIED:20241216T192744Z
UID:40777-1734793200-1734800400@oldediblerenotahoe.com
SUMMARY:Tahoe Nutcracker 2024
DESCRIPTION:
URL:https://oldediblerenotahoe.com/event/tahoe-nutcracker-2024-2024-12-21/
LOCATION:Tahoe Tavern
END:VEVENT
BEGIN:VEVENT
DTSTART;TZID=America/Los_Angeles:20241221T140000
DTEND;TZID=America/Los_Angeles:20241221T170000
DTSTAMP:20260425T090553
CREATED:20240913T042111Z
LAST-MODIFIED:20240913T042111Z
UID:40108-1734789600-1734800400@oldediblerenotahoe.com
SUMMARY:Santa's Epic Holiday Show!
DESCRIPTION:A spectacular Holiday Cirque show featuring Holograms\, Projection Mapping\, Interactive Lasers and amazing cirque performers.
URL:https://oldediblerenotahoe.com/event/santas-epic-holiday-show-2024-12-21/
LOCATION:Grand Sierra Resort\, 2500 E 2nd St\, Reno\, NV
END:VEVENT
BEGIN:VEVENT
DTSTART;TZID=America/Los_Angeles:20241221T130000
DTEND;TZID=America/Los_Angeles:20241221T150000
DTSTAMP:20260425T090553
CREATED:20240913T031834Z
LAST-MODIFIED:20240913T031834Z
UID:40037-1734786000-1734793200@oldediblerenotahoe.com
SUMMARY:Candy Cane Vodka and Peppermint Schnapps Spirit Making Class
DESCRIPTION:
URL:https://oldediblerenotahoe.com/event/candy-cane-vodka-and-peppermint-schnapps-spirit-making-class/
LOCATION:High Mark Distillery\, 4690 Longley Lane\, Unit 28\, Reno\, Nevada\, 89502
END:VEVENT
BEGIN:VEVENT
DTSTART;TZID=America/Los_Angeles:20241221T120000
DTEND;TZID=America/Los_Angeles:20241221T133000
DTSTAMP:20260425T090553
CREATED:20241216T193053Z
LAST-MODIFIED:20241216T193053Z
UID:40781-1734782400-1734787800@oldediblerenotahoe.com
SUMMARY:The Nutcracker vs The Tommyknockers
DESCRIPTION:Experience The Nutcracker like never before with a Virginia City twist as Clara\, Fritz\, and Uncle Drosselmeyer take on The Tommyknockers\, mischievous mine spirits known for luring away the unsuspecting.
URL:https://oldediblerenotahoe.com/event/the-nutcracker-vs-the-tommyknockers-2024-12-21/
LOCATION:Piper’s Opera House\, 12 B. Street\, Virginia City\, NV\, 89440
END:VEVENT
BEGIN:VEVENT
DTSTART;TZID=America/Los_Angeles:20241220T200000
DTEND;TZID=America/Los_Angeles:20241220T220000
DTSTAMP:20260425T090553
CREATED:20240913T042217Z
LAST-MODIFIED:20240913T042217Z
UID:40119-1734724800-1734732000@oldediblerenotahoe.com
SUMMARY:Allman Betts Family Revival
DESCRIPTION:The Allman Betts Family Revival is a yearly celebration that features a diverse lineup of musicians playing blues\, Americana\, country\, and rock music to honor the Allman Brothers Band’s catalog. The Revival tour is described as a continuation of the Allman Brothers Band’s bluesy southern rock\, which can be hard or melodic. Some say the experience is like a family reunion for the musicians\, who often don’t have time to connect with each other. For fans\, the Revival tour can be a chance to see a great concert or for younger fans to experience the music of the famous 1970s band. This year the Revival will feature performances by The Allman Betts Band\, Jake Shimabukuro\, Cody Dickinson\, Jimmy Hall\, Larry McCray\, Lindsay Lou\, Jackie Greene\, Lamar Williams\, Jr.\, and Alex Orbison.
URL:https://oldediblerenotahoe.com/event/allman-betts-family-revival/
LOCATION:Grand Sierra Resort\, 2500 E 2nd St\, Reno\, NV
END:VEVENT
BEGIN:VEVENT
DTSTART;TZID=America/Los_Angeles:20241220T200000
DTEND;TZID=America/Los_Angeles:20241220T220000
DTSTAMP:20260425T090553
CREATED:20231227T224115Z
LAST-MODIFIED:20240721T235623Z
UID:36316-1734724800-1734732000@oldediblerenotahoe.com
SUMMARY:The Nutcracker
DESCRIPTION:The stage at the Pioneer Center for the Performing Arts will be alive with a sugar plum fairy and dancing mice as A.V.A. Ballet Theatre presents the annual Nutcracker Ballet.  Artistic director Alexander Van Alstyne has choreographed an exciting rendition of the popular holiday ballet and the Reno Philharmonic Orchestra will perform Tchaikovsky’s moving score. Laura Jackson will be conducting the orchestra. Due to popular demand\, we will continue to have a fifth performance. \nPrincipal dancers who have performed with professional ballet companies such as Ballet West\, Kansas City Ballet and the Diablo Ballet will perform the leading roles along side a large cast of local talent. \nA special Sugar Plum party will be held after the Saturday and Sunday afternoon performances where children can meet the Nutcracker characters.
URL:https://oldediblerenotahoe.com/event/the-nutcracker/
LOCATION:Pioneer Center\, 100 S. Virginia St.\, Reno\, NV\, 89501
CATEGORIES:Dance,Holiday,Music
END:VEVENT
BEGIN:VEVENT
DTSTART;TZID=America/Los_Angeles:20241220T193000
DTEND;TZID=America/Los_Angeles:20241220T213000
DTSTAMP:20260425T090553
CREATED:20241216T193053Z
LAST-MODIFIED:20241216T193053Z
UID:40780-1734723000-1734730200@oldediblerenotahoe.com
SUMMARY:The Nutcracker vs The Tommyknockers
DESCRIPTION:Experience The Nutcracker like never before with a Virginia City twist as Clara\, Fritz\, and Uncle Drosselmeyer take on The Tommyknockers\, mischievous mine spirits known for luring away the unsuspecting.
URL:https://oldediblerenotahoe.com/event/the-nutcracker-vs-the-tommyknockers/
LOCATION:Piper’s Opera House\, 12 B. Street\, Virginia City\, NV\, 89440
END:VEVENT
BEGIN:VEVENT
DTSTART;TZID=America/Los_Angeles:20241220T190000
DTEND;TZID=America/Los_Angeles:20241220T210000
DTSTAMP:20260425T090553
CREATED:20241216T192744Z
LAST-MODIFIED:20241216T192744Z
UID:40775-1734721200-1734728400@oldediblerenotahoe.com
SUMMARY:Tahoe Nutcracker 2024
DESCRIPTION:
URL:https://oldediblerenotahoe.com/event/tahoe-nutcracker-2024/
LOCATION:Tahoe Tavern
END:VEVENT
BEGIN:VEVENT
DTSTART;TZID=America/Los_Angeles:20241220T180000
DTEND;TZID=America/Los_Angeles:20241220T200000
DTSTAMP:20260425T090553
CREATED:20241021T193708Z
LAST-MODIFIED:20241021T193708Z
UID:40342-1734717600-1734724800@oldediblerenotahoe.com
SUMMARY:Christmas in Provence Class
DESCRIPTION:
URL:https://oldediblerenotahoe.com/event/christmas-in-provence-class-2024-12-20/
LOCATION:Nothing To It!\, 225 Crummer Lane\, Reno\, NV\, 89502\, United States
END:VEVENT
BEGIN:VEVENT
DTSTART;TZID=America/Los_Angeles:20241220T170000
DTEND;TZID=America/Los_Angeles:20241220T210000
DTSTAMP:20260425T090553
CREATED:20241130T203604Z
LAST-MODIFIED:20241130T203604Z
UID:40700-1734714000-1734728400@oldediblerenotahoe.com
SUMMARY:Cucina Lupo's Feast of the 7 Fishes
DESCRIPTION:
URL:https://oldediblerenotahoe.com/event/cucina-lupos-feast-of-the-7-fishes-2024-12-20/
LOCATION:Cucina Lupo\, 308 N Curry St.\, Carson City\, NV\, 89703
END:VEVENT
BEGIN:VEVENT
DTSTART;TZID=America/Los_Angeles:20241220T170000
DTEND;TZID=America/Los_Angeles:20241220T210000
DTSTAMP:20260425T090553
CREATED:20241130T203500Z
LAST-MODIFIED:20241130T203500Z
UID:40694-1734714000-1734728400@oldediblerenotahoe.com
SUMMARY:Liberty Food & Wine Exchange's Feast of the 7 Fishes
DESCRIPTION:
URL:https://oldediblerenotahoe.com/event/liberty-food-wine-exchanges-feast-of-the-7-fishes/
LOCATION:NV
END:VEVENT
BEGIN:VEVENT
DTSTART;TZID=America/Los_Angeles:20241220T160000
DTEND;TZID=America/Los_Angeles:20241220T190000
DTSTAMP:20260425T090553
CREATED:20241216T191507Z
LAST-MODIFIED:20241216T191507Z
UID:40763-1734710400-1734721200@oldediblerenotahoe.com
SUMMARY:Festive Fridays
DESCRIPTION:Enjoy a special Sip ‘n’ Shop\, a Snowflake Scavenger Hunt\, holiday carolers\, visits with Santa\, and a festive selfie station to capture the holiday spirit. Stroll through beautifully lit streets\, discover unique local shops\, and experience the warmth of the season. Bring your family and friends to celebrate in Historic Downtown Truckee!
URL:https://oldediblerenotahoe.com/event/festive-fridays/
LOCATION:Downtown Truckee\, Truckee\, CA
END:VEVENT
BEGIN:VEVENT
DTSTART;TZID=America/Los_Angeles:20241219T190000
DTEND;TZID=America/Los_Angeles:20241219T210000
DTSTAMP:20260425T090553
CREATED:20240913T042111Z
LAST-MODIFIED:20240913T042111Z
UID:40107-1734634800-1734642000@oldediblerenotahoe.com
SUMMARY:Santa's Epic Holiday Show!
DESCRIPTION:A spectacular Holiday Cirque show featuring Holograms\, Projection Mapping\, Interactive Lasers and amazing cirque performers.
URL:https://oldediblerenotahoe.com/event/santas-epic-holiday-show/
LOCATION:Grand Sierra Resort\, 2500 E 2nd St\, Reno\, NV
END:VEVENT
BEGIN:VEVENT
DTSTART;TZID=America/Los_Angeles:20241219T180000
DTEND;TZID=America/Los_Angeles:20241219T200000
DTSTAMP:20260425T090553
CREATED:20241021T193708Z
LAST-MODIFIED:20241021T193708Z
UID:40341-1734631200-1734638400@oldediblerenotahoe.com
SUMMARY:Christmas in Provence Class
DESCRIPTION:
URL:https://oldediblerenotahoe.com/event/christmas-in-provence-class/
LOCATION:Nothing To It!\, 225 Crummer Lane\, Reno\, NV\, 89502\, United States
END:VEVENT
BEGIN:VEVENT
DTSTART;TZID=America/Los_Angeles:20241219T170000
DTEND;TZID=America/Los_Angeles:20241219T210000
DTSTAMP:20260425T090553
CREATED:20241216T191307Z
LAST-MODIFIED:20241216T191307Z
UID:40761-1734627600-1734642000@oldediblerenotahoe.com
SUMMARY:The Holland Project Night Market
DESCRIPTION:Last-minute shopping opportunity for everything local\, handmade\, delicious\, and unique is December 19th this year at Craft Wine & Beer. Vendors will be open 5-9 pm in the back room of Craft\, there will also be excellent DJs with KWNK Community Radio\, hands-on activities\, and more! This market is free and all ages.
URL:https://oldediblerenotahoe.com/event/the-holland-project-night-market/
LOCATION:Craft Wine and Beer\, 22 Martin Street\, Reno\, 89509
END:VEVENT
BEGIN:VEVENT
DTSTART;TZID=America/Los_Angeles:20241219T170000
DTEND;TZID=America/Los_Angeles:20241219T210000
DTSTAMP:20260425T090553
CREATED:20241130T203604Z
LAST-MODIFIED:20241130T203604Z
UID:40699-1734627600-1734642000@oldediblerenotahoe.com
SUMMARY:Cucina Lupo's Feast of the 7 Fishes
DESCRIPTION:
URL:https://oldediblerenotahoe.com/event/cucina-lupos-feast-of-the-7-fishes/
LOCATION:Cucina Lupo\, 308 N Curry St.\, Carson City\, NV\, 89703
END:VEVENT
BEGIN:VEVENT
DTSTART;TZID=America/Los_Angeles:20241219T080000
DTEND;TZID=America/Los_Angeles:20241219T130000
DTSTAMP:20260425T090553
CREATED:20240912T161301Z
LAST-MODIFIED:20240912T161301Z
UID:39931-1734595200-1734613200@oldediblerenotahoe.com
SUMMARY:Tahoe City Fall Harvest Market
DESCRIPTION:Find seasonal produce\, crafts\, and gifts. Support local businesses and enjoy your holiday shopping!
URL:https://oldediblerenotahoe.com/event/tahoe-city-fall-harvest-market-2024-12-19/
LOCATION:Tahoe City
END:VEVENT
BEGIN:VEVENT
DTSTART;TZID=America/Los_Angeles:20241218T180000
DTEND;TZID=America/Los_Angeles:20241218T200000
DTSTAMP:20260425T090553
CREATED:20241021T193625Z
LAST-MODIFIED:20241021T193625Z
UID:40339-1734544800-1734552000@oldediblerenotahoe.com
SUMMARY:Italian Christmas Cookies Class
DESCRIPTION:
URL:https://oldediblerenotahoe.com/event/italian-christmas-cookies-class/
LOCATION:Nothing To It!\, 225 Crummer Lane\, Reno\, NV\, 89502\, United States
END:VEVENT
BEGIN:VEVENT
DTSTART;TZID=America/Los_Angeles:20241217T180000
DTEND;TZID=America/Los_Angeles:20241217T200000
DTSTAMP:20260425T090553
CREATED:20241216T193219Z
LAST-MODIFIED:20241216T193219Z
UID:40785-1734458400-1734465600@oldediblerenotahoe.com
SUMMARY:Boar's Head Feast
DESCRIPTION:Step back in time and join us for a festive evening celebrating the magic of Christmas with a Boar’s Head Feast. Immerse yourself in a medieval tradition featuring an enchanting old English play and a grand feast.
URL:https://oldediblerenotahoe.com/event/boars-head-feast/
LOCATION:First Presbyterian Church\, Virginia City\, NV
END:VEVENT
BEGIN:VEVENT
DTSTART;TZID=America/Los_Angeles:20241216T180000
DTEND;TZID=America/Los_Angeles:20241216T203000
DTSTAMP:20260425T090553
CREATED:20240811T020024Z
LAST-MODIFIED:20240811T020024Z
UID:39699-1734372000-1734381000@oldediblerenotahoe.com
SUMMARY:Taste of Asia Class
DESCRIPTION:Take a tour of three Asian cuisines in one evening. Create a complete meal featuring spicy kung pao chicken with peanuts\, pineapple Thai fried rice and a Vietnamese pork banh mi sandwich. $45 materials fee
URL:https://oldediblerenotahoe.com/event/taste-of-asia-class/
LOCATION:Café de Thai\, 760 S Virginia St\, Reno\, NV\, 89501
END:VEVENT
BEGIN:VEVENT
DTSTART;TZID=America/Los_Angeles:20241215T180000
DTEND;TZID=America/Los_Angeles:20241215T180000
DTSTAMP:20260425T090553
CREATED:20240913T035810Z
LAST-MODIFIED:20240913T035810Z
UID:40086-1734285600-1734285600@oldediblerenotahoe.com
SUMMARY:Beetlejuice The Musical
DESCRIPTION:It’s showtime! Based on Tim Burton’s dearly beloved film\, this hilarious musical tells the story of Lydia Deetz\, a strange and unusual teenager whose whole life changes when she meets a recently deceased couple and a demon with a thing for stripes. With an irreverent book\, an astonishing set\, and a score that’s out of this Netherworld\, BEETLEJUICE is “SCREAMINGLY GOOD FUN!” (Variety). And under its uproarious surface (six feet under\, to be exact)\, it’s a remarkably touching show about family\, love\, and making the most of every Day-O!
URL:https://oldediblerenotahoe.com/event/beetlejuice-the-musical-2024-12-15/
LOCATION:Pioneer Center\, 100 S. Virginia St.\, Reno\, NV\, 89501
END:VEVENT
BEGIN:VEVENT
DTSTART;TZID=America/Los_Angeles:20241215T150000
DTEND;TZID=America/Los_Angeles:20241215T170000
DTSTAMP:20260425T090553
CREATED:20241021T185401Z
LAST-MODIFIED:20241021T185401Z
UID:40258-1734274800-1734282000@oldediblerenotahoe.com
SUMMARY:Reno Dance Company Presents The Nutcracker
DESCRIPTION:Step into a world of enchantment as Clara’s beloved nutcracker toy springs to life in a dazzling production that has delighted audiences for over a century. With a stellar cast\, stunning costumes\, and masterful choreography\, the Reno Dance Company transforms the stage into a magical winter wonderland that will captivate both children and ballet lovers alike. \nJoin us in celebrating this cherished holiday tradition as Tchaikovsky’s timeless score accompanies breathtaking performances by 25 professional dancers and over 80 talented local children from the Reno-Sparks area. Don’t miss the magic as they bring this beloved story to life on the acclaimed Grand Theatre stage at Grand Sierra Resort.
URL:https://oldediblerenotahoe.com/event/reno-dance-company-presents-the-nutcracker/
LOCATION:Grand Sierra Resort\, 2500 E 2nd St\, Reno\, NV
END:VEVENT
BEGIN:VEVENT
DTSTART;TZID=America/Los_Angeles:20241215T103000
DTEND;TZID=America/Los_Angeles:20241215T143000
DTSTAMP:20260425T090553
CREATED:20230922T193120Z
LAST-MODIFIED:20230922T193120Z
UID:36293-1734258600-1734273000@oldediblerenotahoe.com
SUMMARY:Sunday Music Brunch
DESCRIPTION:Sunday Music Brunch at the Nevada Museum of Art Café is the perfect precursor to an afternoon exploring galleries. Chef Colin Smith has updated the menu to include an eclectic array of options from traditional breakfast fare to lunch options–both of which pair nicely with juice\, coffee\, champagne or a mimosa. Enjoy live music by Colin Ross from 11:30 to 2:30. Doors open at 10:30 am and service continues until 2:30 pm. Reservations are required for parties of five or more\, but encouraged for all as space is limited. Museum members receive 10% savings as a benefit of membership. \nCall the Café at 775-284-2921 for more information.
URL:https://oldediblerenotahoe.com/event/sundaymusicbrunch-2024-12-15/
LOCATION:Nevada Museum of Art\, 160 West Liberty\, Reno\, Nevada\, 89501
CATEGORIES:Food & Drink,Music
ATTACH;FMTTYPE=image/jpeg:https://oldediblerenotahoe.com/wp-content/uploads/2023/09/Roundabout_CafeAtNMA-Spring2022-3186-768x432-1.jpg
END:VEVENT
BEGIN:VEVENT
DTSTART;TZID=America/Los_Angeles:20241215T100000
DTEND;TZID=America/Los_Angeles:20241215T170000
DTSTAMP:20260425T090553
CREATED:20241216T193613Z
LAST-MODIFIED:20241216T193613Z
UID:40789-1734256800-1734282000@oldediblerenotahoe.com
SUMMARY:Chili Cash N' Carry
DESCRIPTION:
URL:https://oldediblerenotahoe.com/event/chili-cash-n-carry-2024-12-15/
LOCATION:The Wedge Ceramics Studio\, 2095 Dickerson Rd\, Reno\, NV
END:VEVENT
BEGIN:VEVENT
DTSTART;TZID=America/Los_Angeles:20241215T100000
DTEND;TZID=America/Los_Angeles:20241215T120000
DTSTAMP:20260425T090553
CREATED:20241021T200826Z
LAST-MODIFIED:20241021T200826Z
UID:40408-1734256800-1734264000@oldediblerenotahoe.com
SUMMARY:Making Limoncello For Gifts Class
DESCRIPTION:
URL:https://oldediblerenotahoe.com/event/making-limoncello-for-gifts-class/
LOCATION:Sierra Chef\, 2292 Main Street\, Genoa\, NV
END:VEVENT
END:VCALENDAR