BEGIN:VCALENDAR
VERSION:2.0
PRODID:-//Edible Reno-Tahoe - ECPv6.15.20//NONSGML v1.0//EN
CALSCALE:GREGORIAN
METHOD:PUBLISH
X-WR-CALNAME:Edible Reno-Tahoe
X-ORIGINAL-URL:https://oldediblerenotahoe.com
X-WR-CALDESC:Events for Edible Reno-Tahoe
REFRESH-INTERVAL;VALUE=DURATION:PT1H
X-Robots-Tag:noindex
X-PUBLISHED-TTL:PT1H
BEGIN:VTIMEZONE
TZID:America/Los_Angeles
BEGIN:DAYLIGHT
TZOFFSETFROM:-0800
TZOFFSETTO:-0700
TZNAME:PDT
DTSTART:20240310T100000
END:DAYLIGHT
BEGIN:STANDARD
TZOFFSETFROM:-0700
TZOFFSETTO:-0800
TZNAME:PST
DTSTART:20241103T090000
END:STANDARD
BEGIN:DAYLIGHT
TZOFFSETFROM:-0800
TZOFFSETTO:-0700
TZNAME:PDT
DTSTART:20250309T100000
END:DAYLIGHT
BEGIN:STANDARD
TZOFFSETFROM:-0700
TZOFFSETTO:-0800
TZNAME:PST
DTSTART:20251102T090000
END:STANDARD
BEGIN:DAYLIGHT
TZOFFSETFROM:-0800
TZOFFSETTO:-0700
TZNAME:PDT
DTSTART:20260308T100000
END:DAYLIGHT
BEGIN:STANDARD
TZOFFSETFROM:-0700
TZOFFSETTO:-0800
TZNAME:PST
DTSTART:20261101T090000
END:STANDARD
END:VTIMEZONE
BEGIN:VEVENT
DTSTART;TZID=America/Los_Angeles:20250516T193000
DTEND;TZID=America/Los_Angeles:20250516T220000
DTSTAMP:20260425T061106
CREATED:20250222T000332Z
LAST-MODIFIED:20250222T000332Z
UID:41740-1747423800-1747432800@oldediblerenotahoe.com
SUMMARY:Brükalton - A Brüka Regency Parody
DESCRIPTION:BRÜKALTON – A REGENCY ERA PARODY that stumbles into greatness one mistake at a time. This original play takes on the world’s of Jane Austen and Bridgerton in a spoof on Regency Classicism. Dive deep into the struggles of meaningful\, nonsexual encounters that simmer with tension\, witty\, subtle dialogue and romantic nonsense.
URL:https://oldediblerenotahoe.com/event/brukalton-a-bruka-regency-parody-2025-05-16/
LOCATION:Brüka Theatre\, 99 North Virginia Street\, Reno\, NV\, 89501
END:VEVENT
BEGIN:VEVENT
DTSTART;TZID=America/Los_Angeles:20250516T190000
DTEND;TZID=America/Los_Angeles:20250516T210000
DTSTAMP:20260425T061106
CREATED:20250312T172858Z
LAST-MODIFIED:20250312T172858Z
UID:42014-1747422000-1747429200@oldediblerenotahoe.com
SUMMARY:That's Magic!
DESCRIPTION:This grand illusion show is like no other! Presented by the award winning magic duo Kaileigh and Chase Hasty\, “That’s Magic!” will leave you dazzled and amazed. This upbeat\, interactive show is fun for all ages and guaranteed to have something for everyone. Not only will you be immersed by mind blowing magic\, but you will also see a cast of featured dancers and some elements of surprise. Step inside the White Rabbit Theater for an experience like nowhere else!
URL:https://oldediblerenotahoe.com/event/thats-magic-2025-05-16/
LOCATION:Grand Sierra Resort\, 2500 E 2nd St\, Reno\, NV
END:VEVENT
BEGIN:VEVENT
DTSTART;TZID=America/Los_Angeles:20250516T190000
DTEND;TZID=America/Los_Angeles:20250516T210000
DTSTAMP:20260425T061106
CREATED:20250114T043014Z
LAST-MODIFIED:20250114T043014Z
UID:41245-1747422000-1747429200@oldediblerenotahoe.com
SUMMARY:Brad Williams: The Growth Spurt Tour
DESCRIPTION:Pound for pound\, Brad Williams is the funniest comedian in the country right now\, and has become one of the most in-demand comedians working today. Williams started doing stand-up comedy as a teenager and has been touring successfully ever since\, routinely selling out prestigious venues all over the country and world. \nWilliams has parlayed his live performances into a multitude of stand-up television appearances\, including The Tonight Show\, Dave Attell’s Comedy Underground\, and Jimmy Kimmel Live. His first one-hour special\, Fun Size\, was the highest rated special on Showtime\, and a year later\, he followed that up with his second one\, Daddy Issues\, which was even more successful than the first. His third special in three years was an uproarious one\, hosting some of the edgiest comedians in the country from the prestigious Montreal Just For Laughs Festival. His last groundbreaking special on Netflix\, The Degenerates\, garnered more huge ratings and rave reviews. \nAlso an accomplished actor\, Williams has appeared on numerous TV shows and feature films\, including FX’s Legit\, Sam and Cat\, Mind of Mencia\, Pitboss\, a recurring role on the Hulu original show Deadbeat\, and memorable roles in a plethora of movies\, including Little Evil\, produced by Scott Stuber (Ted)\, as well as the Netflix original Christopher Guest film\, Mascots\, and most recently Reno 911: It’s A Wonderful Heist. \nRecently\, Brad became the first stand-up comedian to headline a Cirque de Soleil show in their 30 year history\, when he agreed to launch — and do a three month run of — their newest show Mad Apple\, at the magnificent 1200 seat New York New York Theater in Las Vegas. The show became an immediate smash hit to rave revues\, singling out Williams for his incredible ability to captivate his audiences with his extraordinary performances.
URL:https://oldediblerenotahoe.com/event/brad-williams-the-growth-spurt-tour/
LOCATION:Pioneer Center\, 100 S. Virginia St.\, Reno\, NV\, 89501
END:VEVENT
BEGIN:VEVENT
DTSTART;TZID=America/Los_Angeles:20250516T180000
DTEND;TZID=America/Los_Angeles:20250516T200000
DTSTAMP:20260425T061106
CREATED:20250312T181323Z
LAST-MODIFIED:20250312T181323Z
UID:42249-1747418400-1747425600@oldediblerenotahoe.com
SUMMARY:Taste of Tuscany Class
DESCRIPTION:The rolling fertile hills of Tuscany set the backdrop for “la dolce vita\,” and a sweet life it is for those who experience this fine Italian cuisine. You’ll learn to prepare homemade pasta and sauces\, become versed in Italian ingredients\, and delve into the world of fine balsamic vinegar and olive oils. Come experience the delizioso flavors of Tuscany!
URL:https://oldediblerenotahoe.com/event/taste-of-tuscany-class-6-2025-05-16/
LOCATION:Nothing To It!\, 225 Crummer Lane\, Reno\, NV\, 89502\, United States
END:VEVENT
BEGIN:VEVENT
DTSTART;VALUE=DATE:20250516
DTEND;VALUE=DATE:20250518
DTSTAMP:20260425T061106
CREATED:20250312T181111Z
LAST-MODIFIED:20250312T181111Z
UID:42244-1747353600-1747526399@oldediblerenotahoe.com
SUMMARY:Hot August Nights Spring Fever Revival
DESCRIPTION:
URL:https://oldediblerenotahoe.com/event/hot-august-nights-spring-fever-revival-2/
LOCATION:NV
END:VEVENT
BEGIN:VEVENT
DTSTART;VALUE=DATE:20250516
DTEND;VALUE=DATE:20250519
DTSTAMP:20260425T061106
CREATED:20250209T235509Z
LAST-MODIFIED:20250209T235509Z
UID:41590-1747353600-1747612799@oldediblerenotahoe.com
SUMMARY:Hot Air For Hope
DESCRIPTION:
URL:https://oldediblerenotahoe.com/event/hot-air-for-hope-2/
LOCATION:Carson Valley
END:VEVENT
BEGIN:VEVENT
DTSTART;TZID=America/Los_Angeles:20250515T193000
DTEND;TZID=America/Los_Angeles:20250515T220000
DTSTAMP:20260425T061106
CREATED:20250222T000332Z
LAST-MODIFIED:20250222T000332Z
UID:41739-1747337400-1747346400@oldediblerenotahoe.com
SUMMARY:Brükalton - A Brüka Regency Parody
DESCRIPTION:BRÜKALTON – A REGENCY ERA PARODY that stumbles into greatness one mistake at a time. This original play takes on the world’s of Jane Austen and Bridgerton in a spoof on Regency Classicism. Dive deep into the struggles of meaningful\, nonsexual encounters that simmer with tension\, witty\, subtle dialogue and romantic nonsense.
URL:https://oldediblerenotahoe.com/event/brukalton-a-bruka-regency-parody-2025-05-15/
LOCATION:Brüka Theatre\, 99 North Virginia Street\, Reno\, NV\, 89501
END:VEVENT
BEGIN:VEVENT
DTSTART;TZID=America/Los_Angeles:20250515T190000
DTEND;TZID=America/Los_Angeles:20250515T210000
DTSTAMP:20260425T061106
CREATED:20250312T172858Z
LAST-MODIFIED:20250312T172858Z
UID:42013-1747335600-1747342800@oldediblerenotahoe.com
SUMMARY:That's Magic!
DESCRIPTION:This grand illusion show is like no other! Presented by the award winning magic duo Kaileigh and Chase Hasty\, “That’s Magic!” will leave you dazzled and amazed. This upbeat\, interactive show is fun for all ages and guaranteed to have something for everyone. Not only will you be immersed by mind blowing magic\, but you will also see a cast of featured dancers and some elements of surprise. Step inside the White Rabbit Theater for an experience like nowhere else!
URL:https://oldediblerenotahoe.com/event/thats-magic-2025-05-15/
LOCATION:Grand Sierra Resort\, 2500 E 2nd St\, Reno\, NV
END:VEVENT
BEGIN:VEVENT
DTSTART;TZID=America/Los_Angeles:20250515T180000
DTEND;TZID=America/Los_Angeles:20250515T200000
DTSTAMP:20260425T061106
CREATED:20250312T181323Z
LAST-MODIFIED:20250312T181323Z
UID:42248-1747332000-1747339200@oldediblerenotahoe.com
SUMMARY:Taste of Tuscany Class
DESCRIPTION:The rolling fertile hills of Tuscany set the backdrop for “la dolce vita\,” and a sweet life it is for those who experience this fine Italian cuisine. You’ll learn to prepare homemade pasta and sauces\, become versed in Italian ingredients\, and delve into the world of fine balsamic vinegar and olive oils. Come experience the delizioso flavors of Tuscany!
URL:https://oldediblerenotahoe.com/event/taste-of-tuscany-class-6/
LOCATION:Nothing To It!\, 225 Crummer Lane\, Reno\, NV\, 89502\, United States
END:VEVENT
BEGIN:VEVENT
DTSTART;TZID=America/Los_Angeles:20250515T113000
DTEND;TZID=America/Los_Angeles:20250515T133000
DTSTAMP:20260425T061106
CREATED:20250214T235103Z
LAST-MODIFIED:20250214T235103Z
UID:41646-1747308600-1747315800@oldediblerenotahoe.com
SUMMARY:Voices for Justice Celebration
DESCRIPTION:
URL:https://oldediblerenotahoe.com/event/voices-for-justice-celebration/
LOCATION:Atlantis Casino Resort Spa\, 3800 S. Virginia Street\, Reno\, NV\, 89502\, United States
END:VEVENT
BEGIN:VEVENT
DTSTART;TZID=America/Los_Angeles:20250514T193000
DTEND;TZID=America/Los_Angeles:20250514T220000
DTSTAMP:20260425T061106
CREATED:20250222T000332Z
LAST-MODIFIED:20250222T000332Z
UID:41738-1747251000-1747260000@oldediblerenotahoe.com
SUMMARY:Brükalton - A Brüka Regency Parody
DESCRIPTION:BRÜKALTON – A REGENCY ERA PARODY that stumbles into greatness one mistake at a time. This original play takes on the world’s of Jane Austen and Bridgerton in a spoof on Regency Classicism. Dive deep into the struggles of meaningful\, nonsexual encounters that simmer with tension\, witty\, subtle dialogue and romantic nonsense.
URL:https://oldediblerenotahoe.com/event/brukalton-a-bruka-regency-parody-2025-05-14/
LOCATION:Brüka Theatre\, 99 North Virginia Street\, Reno\, NV\, 89501
END:VEVENT
BEGIN:VEVENT
DTSTART;TZID=America/Los_Angeles:20250514T180000
DTEND;TZID=America/Los_Angeles:20250514T210000
DTSTAMP:20260425T061106
CREATED:20250312T175203Z
LAST-MODIFIED:20250312T175203Z
UID:42240-1747245600-1747256400@oldediblerenotahoe.com
SUMMARY:Sauce Workshop
DESCRIPTION:Create five-star sauces in your own kitchen! Great cooks know sauce makes (or breaks!) the meal. Learn the basics of sauce making and create rich\, velvety restaurant-style sauces at home. This class will cover the fundamental techniques\, tools and ingredients for successful sauce making.
URL:https://oldediblerenotahoe.com/event/sauce-workshop-3/
LOCATION:Nothing To It!\, 225 Crummer Lane\, Reno\, NV\, 89502\, United States
END:VEVENT
BEGIN:VEVENT
DTSTART;TZID=America/Los_Angeles:20250513T190000
DTEND;TZID=America/Los_Angeles:20250513T210000
DTSTAMP:20260425T061106
CREATED:20250312T172858Z
LAST-MODIFIED:20250312T172858Z
UID:42011-1747162800-1747170000@oldediblerenotahoe.com
SUMMARY:That's Magic!
DESCRIPTION:This grand illusion show is like no other! Presented by the award winning magic duo Kaileigh and Chase Hasty\, “That’s Magic!” will leave you dazzled and amazed. This upbeat\, interactive show is fun for all ages and guaranteed to have something for everyone. Not only will you be immersed by mind blowing magic\, but you will also see a cast of featured dancers and some elements of surprise. Step inside the White Rabbit Theater for an experience like nowhere else!
URL:https://oldediblerenotahoe.com/event/thats-magic-2025-05-13/
LOCATION:Grand Sierra Resort\, 2500 E 2nd St\, Reno\, NV
END:VEVENT
BEGIN:VEVENT
DTSTART;TZID=America/Los_Angeles:20250512T190000
DTEND;TZID=America/Los_Angeles:20250512T210000
DTSTAMP:20260425T061106
CREATED:20250312T172858Z
LAST-MODIFIED:20250312T172858Z
UID:42010-1747076400-1747083600@oldediblerenotahoe.com
SUMMARY:That's Magic!
DESCRIPTION:This grand illusion show is like no other! Presented by the award winning magic duo Kaileigh and Chase Hasty\, “That’s Magic!” will leave you dazzled and amazed. This upbeat\, interactive show is fun for all ages and guaranteed to have something for everyone. Not only will you be immersed by mind blowing magic\, but you will also see a cast of featured dancers and some elements of surprise. Step inside the White Rabbit Theater for an experience like nowhere else!
URL:https://oldediblerenotahoe.com/event/thats-magic-2025-05-12/
LOCATION:Grand Sierra Resort\, 2500 E 2nd St\, Reno\, NV
END:VEVENT
BEGIN:VEVENT
DTSTART;TZID=America/Los_Angeles:20250511T190000
DTEND;TZID=America/Los_Angeles:20250511T210000
DTSTAMP:20260425T061106
CREATED:20250312T172858Z
LAST-MODIFIED:20250312T172858Z
UID:42009-1746990000-1746997200@oldediblerenotahoe.com
SUMMARY:That's Magic!
DESCRIPTION:This grand illusion show is like no other! Presented by the award winning magic duo Kaileigh and Chase Hasty\, “That’s Magic!” will leave you dazzled and amazed. This upbeat\, interactive show is fun for all ages and guaranteed to have something for everyone. Not only will you be immersed by mind blowing magic\, but you will also see a cast of featured dancers and some elements of surprise. Step inside the White Rabbit Theater for an experience like nowhere else!
URL:https://oldediblerenotahoe.com/event/thats-magic-2025-05-11/
LOCATION:Grand Sierra Resort\, 2500 E 2nd St\, Reno\, NV
END:VEVENT
BEGIN:VEVENT
DTSTART;TZID=America/Los_Angeles:20250511T090000
DTEND;TZID=America/Los_Angeles:20250511T140000
DTSTAMP:20260425T061106
CREATED:20250314T000312Z
LAST-MODIFIED:20250314T000312Z
UID:42407-1746954000-1746972000@oldediblerenotahoe.com
SUMMARY:Riverside Farmer's Market's Mother's Day Boutique
DESCRIPTION:
URL:https://oldediblerenotahoe.com/event/riverside-farmers-markets-mothers-day-boutique/
LOCATION:Idlewild Park\, 1000 Cowan Dr.\, Reno\, NV\, 89509
END:VEVENT
BEGIN:VEVENT
DTSTART;TZID=America/Los_Angeles:20250511T090000
DTEND;TZID=America/Los_Angeles:20250511T130000
DTSTAMP:20260425T061106
CREATED:20250312T173605Z
LAST-MODIFIED:20250312T173605Z
UID:42043-1746954000-1746968400@oldediblerenotahoe.com
SUMMARY:Riverside Farmers Market
DESCRIPTION:The Riverside Farmers Market is Reno’s truly local market\, with all vendors growing\, raising\, or making their goods within the tightest possible radius around Reno. The event showcases small\, local\, and sustainable farmers and ranchers who believe that healthy food begins with a healthy land. They are also are home to Reno’s newest farmers and ranchers\, making it the perfect place to meet the fine folks growing food locally for the Truckee Meadows community.
URL:https://oldediblerenotahoe.com/event/riverside-farmers-market-4-2025-05-11/
LOCATION:Idlewild Park\, 1000 Cowan Dr.\, Reno\, NV\, 89509
END:VEVENT
BEGIN:VEVENT
DTSTART;TZID=America/Los_Angeles:20250510T210000
DTEND;TZID=America/Los_Angeles:20250510T230000
DTSTAMP:20260425T061106
CREATED:20250312T174315Z
LAST-MODIFIED:20250312T174315Z
UID:42150-1746910800-1746918000@oldediblerenotahoe.com
SUMMARY:Nocturnal!
DESCRIPTION:Lose your inhibitions as you step into the magical world of “Nocturnal”. This is an 18 and over show\, featuring world class illusions\, beautiful dancers\, adult humor\, and plenty of surprises. Grab a cocktail at the White Rabbit Lounge\, sit back\, and prepare to be amazed. You might even end up being a part of the magic!
URL:https://oldediblerenotahoe.com/event/nocturnal-2025-05-10/
LOCATION:Grand Sierra Resort\, 2500 E 2nd St\, Reno\, NV
END:VEVENT
BEGIN:VEVENT
DTSTART;TZID=America/Los_Angeles:20250510T193000
DTEND;TZID=America/Los_Angeles:20250510T220000
DTSTAMP:20260425T061106
CREATED:20250222T000332Z
LAST-MODIFIED:20250222T000332Z
UID:41737-1746905400-1746914400@oldediblerenotahoe.com
SUMMARY:Brükalton - A Brüka Regency Parody
DESCRIPTION:BRÜKALTON – A REGENCY ERA PARODY that stumbles into greatness one mistake at a time. This original play takes on the world’s of Jane Austen and Bridgerton in a spoof on Regency Classicism. Dive deep into the struggles of meaningful\, nonsexual encounters that simmer with tension\, witty\, subtle dialogue and romantic nonsense.
URL:https://oldediblerenotahoe.com/event/brukalton-a-bruka-regency-parody-2025-05-10/
LOCATION:Brüka Theatre\, 99 North Virginia Street\, Reno\, NV\, 89501
END:VEVENT
BEGIN:VEVENT
DTSTART;TZID=America/Los_Angeles:20250510T190000
DTEND;TZID=America/Los_Angeles:20250510T210000
DTSTAMP:20260425T061106
CREATED:20250312T172858Z
LAST-MODIFIED:20250312T172858Z
UID:42008-1746903600-1746910800@oldediblerenotahoe.com
SUMMARY:That's Magic!
DESCRIPTION:This grand illusion show is like no other! Presented by the award winning magic duo Kaileigh and Chase Hasty\, “That’s Magic!” will leave you dazzled and amazed. This upbeat\, interactive show is fun for all ages and guaranteed to have something for everyone. Not only will you be immersed by mind blowing magic\, but you will also see a cast of featured dancers and some elements of surprise. Step inside the White Rabbit Theater for an experience like nowhere else!
URL:https://oldediblerenotahoe.com/event/thats-magic-2025-05-10/
LOCATION:Grand Sierra Resort\, 2500 E 2nd St\, Reno\, NV
END:VEVENT
BEGIN:VEVENT
DTSTART;TZID=America/Los_Angeles:20250510T160000
DTEND;TZID=America/Los_Angeles:20250510T180000
DTSTAMP:20260425T061106
CREATED:20250312T174952Z
LAST-MODIFIED:20250312T174952Z
UID:42236-1746892800-1746900000@oldediblerenotahoe.com
SUMMARY:Mother's Day Tour and Tea at Mackay Mansion
DESCRIPTION:Enjoy a lovely tea party with traditional tea sandwiches\, sweets and treats and our traditional raffle drawing followed by a tour of the Mackay Mansion Museum.
URL:https://oldediblerenotahoe.com/event/mothers-day-tour-and-tea-at-mackay-mansion/
LOCATION:Mackay Mansion
END:VEVENT
BEGIN:VEVENT
DTSTART;TZID=America/Los_Angeles:20250510T100000
DTEND;TZID=America/Los_Angeles:20250510T190000
DTSTAMP:20260425T061106
CREATED:20250312T172426Z
LAST-MODIFIED:20250312T172426Z
UID:41997-1746871200-1746903600@oldediblerenotahoe.com
SUMMARY:Baby Animal & Tulip Festival
DESCRIPTION:The Baby Animal & Tulip Festival is such an exciting time on the farm\, and offers guests a more personal experience with the baby goats\, lambs\, and calves. \nAdmission includes access to the tulip U-pick fields (when in season)\, petting zoo area\, and all the barnyard games and activities\, including our newly expanded mini zips.
URL:https://oldediblerenotahoe.com/event/baby-animal-tulip-festival-2025-05-10/
LOCATION:Andelin Family Farm\, 8100 Pyramid Way\, Spanish Springs\, NV\, 89436
END:VEVENT
BEGIN:VEVENT
DTSTART;TZID=America/Los_Angeles:20250510T093000
DTEND;TZID=America/Los_Angeles:20250510T113000
DTSTAMP:20260425T061106
CREATED:20250312T174823Z
LAST-MODIFIED:20250312T174823Z
UID:42224-1746869400-1746876600@oldediblerenotahoe.com
SUMMARY:Tea & Scones Workshop
DESCRIPTION:Join Nothing To It! for a delightful journey into the world of tea & scones and take home the skills to recreate this charming tradition in your own kitchen. Their focus will help you understand the essential ingredients and techniques for making the perfect sweet and savory scones. Through hands-on practice you will mix\, knead\, and shape scones and then sit down and enjoy your creations with tea! Ages 10 and up are welcome to attend with an adult.
URL:https://oldediblerenotahoe.com/event/tea-scones-workshop/
LOCATION:Nothing To It!\, 225 Crummer Lane\, Reno\, NV\, 89502\, United States
END:VEVENT
BEGIN:VEVENT
DTSTART;TZID=America/Los_Angeles:20250510T093000
DTEND;TZID=America/Los_Angeles:20250510T110000
DTSTAMP:20260425T061106
CREATED:20250312T175056Z
LAST-MODIFIED:20250312T175056Z
UID:42238-1746869400-1746874800@oldediblerenotahoe.com
SUMMARY:Women's Brunch
DESCRIPTION:Celebrate and gather with the women in your life at a fun and relaxing Women’s Event in celebration of Mother’s Day at the farm. Enjoy delicious food\, catered by Fig Tree Catering.
URL:https://oldediblerenotahoe.com/event/womens-brunch-2/
LOCATION:Andelin Family Farm\, 8100 Pyramid Way\, Spanish Springs\, NV\, 89436
END:VEVENT
BEGIN:VEVENT
DTSTART;TZID=America/Los_Angeles:20250510T090000
DTEND;TZID=America/Los_Angeles:20250510T160000
DTSTAMP:20260425T061106
CREATED:20250209T213524Z
LAST-MODIFIED:20250209T213524Z
UID:41410-1746867600-1746892800@oldediblerenotahoe.com
SUMMARY:Back Roads Vintage Market
DESCRIPTION:
URL:https://oldediblerenotahoe.com/event/back-roads-vintage-market-3/
LOCATION:Rafter 3C Arena\, 227 Sheckler Road\, Fallon\, NV
END:VEVENT
BEGIN:VEVENT
DTSTART;TZID=America/Los_Angeles:20250510T080000
DTEND;TZID=America/Los_Angeles:20250510T140000
DTSTAMP:20260425T061106
CREATED:20241216T194353Z
LAST-MODIFIED:20241216T194353Z
UID:40796-1746864000-1746885600@oldediblerenotahoe.com
SUMMARY:Mother's Day Plant Sale
DESCRIPTION:
URL:https://oldediblerenotahoe.com/event/mothers-day-plant-sale/
LOCATION:The Greenhouse Project\, 1111 N Saliman Road\, Carson City\, NV
END:VEVENT
BEGIN:VEVENT
DTSTART;TZID=America/Los_Angeles:20250509T210000
DTEND;TZID=America/Los_Angeles:20250509T230000
DTSTAMP:20260425T061106
CREATED:20250312T174315Z
LAST-MODIFIED:20250312T174315Z
UID:42149-1746824400-1746831600@oldediblerenotahoe.com
SUMMARY:Nocturnal!
DESCRIPTION:Lose your inhibitions as you step into the magical world of “Nocturnal”. This is an 18 and over show\, featuring world class illusions\, beautiful dancers\, adult humor\, and plenty of surprises. Grab a cocktail at the White Rabbit Lounge\, sit back\, and prepare to be amazed. You might even end up being a part of the magic!
URL:https://oldediblerenotahoe.com/event/nocturnal/
LOCATION:Grand Sierra Resort\, 2500 E 2nd St\, Reno\, NV
END:VEVENT
BEGIN:VEVENT
DTSTART;TZID=America/Los_Angeles:20250509T200000
DTEND;TZID=America/Los_Angeles:20250509T220000
DTSTAMP:20260425T061106
CREATED:20250312T174002Z
LAST-MODIFIED:20250312T174002Z
UID:42145-1746820800-1746828000@oldediblerenotahoe.com
SUMMARY:Yelawolf
DESCRIPTION:
URL:https://oldediblerenotahoe.com/event/yelawolf/
LOCATION:Grand Sierra Resort\, 2500 E 2nd St\, Reno\, NV
END:VEVENT
BEGIN:VEVENT
DTSTART;TZID=America/Los_Angeles:20250509T193000
DTEND;TZID=America/Los_Angeles:20250509T220000
DTSTAMP:20260425T061106
CREATED:20250222T000332Z
LAST-MODIFIED:20250222T000332Z
UID:41736-1746819000-1746828000@oldediblerenotahoe.com
SUMMARY:Brükalton - A Brüka Regency Parody
DESCRIPTION:BRÜKALTON – A REGENCY ERA PARODY that stumbles into greatness one mistake at a time. This original play takes on the world’s of Jane Austen and Bridgerton in a spoof on Regency Classicism. Dive deep into the struggles of meaningful\, nonsexual encounters that simmer with tension\, witty\, subtle dialogue and romantic nonsense.
URL:https://oldediblerenotahoe.com/event/brukalton-a-bruka-regency-parody-2025-05-09/
LOCATION:Brüka Theatre\, 99 North Virginia Street\, Reno\, NV\, 89501
END:VEVENT
BEGIN:VEVENT
DTSTART;TZID=America/Los_Angeles:20250509T190000
DTEND;TZID=America/Los_Angeles:20250509T210000
DTSTAMP:20260425T061106
CREATED:20250312T172858Z
LAST-MODIFIED:20250312T172858Z
UID:42007-1746817200-1746824400@oldediblerenotahoe.com
SUMMARY:That's Magic!
DESCRIPTION:This grand illusion show is like no other! Presented by the award winning magic duo Kaileigh and Chase Hasty\, “That’s Magic!” will leave you dazzled and amazed. This upbeat\, interactive show is fun for all ages and guaranteed to have something for everyone. Not only will you be immersed by mind blowing magic\, but you will also see a cast of featured dancers and some elements of surprise. Step inside the White Rabbit Theater for an experience like nowhere else!
URL:https://oldediblerenotahoe.com/event/thats-magic-2025-05-09/
LOCATION:Grand Sierra Resort\, 2500 E 2nd St\, Reno\, NV
END:VEVENT
END:VCALENDAR