BEGIN:VCALENDAR
VERSION:2.0
PRODID:-//Edible Reno-Tahoe - ECPv6.15.20//NONSGML v1.0//EN
CALSCALE:GREGORIAN
METHOD:PUBLISH
X-WR-CALNAME:Edible Reno-Tahoe
X-ORIGINAL-URL:https://oldediblerenotahoe.com
X-WR-CALDESC:Events for Edible Reno-Tahoe
REFRESH-INTERVAL;VALUE=DURATION:PT1H
X-Robots-Tag:noindex
X-PUBLISHED-TTL:PT1H
BEGIN:VTIMEZONE
TZID:America/Los_Angeles
BEGIN:DAYLIGHT
TZOFFSETFROM:-0800
TZOFFSETTO:-0700
TZNAME:PDT
DTSTART:20240310T100000
END:DAYLIGHT
BEGIN:STANDARD
TZOFFSETFROM:-0700
TZOFFSETTO:-0800
TZNAME:PST
DTSTART:20241103T090000
END:STANDARD
BEGIN:DAYLIGHT
TZOFFSETFROM:-0800
TZOFFSETTO:-0700
TZNAME:PDT
DTSTART:20250309T100000
END:DAYLIGHT
BEGIN:STANDARD
TZOFFSETFROM:-0700
TZOFFSETTO:-0800
TZNAME:PST
DTSTART:20251102T090000
END:STANDARD
BEGIN:DAYLIGHT
TZOFFSETFROM:-0800
TZOFFSETTO:-0700
TZNAME:PDT
DTSTART:20260308T100000
END:DAYLIGHT
BEGIN:STANDARD
TZOFFSETFROM:-0700
TZOFFSETTO:-0800
TZNAME:PST
DTSTART:20261101T090000
END:STANDARD
END:VTIMEZONE
BEGIN:VEVENT
DTSTART;TZID=America/Los_Angeles:20250822T210000
DTEND;TZID=America/Los_Angeles:20250822T230000
DTSTAMP:20260424T092850
CREATED:20250312T174315Z
LAST-MODIFIED:20250312T174315Z
UID:42180-1755896400-1755903600@oldediblerenotahoe.com
SUMMARY:Nocturnal!
DESCRIPTION:Lose your inhibitions as you step into the magical world of “Nocturnal”. This is an 18 and over show\, featuring world class illusions\, beautiful dancers\, adult humor\, and plenty of surprises. Grab a cocktail at the White Rabbit Lounge\, sit back\, and prepare to be amazed. You might even end up being a part of the magic!
URL:https://oldediblerenotahoe.com/event/nocturnal-2025-08-22/
LOCATION:Grand Sierra Resort\, 2500 E 2nd St\, Reno\, NV
END:VEVENT
BEGIN:VEVENT
DTSTART;TZID=America/Los_Angeles:20250822T160000
DTEND;TZID=America/Los_Angeles:20250822T210000
DTSTAMP:20260424T092850
CREATED:20250323T183505Z
LAST-MODIFIED:20250323T183505Z
UID:42521-1755878400-1755896400@oldediblerenotahoe.com
SUMMARY:Food Truck Friday
DESCRIPTION:
URL:https://oldediblerenotahoe.com/event/food-truck-friday-3-2025-08-22/
LOCATION:Idlewild Park\, 1000 Cowan Dr.\, Reno\, NV\, 89509
END:VEVENT
BEGIN:VEVENT
DTSTART;TZID=America/Los_Angeles:20250822T080000
DTEND;TZID=America/Los_Angeles:20250822T170000
DTSTAMP:20260424T092850
CREATED:20250314T171242Z
LAST-MODIFIED:20250314T171242Z
UID:42469-1755849600-1755882000@oldediblerenotahoe.com
SUMMARY:9th Annual Family Respite Care of Nevada Invitational Golf Tournament
DESCRIPTION:
URL:https://oldediblerenotahoe.com/event/9th-annual-family-respite-care-of-nevada-invitational-golf-tournament/
LOCATION:Lakeridge Golf Course\, 1218 Golf Club Dr.\, Reno\, NV\, 89519
END:VEVENT
BEGIN:VEVENT
DTSTART;VALUE=DATE:20250822
DTEND;VALUE=DATE:20250825
DTSTAMP:20260424T092850
CREATED:20250323T182504Z
LAST-MODIFIED:20250323T182504Z
UID:42490-1755820800-1756079999@oldediblerenotahoe.com
SUMMARY:Fallon Cantaloupe Festival & Country Fair
DESCRIPTION:
URL:https://oldediblerenotahoe.com/event/fallon-cantaloupe-festival-country-fair-3/
LOCATION:NV
END:VEVENT
BEGIN:VEVENT
DTSTART;TZID=America/Los_Angeles:20250821T163000
DTEND;TZID=America/Los_Angeles:20250821T213000
DTSTAMP:20260424T092850
CREATED:20250209T210315Z
LAST-MODIFIED:20250209T210315Z
UID:41378-1755793800-1755811800@oldediblerenotahoe.com
SUMMARY:KTMB's Raise the River 2025
DESCRIPTION:Enjoy a mix-and-mingle cocktail reception with refreshments and bespoke experiences crafted by local businesses! Join us for an evening of food\, drinks\, festivities\, and FUNdraising\, celebrating our generous donors and dedicated volunteers. There will also be photo ops\, prizes\, and raffles- all for a great cause. Raised Experience and General tickets will be available for purchase in advance of the event.
URL:https://oldediblerenotahoe.com/event/ktmbs-raise-the-river-2025/
LOCATION:National Automobile Museum\, 10 South Lake St.\, Reno\, 89501
END:VEVENT
BEGIN:VEVENT
DTSTART;TZID=America/Los_Angeles:20250820T170000
DTEND;TZID=America/Los_Angeles:20250820T200000
DTSTAMP:20260424T092850
CREATED:20250323T183407Z
LAST-MODIFIED:20250323T183407Z
UID:42506-1755709200-1755720000@oldediblerenotahoe.com
SUMMARY:Feed the Camel
DESCRIPTION:
URL:https://oldediblerenotahoe.com/event/feed-the-camel-4-2025-08-20/
LOCATION:McKinley Arts and Culture Center\, 925 Riverside Dr.\, Reno\, NV
END:VEVENT
BEGIN:VEVENT
DTSTART;TZID=America/Los_Angeles:20250817T180000
DTEND;TZID=America/Los_Angeles:20250817T210000
DTSTAMP:20260424T092850
CREATED:20250314T002706Z
LAST-MODIFIED:20250314T002706Z
UID:42433-1755453600-1755464400@oldediblerenotahoe.com
SUMMARY:Dog Days of Summer
DESCRIPTION:The three-night performance event features a variety of local dance companies creating a different program each night. Come early\, bring your own chairs\, enjoy a meal from a local food truck vendors with your family and friends\, and then prepare to be dazzled and entertained by exceptional local dance talent. This family friendly event is is perfect for all ages. The plaza opens nightly at 6pm for a 7:30pm performance. The Pioneer Center presents this event FREE TO THE PUBLIC. \nDog Days of Summer Dance Festival serves as a spotlight benefit for another local nonprofit\, SPCA of Northern Nevada. Adding to the fun\, SPCA-NN volunteers and staff present a nightly “Pup Parade” Fashion Show\, featuring rescue dogs from their facility donning the latest fashions from the SPCA-NN Thrift Store. We invite you to enjoy exceptional local dancers while supporting great nonprofits in your community.
URL:https://oldediblerenotahoe.com/event/dog-days-of-summer-2025-08-17/
LOCATION:Pioneer Center\, 100 S. Virginia St.\, Reno\, NV\, 89501
END:VEVENT
BEGIN:VEVENT
DTSTART;TZID=America/Los_Angeles:20250817T110000
DTEND;TZID=America/Los_Angeles:20250817T170000
DTSTAMP:20260424T092850
CREATED:20250114T035144Z
LAST-MODIFIED:20250114T035144Z
UID:41180-1755428400-1755450000@oldediblerenotahoe.com
SUMMARY:Art Walk on the Comstock
DESCRIPTION:Nestled in the historic heart of Virginia City\, NV\, the Art Walk on the Comstock is a one-of-a-kind celebration of art\, culture\, and history. Over 100 artists and crafters display their works along C Street\, with booths thoughtfully placed among Virginia City’s iconic merchants\, eateries\, and saloons. Set against the stunning backdrop of one of the West’s most storied cities\, this event spans multiple blocks\, offering visitors an immersive blend of artistry and rich\, historic ambiance.
URL:https://oldediblerenotahoe.com/event/art-walk-on-the-comstock-2-2025-08-17/
LOCATION:Virginia City
END:VEVENT
BEGIN:VEVENT
DTSTART;TZID=America/Los_Angeles:20250817T090000
DTEND;TZID=America/Los_Angeles:20250817T130000
DTSTAMP:20260424T092850
CREATED:20250312T173605Z
LAST-MODIFIED:20250312T173605Z
UID:42058-1755421200-1755435600@oldediblerenotahoe.com
SUMMARY:Riverside Farmers Market
DESCRIPTION:The Riverside Farmers Market is Reno’s truly local market\, with all vendors growing\, raising\, or making their goods within the tightest possible radius around Reno. The event showcases small\, local\, and sustainable farmers and ranchers who believe that healthy food begins with a healthy land. They are also are home to Reno’s newest farmers and ranchers\, making it the perfect place to meet the fine folks growing food locally for the Truckee Meadows community.
URL:https://oldediblerenotahoe.com/event/riverside-farmers-market-4-2025-08-17/
LOCATION:Idlewild Park\, 1000 Cowan Dr.\, Reno\, NV\, 89509
END:VEVENT
BEGIN:VEVENT
DTSTART;TZID=America/Los_Angeles:20250816T210000
DTEND;TZID=America/Los_Angeles:20250816T230000
DTSTAMP:20260424T092850
CREATED:20250312T174315Z
LAST-MODIFIED:20250312T174315Z
UID:42179-1755378000-1755385200@oldediblerenotahoe.com
SUMMARY:Nocturnal!
DESCRIPTION:Lose your inhibitions as you step into the magical world of “Nocturnal”. This is an 18 and over show\, featuring world class illusions\, beautiful dancers\, adult humor\, and plenty of surprises. Grab a cocktail at the White Rabbit Lounge\, sit back\, and prepare to be amazed. You might even end up being a part of the magic!
URL:https://oldediblerenotahoe.com/event/nocturnal-2025-08-16/
LOCATION:Grand Sierra Resort\, 2500 E 2nd St\, Reno\, NV
END:VEVENT
BEGIN:VEVENT
DTSTART;TZID=America/Los_Angeles:20250816T180000
DTEND;TZID=America/Los_Angeles:20250816T210000
DTSTAMP:20260424T092850
CREATED:20250314T002706Z
LAST-MODIFIED:20250314T002706Z
UID:42432-1755367200-1755378000@oldediblerenotahoe.com
SUMMARY:Dog Days of Summer
DESCRIPTION:The three-night performance event features a variety of local dance companies creating a different program each night. Come early\, bring your own chairs\, enjoy a meal from a local food truck vendors with your family and friends\, and then prepare to be dazzled and entertained by exceptional local dance talent. This family friendly event is is perfect for all ages. The plaza opens nightly at 6pm for a 7:30pm performance. The Pioneer Center presents this event FREE TO THE PUBLIC. \nDog Days of Summer Dance Festival serves as a spotlight benefit for another local nonprofit\, SPCA of Northern Nevada. Adding to the fun\, SPCA-NN volunteers and staff present a nightly “Pup Parade” Fashion Show\, featuring rescue dogs from their facility donning the latest fashions from the SPCA-NN Thrift Store. We invite you to enjoy exceptional local dancers while supporting great nonprofits in your community.
URL:https://oldediblerenotahoe.com/event/dog-days-of-summer-2025-08-16/
LOCATION:Pioneer Center\, 100 S. Virginia St.\, Reno\, NV\, 89501
END:VEVENT
BEGIN:VEVENT
DTSTART;TZID=America/Los_Angeles:20250816T110000
DTEND;TZID=America/Los_Angeles:20250816T190000
DTSTAMP:20260424T092850
CREATED:20250114T035144Z
LAST-MODIFIED:20250114T035144Z
UID:41179-1755342000-1755370800@oldediblerenotahoe.com
SUMMARY:Art Walk on the Comstock
DESCRIPTION:Nestled in the historic heart of Virginia City\, NV\, the Art Walk on the Comstock is a one-of-a-kind celebration of art\, culture\, and history. Over 100 artists and crafters display their works along C Street\, with booths thoughtfully placed among Virginia City’s iconic merchants\, eateries\, and saloons. Set against the stunning backdrop of one of the West’s most storied cities\, this event spans multiple blocks\, offering visitors an immersive blend of artistry and rich\, historic ambiance.
URL:https://oldediblerenotahoe.com/event/art-walk-on-the-comstock-2/
LOCATION:Virginia City
END:VEVENT
BEGIN:VEVENT
DTSTART;TZID=America/Los_Angeles:20250815T210000
DTEND;TZID=America/Los_Angeles:20250815T230000
DTSTAMP:20260424T092850
CREATED:20250312T174315Z
LAST-MODIFIED:20250312T174315Z
UID:42178-1755291600-1755298800@oldediblerenotahoe.com
SUMMARY:Nocturnal!
DESCRIPTION:Lose your inhibitions as you step into the magical world of “Nocturnal”. This is an 18 and over show\, featuring world class illusions\, beautiful dancers\, adult humor\, and plenty of surprises. Grab a cocktail at the White Rabbit Lounge\, sit back\, and prepare to be amazed. You might even end up being a part of the magic!
URL:https://oldediblerenotahoe.com/event/nocturnal-2025-08-15/
LOCATION:Grand Sierra Resort\, 2500 E 2nd St\, Reno\, NV
END:VEVENT
BEGIN:VEVENT
DTSTART;TZID=America/Los_Angeles:20250815T180000
DTEND;TZID=America/Los_Angeles:20250815T210000
DTSTAMP:20260424T092850
CREATED:20250314T002706Z
LAST-MODIFIED:20250314T002706Z
UID:42431-1755280800-1755291600@oldediblerenotahoe.com
SUMMARY:Dog Days of Summer
DESCRIPTION:The three-night performance event features a variety of local dance companies creating a different program each night. Come early\, bring your own chairs\, enjoy a meal from a local food truck vendors with your family and friends\, and then prepare to be dazzled and entertained by exceptional local dance talent. This family friendly event is is perfect for all ages. The plaza opens nightly at 6pm for a 7:30pm performance. The Pioneer Center presents this event FREE TO THE PUBLIC. \nDog Days of Summer Dance Festival serves as a spotlight benefit for another local nonprofit\, SPCA of Northern Nevada. Adding to the fun\, SPCA-NN volunteers and staff present a nightly “Pup Parade” Fashion Show\, featuring rescue dogs from their facility donning the latest fashions from the SPCA-NN Thrift Store. We invite you to enjoy exceptional local dancers while supporting great nonprofits in your community.
URL:https://oldediblerenotahoe.com/event/dog-days-of-summer/
LOCATION:Pioneer Center\, 100 S. Virginia St.\, Reno\, NV\, 89501
END:VEVENT
BEGIN:VEVENT
DTSTART;TZID=America/Los_Angeles:20250815T170000
DTEND;TZID=America/Los_Angeles:20250815T220000
DTSTAMP:20260424T092850
CREATED:20250314T002810Z
LAST-MODIFIED:20250314T002810Z
UID:42435-1755277200-1755295200@oldediblerenotahoe.com
SUMMARY:Art of Childhood
DESCRIPTION:
URL:https://oldediblerenotahoe.com/event/art-of-childhood-2/
LOCATION:The Club at Rancharrah
END:VEVENT
BEGIN:VEVENT
DTSTART;TZID=America/Los_Angeles:20250815T160000
DTEND;TZID=America/Los_Angeles:20250815T210000
DTSTAMP:20260424T092850
CREATED:20250323T183505Z
LAST-MODIFIED:20250323T183505Z
UID:42519-1755273600-1755291600@oldediblerenotahoe.com
SUMMARY:Food Truck Friday
DESCRIPTION:
URL:https://oldediblerenotahoe.com/event/food-truck-friday-3-2025-08-15/
LOCATION:Idlewild Park\, 1000 Cowan Dr.\, Reno\, NV\, 89509
END:VEVENT
BEGIN:VEVENT
DTSTART;VALUE=DATE:20250815
DTEND;VALUE=DATE:20250818
DTSTAMP:20260424T092850
CREATED:20250314T003004Z
LAST-MODIFIED:20250314T003004Z
UID:42437-1755216000-1755475199@oldediblerenotahoe.com
SUMMARY:Grown-Up Getaway Camp
DESCRIPTION:Are you ready for a unique summer camp experience\, designed exclusively for adults? Sierra Nevada Journeys has just the thing! This perfect unwinding weekend awaits you\, with no responsibilities other than showing up with your friends.
URL:https://oldediblerenotahoe.com/event/grown-up-getaway-camp/
LOCATION:Sierra Nevada Journeys Outdoor Education Camp\, Portola\, CA
END:VEVENT
BEGIN:VEVENT
DTSTART;TZID=America/Los_Angeles:20250813T170000
DTEND;TZID=America/Los_Angeles:20250813T200000
DTSTAMP:20260424T092850
CREATED:20250323T183407Z
LAST-MODIFIED:20250323T183407Z
UID:42504-1755104400-1755115200@oldediblerenotahoe.com
SUMMARY:Feed the Camel
DESCRIPTION:
URL:https://oldediblerenotahoe.com/event/feed-the-camel-4-2025-08-13/
LOCATION:McKinley Arts and Culture Center\, 925 Riverside Dr.\, Reno\, NV
END:VEVENT
BEGIN:VEVENT
DTSTART;TZID=America/Los_Angeles:20250810T090000
DTEND;TZID=America/Los_Angeles:20250810T130000
DTSTAMP:20260424T092850
CREATED:20250312T173605Z
LAST-MODIFIED:20250312T173605Z
UID:42057-1754816400-1754830800@oldediblerenotahoe.com
SUMMARY:Riverside Farmers Market
DESCRIPTION:The Riverside Farmers Market is Reno’s truly local market\, with all vendors growing\, raising\, or making their goods within the tightest possible radius around Reno. The event showcases small\, local\, and sustainable farmers and ranchers who believe that healthy food begins with a healthy land. They are also are home to Reno’s newest farmers and ranchers\, making it the perfect place to meet the fine folks growing food locally for the Truckee Meadows community.
URL:https://oldediblerenotahoe.com/event/riverside-farmers-market-4-2025-08-10/
LOCATION:Idlewild Park\, 1000 Cowan Dr.\, Reno\, NV\, 89509
END:VEVENT
BEGIN:VEVENT
DTSTART;TZID=America/Los_Angeles:20250809T210000
DTEND;TZID=America/Los_Angeles:20250809T230000
DTSTAMP:20260424T092850
CREATED:20250312T174315Z
LAST-MODIFIED:20250312T174315Z
UID:42177-1754773200-1754780400@oldediblerenotahoe.com
SUMMARY:Nocturnal!
DESCRIPTION:Lose your inhibitions as you step into the magical world of “Nocturnal”. This is an 18 and over show\, featuring world class illusions\, beautiful dancers\, adult humor\, and plenty of surprises. Grab a cocktail at the White Rabbit Lounge\, sit back\, and prepare to be amazed. You might even end up being a part of the magic!
URL:https://oldediblerenotahoe.com/event/nocturnal-2025-08-09/
LOCATION:Grand Sierra Resort\, 2500 E 2nd St\, Reno\, NV
END:VEVENT
BEGIN:VEVENT
DTSTART;TZID=America/Los_Angeles:20250808T210000
DTEND;TZID=America/Los_Angeles:20250808T230000
DTSTAMP:20260424T092850
CREATED:20250312T174315Z
LAST-MODIFIED:20250312T174315Z
UID:42176-1754686800-1754694000@oldediblerenotahoe.com
SUMMARY:Nocturnal!
DESCRIPTION:Lose your inhibitions as you step into the magical world of “Nocturnal”. This is an 18 and over show\, featuring world class illusions\, beautiful dancers\, adult humor\, and plenty of surprises. Grab a cocktail at the White Rabbit Lounge\, sit back\, and prepare to be amazed. You might even end up being a part of the magic!
URL:https://oldediblerenotahoe.com/event/nocturnal-2025-08-08/
LOCATION:Grand Sierra Resort\, 2500 E 2nd St\, Reno\, NV
END:VEVENT
BEGIN:VEVENT
DTSTART;TZID=America/Los_Angeles:20250808T160000
DTEND;TZID=America/Los_Angeles:20250808T210000
DTSTAMP:20260424T092850
CREATED:20250323T183505Z
LAST-MODIFIED:20250323T183505Z
UID:42518-1754668800-1754686800@oldediblerenotahoe.com
SUMMARY:Food Truck Friday
DESCRIPTION:
URL:https://oldediblerenotahoe.com/event/food-truck-friday-3-2025-08-08/
LOCATION:Idlewild Park\, 1000 Cowan Dr.\, Reno\, NV\, 89509
END:VEVENT
BEGIN:VEVENT
DTSTART;TZID=America/Los_Angeles:20250806T170000
DTEND;TZID=America/Los_Angeles:20250806T200000
DTSTAMP:20260424T092850
CREATED:20250323T183407Z
LAST-MODIFIED:20250323T183407Z
UID:42503-1754499600-1754510400@oldediblerenotahoe.com
SUMMARY:Feed the Camel
DESCRIPTION:
URL:https://oldediblerenotahoe.com/event/feed-the-camel-4-2025-08-06/
LOCATION:McKinley Arts and Culture Center\, 925 Riverside Dr.\, Reno\, NV
END:VEVENT
BEGIN:VEVENT
DTSTART;TZID=America/Los_Angeles:20250803T090000
DTEND;TZID=America/Los_Angeles:20250803T130000
DTSTAMP:20260424T092850
CREATED:20250312T173605Z
LAST-MODIFIED:20250312T173605Z
UID:42056-1754211600-1754226000@oldediblerenotahoe.com
SUMMARY:Riverside Farmers Market
DESCRIPTION:The Riverside Farmers Market is Reno’s truly local market\, with all vendors growing\, raising\, or making their goods within the tightest possible radius around Reno. The event showcases small\, local\, and sustainable farmers and ranchers who believe that healthy food begins with a healthy land. They are also are home to Reno’s newest farmers and ranchers\, making it the perfect place to meet the fine folks growing food locally for the Truckee Meadows community.
URL:https://oldediblerenotahoe.com/event/riverside-farmers-market-4-2025-08-03/
LOCATION:Idlewild Park\, 1000 Cowan Dr.\, Reno\, NV\, 89509
END:VEVENT
BEGIN:VEVENT
DTSTART;TZID=America/Los_Angeles:20250802T210000
DTEND;TZID=America/Los_Angeles:20250802T230000
DTSTAMP:20260424T092850
CREATED:20250312T174315Z
LAST-MODIFIED:20250312T174315Z
UID:42175-1754168400-1754175600@oldediblerenotahoe.com
SUMMARY:Nocturnal!
DESCRIPTION:Lose your inhibitions as you step into the magical world of “Nocturnal”. This is an 18 and over show\, featuring world class illusions\, beautiful dancers\, adult humor\, and plenty of surprises. Grab a cocktail at the White Rabbit Lounge\, sit back\, and prepare to be amazed. You might even end up being a part of the magic!
URL:https://oldediblerenotahoe.com/event/nocturnal-2025-08-02/
LOCATION:Grand Sierra Resort\, 2500 E 2nd St\, Reno\, NV
END:VEVENT
BEGIN:VEVENT
DTSTART;TZID=America/Los_Angeles:20250802T180000
DTEND;TZID=America/Los_Angeles:20250802T210000
DTSTAMP:20260424T092850
CREATED:20250314T002532Z
LAST-MODIFIED:20250314T002532Z
UID:42429-1754157600-1754168400@oldediblerenotahoe.com
SUMMARY:14th Annual Wine & Ribs Fundraiser
DESCRIPTION:
URL:https://oldediblerenotahoe.com/event/14th-annual-wine-ribs-fundraiser/
LOCATION:NV
END:VEVENT
BEGIN:VEVENT
DTSTART;TZID=America/Los_Angeles:20250801T210000
DTEND;TZID=America/Los_Angeles:20250801T230000
DTSTAMP:20260424T092850
CREATED:20250312T174315Z
LAST-MODIFIED:20250312T174315Z
UID:42174-1754082000-1754089200@oldediblerenotahoe.com
SUMMARY:Nocturnal!
DESCRIPTION:Lose your inhibitions as you step into the magical world of “Nocturnal”. This is an 18 and over show\, featuring world class illusions\, beautiful dancers\, adult humor\, and plenty of surprises. Grab a cocktail at the White Rabbit Lounge\, sit back\, and prepare to be amazed. You might even end up being a part of the magic!
URL:https://oldediblerenotahoe.com/event/nocturnal-2025-08-01/
LOCATION:Grand Sierra Resort\, 2500 E 2nd St\, Reno\, NV
END:VEVENT
BEGIN:VEVENT
DTSTART;TZID=America/Los_Angeles:20250801T193000
DTEND;TZID=America/Los_Angeles:20250801T213000
DTSTAMP:20260424T092850
CREATED:20250113T212234Z
LAST-MODIFIED:20250113T212234Z
UID:41150-1754076600-1754083800@oldediblerenotahoe.com
SUMMARY:Lake Tahoe Shakespeare Festival: Peter and the Starcatcher
DESCRIPTION:Set sail to explore the Neverland you never knew with this Tony Award-winning prequel that charts a course through Peter’s untold escapades. A dozen actors portray over 100 unforgettable characters in this high-flying adventure bursting with imagination and ingenious stagecraft. It is a humorous\, heartwarming ride through ambition\, yearning and the magic of friendship\, where you will discover the boy who never grew up before he took flight.
URL:https://oldediblerenotahoe.com/event/lake-tahoe-shakespeare-festival-peter-and-the-starcatcher-2025-08-01/
LOCATION:Sand Harbor State Park\, 2005 NV-28\, Incline Village\, NV\, 89451
END:VEVENT
BEGIN:VEVENT
DTSTART;TZID=America/Los_Angeles:20250801T160000
DTEND;TZID=America/Los_Angeles:20250801T210000
DTSTAMP:20260424T092850
CREATED:20250323T183505Z
LAST-MODIFIED:20250323T183505Z
UID:42517-1754064000-1754082000@oldediblerenotahoe.com
SUMMARY:Food Truck Friday
DESCRIPTION:
URL:https://oldediblerenotahoe.com/event/food-truck-friday-3-2025-08-01/
LOCATION:Idlewild Park\, 1000 Cowan Dr.\, Reno\, NV\, 89509
END:VEVENT
BEGIN:VEVENT
DTSTART;VALUE=DATE:20250801
DTEND;VALUE=DATE:20250811
DTSTAMP:20260424T092850
CREATED:20250312T181148Z
LAST-MODIFIED:20250312T181148Z
UID:42246-1754006400-1754870399@oldediblerenotahoe.com
SUMMARY:Hot August Nights
DESCRIPTION:
URL:https://oldediblerenotahoe.com/event/hot-august-nights-2/
LOCATION:NV
END:VEVENT
END:VCALENDAR