BEGIN:VCALENDAR
VERSION:2.0
PRODID:-//Edible Reno-Tahoe - ECPv6.15.20//NONSGML v1.0//EN
CALSCALE:GREGORIAN
METHOD:PUBLISH
X-WR-CALNAME:Edible Reno-Tahoe
X-ORIGINAL-URL:https://oldediblerenotahoe.com
X-WR-CALDESC:Events for Edible Reno-Tahoe
REFRESH-INTERVAL;VALUE=DURATION:PT1H
X-Robots-Tag:noindex
X-PUBLISHED-TTL:PT1H
BEGIN:VTIMEZONE
TZID:America/Los_Angeles
BEGIN:DAYLIGHT
TZOFFSETFROM:-0800
TZOFFSETTO:-0700
TZNAME:PDT
DTSTART:20240310T100000
END:DAYLIGHT
BEGIN:STANDARD
TZOFFSETFROM:-0700
TZOFFSETTO:-0800
TZNAME:PST
DTSTART:20241103T090000
END:STANDARD
BEGIN:DAYLIGHT
TZOFFSETFROM:-0800
TZOFFSETTO:-0700
TZNAME:PDT
DTSTART:20250309T100000
END:DAYLIGHT
BEGIN:STANDARD
TZOFFSETFROM:-0700
TZOFFSETTO:-0800
TZNAME:PST
DTSTART:20251102T090000
END:STANDARD
BEGIN:DAYLIGHT
TZOFFSETFROM:-0800
TZOFFSETTO:-0700
TZNAME:PDT
DTSTART:20260308T100000
END:DAYLIGHT
BEGIN:STANDARD
TZOFFSETFROM:-0700
TZOFFSETTO:-0800
TZNAME:PST
DTSTART:20261101T090000
END:STANDARD
END:VTIMEZONE
BEGIN:VEVENT
DTSTART;TZID=America/Los_Angeles:20250301T100000
DTEND;TZID=America/Los_Angeles:20250301T120000
DTSTAMP:20260425T073143
CREATED:20241216T191121Z
LAST-MODIFIED:20241216T191121Z
UID:40757-1740823200-1740830400@oldediblerenotahoe.com
SUMMARY:Sustainable Gardening 101
DESCRIPTION:Reconnect with the natural world by creating healthy and nuturing spaces for yourself and your family! In Sustainable Gardening 101\, you will develop confidence in your ability to grow something meaningful\, whether that’s a small herb garden\, a thriving pollinator habitat\, or a community project that revitalizes and underused space. You will leave this class with the knowledge\, passion and vision for a lifelong love of gardening and a commitment to sustainable practices.
URL:https://oldediblerenotahoe.com/event/sustainable-gardening-101-2025-03-01/
LOCATION:Western Nevada College\, 2201 West College Pkwy\, Carson City\, NV\, 89703
END:VEVENT
BEGIN:VEVENT
DTSTART;TZID=America/Los_Angeles:20250301T110000
DTEND;TZID=America/Los_Angeles:20250301T120000
DTSTAMP:20260425T073143
CREATED:20250114T041153Z
LAST-MODIFIED:20250114T041153Z
UID:41209-1740826800-1740830400@oldediblerenotahoe.com
SUMMARY:Winter Pruning Class
DESCRIPTION:Learn all the ins and outs of pruing your trees and shrubs- the best time and what can be pruned during the winter\, how to properly prune and what tools to use.
URL:https://oldediblerenotahoe.com/event/winter-pruning-class/
LOCATION:Rail City Garden Center\, 1720 Brierley Way\, Sparks\, NV\, 89434
END:VEVENT
BEGIN:VEVENT
DTSTART;TZID=America/Los_Angeles:20250301T180000
DTEND;TZID=America/Los_Angeles:20250301T210000
DTSTAMP:20260425T073143
CREATED:20250221T230908Z
LAST-MODIFIED:20250221T230908Z
UID:41651-1740852000-1740862800@oldediblerenotahoe.com
SUMMARY:Charlie Palmer Bloom Dinner
DESCRIPTION:The evening begins with an intimate cocktail hour from 6 to 7 p.m.\, where guests will enjoy handcrafted cocktails and delectable appetizers in an intimate setting. Musician Eric Anderson will set the mood with a live performance\, creating a relaxed atmosphere as guests mingle and savor the delicious offerings. \nThe evening’s menu highlights the bright\, fresh flavors of spring\, beginning with a duck confit salad\, featuring tender duck confit with spring leeks\, toasted walnuts and radish\, dressed in a parmesan vinaigrette. This starter is paired with Schramsberg Sparkling Brut Rosé MV\, a delicious sparkler featuring a fruitful\, complex and dry profile. \nNext\, guests will savor grilled Catalan prawns—tiger prawn brochette served over ajo blanco with delicate olive oil pearls. The dish is complemented by the Bricoleur Sauvignon Blanc 2022\, whose bright acidity enhances the prawns’ fresh flavors. \nThe third course showcases herb-seared grouper\, accompanied by a vibrant spring vegetable fricassée and finished with a fragrant gremolata. Paired with a Limestone Chardonnay 2022\, a refined white wine that brings out the dish’s delicate citrus and herbaceous notes. \nFor the main course\, guests will indulge in a black pepper-crusted filet mignon\, served alongside escalivada—a smoky Catalan-style roasted vegetable dish—and roasted fingerling potatoes. This robust and flavorful entrée is paired with a Bricoleur Pinot Noir 2021. \nTo conclude the evening\, guests will delight in a rhubarb frangipane tart\, served with fresh strawberries\, amaretto cream and a scoop of vanilla bean ice cream. The dessert is elevated with a glass of Bricoleur ‘The Last Note’ Late Harvest 2021\, a sweet and aromatic wine that provides a perfect ending to the evening.
URL:https://oldediblerenotahoe.com/event/charlie-palmer-bloom-dinner/
LOCATION:Grand Sierra Resort\, 2500 E 2nd St\, Reno\, NV
END:VEVENT
BEGIN:VEVENT
DTSTART;TZID=America/Los_Angeles:20250301T183000
DTEND;TZID=America/Los_Angeles:20250301T213000
DTSTAMP:20260425T073143
CREATED:20250209T211214Z
LAST-MODIFIED:20250209T211214Z
UID:41387-1740853800-1740864600@oldediblerenotahoe.com
SUMMARY:Mardi Gras & Silent Auction
DESCRIPTION:Join PBS Reno for “Mardi Gras” – a special event brought to you by the Reno Blues Society and the National Automobile Museum. Enjoy an evening of irresistible dance grooves\,soulful tunes and incredible classic cars\, starting with an opening performance by The Buddy Emmer Blues Band\, followed by the main feature\, John Nemeth. \nThroughout the night\, there will be a Silent Auction benefiting the Reno Blues Society’s Music Grant Program\, which supports local student music education and opportunities. \nDon’t miss this unique blend of great music and iconic cars. We look forward to seeing you there for an unforgettable experience!
URL:https://oldediblerenotahoe.com/event/mardi-gras-silent-auction/
LOCATION:National Automobile Museum\, 10 South Lake St.\, Reno\, 89501
END:VEVENT
BEGIN:VEVENT
DTSTART;TZID=America/Los_Angeles:20250301T193000
DTEND;TZID=America/Los_Angeles:20250301T213000
DTSTAMP:20260425T073143
CREATED:20250114T042524Z
LAST-MODIFIED:20250114T042524Z
UID:41232-1740857400-1740864600@oldediblerenotahoe.com
SUMMARY:The Simon & Garfunkel Story
DESCRIPTION:The Simon & Garfunkel Story is touring North America again this year! Using huge projection photos and original film footage\, featuring a full live band performing all the hits including ‘Mrs. Robinson’\, ‘Cecilia’\, ‘Bridge Over Troubled Water’\, ‘Homeward Bound’ and many more. \n‘‘Fantastic’’ – Elaine Paige\, BBC Radio and “Authentic and Exciting” – The Stage \nThe immersive concert-style theater show chronicles the amazing journey shared by the folk-rock duo\, Paul Simon and Art Garfunkel. It tells the story from their humble beginnings as Tom & Jerry to their incredible success as one of the best-selling music groups of the ‘60’s to their dramatic split in 1970. It culminates with the famous “The Concert in Central Park” reunion in 1981 with more than half a million fans in attendance. \nWith more than 100 million album sales since 1965\, Simon & Garfunkel’s perfect harmonies and songs that poignantly captured the times made them one of the most successful folk-rock duos of all time. Over the years\, they 10 Grammy Awards and were inducted into the Rock and Roll Hall of Fame in 1990. In 1977\, their “Bridge Over Troubled Water” album was nominated at the Brit Awards for Best International Album. In 2003\, Simon and Garfunkel were awarded a Grammy Lifetime Achievement Award and the following year saw their “The Sound of Silence” awarded a Grammy Hall of Fame Award.
URL:https://oldediblerenotahoe.com/event/the-simon-garfunkel-story/
LOCATION:Pioneer Center\, 100 S. Virginia St.\, Reno\, NV\, 89501
END:VEVENT
BEGIN:VEVENT
DTSTART;TZID=America/Los_Angeles:20250301T200000
DTEND;TZID=America/Los_Angeles:20250301T230000
DTSTAMP:20260425T073143
CREATED:20250209T232430Z
LAST-MODIFIED:20250209T232430Z
UID:41533-1740859200-1740870000@oldediblerenotahoe.com
SUMMARY:An Intimate Evening with the Tenors
DESCRIPTION:
URL:https://oldediblerenotahoe.com/event/an-intimate-evening-with-the-tenors/
LOCATION:Grand Sierra Resort\, 2500 E 2nd St\, Reno\, NV
END:VEVENT
BEGIN:VEVENT
DTSTART;TZID=America/Los_Angeles:20250302T080000
DTEND;TZID=America/Los_Angeles:20250302T170000
DTSTAMP:20260425T073143
CREATED:20240811T012224Z
LAST-MODIFIED:20240811T012224Z
UID:39623-1740902400-1740934800@oldediblerenotahoe.com
SUMMARY:Reno Chamber Orchestra's American Dance Party
DESCRIPTION:
URL:https://oldediblerenotahoe.com/event/reno-chamber-orchestras-american-dance-party-2025-03-02/
LOCATION:Nightingale Concert Hall\, 1335 N Virginia St\, Reno\, NV
END:VEVENT
BEGIN:VEVENT
DTSTART;TZID=America/Los_Angeles:20250302T193000
DTEND;TZID=America/Los_Angeles:20250302T220000
DTSTAMP:20260425T073143
CREATED:20250209T232808Z
LAST-MODIFIED:20250209T232808Z
UID:41535-1740943800-1740952800@oldediblerenotahoe.com
SUMMARY:An Evening with Dream Theater
DESCRIPTION:
URL:https://oldediblerenotahoe.com/event/an-evening-with-dream-theater/
LOCATION:Grand Sierra Resort\, 2500 E 2nd St\, Reno\, NV
END:VEVENT
BEGIN:VEVENT
DTSTART;TZID=America/Los_Angeles:20250304T080000
DTEND;TZID=America/Los_Angeles:20250304T170000
DTSTAMP:20260425T073143
CREATED:20250209T211828Z
LAST-MODIFIED:20250209T211828Z
UID:41397-1741075200-1741107600@oldediblerenotahoe.com
SUMMARY:Gardening in Nevada: Pond & Water Gardening
DESCRIPTION:
URL:https://oldediblerenotahoe.com/event/gardening-in-nevada-pond-water-gardening/
LOCATION:Bartley Ranch
END:VEVENT
BEGIN:VEVENT
DTSTART;TZID=America/Los_Angeles:20250306T180000
DTEND;TZID=America/Los_Angeles:20250306T200000
DTSTAMP:20260425T073143
CREATED:20250209T225137Z
LAST-MODIFIED:20250209T225405Z
UID:41473-1741284000-1741291200@oldediblerenotahoe.com
SUMMARY:Gumbo\, Jambalaya & Beignets Class
DESCRIPTION:
URL:https://oldediblerenotahoe.com/event/gumbo-jambalaya-beignets-class/
LOCATION:Nothing To It!\, 225 Crummer Lane\, Reno\, NV\, 89502\, United States
END:VEVENT
BEGIN:VEVENT
DTSTART;TZID=America/Los_Angeles:20250307T180000
DTEND;TZID=America/Los_Angeles:20250307T200000
DTSTAMP:20260425T073143
CREATED:20250209T225228Z
LAST-MODIFIED:20250209T225446Z
UID:41475-1741370400-1741377600@oldediblerenotahoe.com
SUMMARY:Fast Fish Class
DESCRIPTION:
URL:https://oldediblerenotahoe.com/event/fast-fish-class/
LOCATION:Nothing To It!\, 225 Crummer Lane\, Reno\, NV\, 89502\, United States
END:VEVENT
BEGIN:VEVENT
DTSTART;TZID=America/Los_Angeles:20250307T190000
DTEND;TZID=America/Los_Angeles:20250307T210000
DTSTAMP:20260425T073143
CREATED:20250221T232754Z
LAST-MODIFIED:20250221T232754Z
UID:41658-1741374000-1741381200@oldediblerenotahoe.com
SUMMARY:The Enchanged Bookshop
DESCRIPTION:During the day\, A Likely Story may look like any other used bookstore. But at night\, it’s a place where magic happens. That’s when the characters inside the books come alive. Six of those characters — Dorothy Gale\, Robin Hood\, Pollyanna\, Sherlock Holmes\, Heidi\, and Tom Sawyer — long to help Margie\, the scatterbrained owner\, save her struggling store. But they’re not allowed to leave the building or be seen by human eyes. So when a pair of smugglers comes looking for a stolen necklace hidden inside one of the books\, the characters are torn. Should they warn Margie and risk disappearing forever? Or can they find a way to defeat the crooks without being seen? Featuring additional appearances by such beloved literary characters as the Queen of Hearts\, Long John Silver\, and Doctor Dolittle\, this charming comedy celebrates the joy of reading in a fresh\, fun-filled way.
URL:https://oldediblerenotahoe.com/event/the-enchanged-bookshop/
LOCATION:Reno Little Theatre\, 147 E Pueblo St\, Reno
END:VEVENT
BEGIN:VEVENT
DTSTART;TZID=America/Los_Angeles:20250307T193000
DTEND;TZID=America/Los_Angeles:20250307T213000
DTSTAMP:20260425T073143
CREATED:20250221T235646Z
LAST-MODIFIED:20250221T235646Z
UID:41675-1741375800-1741383000@oldediblerenotahoe.com
SUMMARY:A Perfect Ganesh
DESCRIPTION:A Perfect Ganesh by Terrence McNally follows two American women\, Margaret and Katharine\, on a transformative journey to India. The play explores themes of grief\, healing\, and self-discovery as the women confront their personal tragedies and seek spiritual solace in the vibrant culture of India. The play’s narrative\, guided by Ganesha\, the Hindu god of wisdom and remover of obstacles\, appears to the two women in various forms throughout their journey\, offering guidance and support.
URL:https://oldediblerenotahoe.com/event/a-perfect-ganesh/
LOCATION:Brüka Theatre\, 99 North Virginia Street\, Reno\, NV\, 89501
END:VEVENT
BEGIN:VEVENT
DTSTART;TZID=America/Los_Angeles:20250307T200000
DTEND;TZID=America/Los_Angeles:20250307T230000
DTSTAMP:20260425T073143
CREATED:20250209T232937Z
LAST-MODIFIED:20250209T232937Z
UID:41537-1741377600-1741388400@oldediblerenotahoe.com
SUMMARY:Whitney Cummings
DESCRIPTION:
URL:https://oldediblerenotahoe.com/event/whitney-cummings/
LOCATION:Grand Sierra Resort\, 2500 E 2nd St\, Reno\, NV
END:VEVENT
BEGIN:VEVENT
DTSTART;VALUE=DATE:20250308
DTEND;VALUE=DATE:20250309
DTSTAMP:20260425T073143
CREATED:20250114T044223Z
LAST-MODIFIED:20250114T044223Z
UID:41262-1741392000-1741478399@oldediblerenotahoe.com
SUMMARY:International Women's Day
DESCRIPTION:
URL:https://oldediblerenotahoe.com/event/international-womens-day/
LOCATION:NV
END:VEVENT
BEGIN:VEVENT
DTSTART;TZID=America/Los_Angeles:20250308T100000
DTEND;TZID=America/Los_Angeles:20250308T120000
DTSTAMP:20260425T073143
CREATED:20241216T191121Z
LAST-MODIFIED:20241216T191121Z
UID:40758-1741428000-1741435200@oldediblerenotahoe.com
SUMMARY:Sustainable Gardening 101
DESCRIPTION:Reconnect with the natural world by creating healthy and nuturing spaces for yourself and your family! In Sustainable Gardening 101\, you will develop confidence in your ability to grow something meaningful\, whether that’s a small herb garden\, a thriving pollinator habitat\, or a community project that revitalizes and underused space. You will leave this class with the knowledge\, passion and vision for a lifelong love of gardening and a commitment to sustainable practices.
URL:https://oldediblerenotahoe.com/event/sustainable-gardening-101-2025-03-08/
LOCATION:Western Nevada College\, 2201 West College Pkwy\, Carson City\, NV\, 89703
END:VEVENT
BEGIN:VEVENT
DTSTART;TZID=America/Los_Angeles:20250308T100000
DTEND;TZID=America/Los_Angeles:20250308T123000
DTSTAMP:20260425T073143
CREATED:20250209T224510Z
LAST-MODIFIED:20250209T224510Z
UID:41467-1741428000-1741437000@oldediblerenotahoe.com
SUMMARY:Dead Plant Society: Native & Perennial Plants
DESCRIPTION:Perennial and native plants add color\, wildlife habitat and food for bees\, butterflies and other pollinators. They can also help protect your fruits and veggies from insects and regenerate the soil. In this workshop we welcome Christopher MacKessy\, Smithridge Elementary science teacher\, and native plants enthusiast to share his expertise! \nThis class will cover how to select plants for your garden\, how to maintain them\, as well as how to turn your space into a full fledged food forest that yields food year round. Everyone will go home with a perennial plant\, and one lucky Dead Plant Society attendee will take home one of our favorite books “Gaia’s Garden”.
URL:https://oldediblerenotahoe.com/event/dead-plant-society-native-perennial-plants/
LOCATION:Urban Teaching Farm\, 1700 E 2nd Street\, Reno\, NV\, 89502
END:VEVENT
BEGIN:VEVENT
DTSTART;TZID=America/Los_Angeles:20250308T100000
DTEND;TZID=America/Los_Angeles:20250308T150000
DTSTAMP:20260425T073143
CREATED:20250302T185333Z
LAST-MODIFIED:20250302T185333Z
UID:41944-1741428000-1741446000@oldediblerenotahoe.com
SUMMARY:International Women's Day Celebration
DESCRIPTION:The Northern Nevada International Center (NNIC) is celebrating the incredible women of northern Nevada with a special social media challenge\, inviting the community to participate in a tribute for the inspiring women in their lives.
URL:https://oldediblerenotahoe.com/event/international-womens-day-celebration/
LOCATION:Josef’s Vienna Bakery & Cafe (Plumb)\, 606 W Plumb Lane\, Reno\, NV\, 89509
END:VEVENT
BEGIN:VEVENT
DTSTART;TZID=America/Los_Angeles:20250308T180000
DTEND;TZID=America/Los_Angeles:20250308T200000
DTSTAMP:20260425T073143
CREATED:20250209T225324Z
LAST-MODIFIED:20250209T225324Z
UID:41477-1741456800-1741464000@oldediblerenotahoe.com
SUMMARY:Ravioli Workshop
DESCRIPTION:
URL:https://oldediblerenotahoe.com/event/ravioli-workshop-2/
LOCATION:Nothing To It!\, 225 Crummer Lane\, Reno\, NV\, 89502\, United States
END:VEVENT
BEGIN:VEVENT
DTSTART;TZID=America/Los_Angeles:20250308T183000
DTEND;TZID=America/Los_Angeles:20250308T220000
DTSTAMP:20260425T073143
CREATED:20250209T233039Z
LAST-MODIFIED:20250209T233039Z
UID:41539-1741458600-1741471200@oldediblerenotahoe.com
SUMMARY:Russell Peters Relax World Tour
DESCRIPTION:
URL:https://oldediblerenotahoe.com/event/russell-peters-relax-world-tour/
LOCATION:Nugget Casino Resort\, 1100 Nugget Avenue\,\, Sparks\, NV
END:VEVENT
BEGIN:VEVENT
DTSTART;TZID=America/Los_Angeles:20250308T190000
DTEND;TZID=America/Los_Angeles:20250308T210000
DTSTAMP:20260425T073143
CREATED:20250221T232835Z
LAST-MODIFIED:20250221T232835Z
UID:41660-1741460400-1741467600@oldediblerenotahoe.com
SUMMARY:The Enchanged Bookshop
DESCRIPTION:During the day\, A Likely Story may look like any other used bookstore. But at night\, it’s a place where magic happens. That’s when the characters inside the books come alive. Six of those characters — Dorothy Gale\, Robin Hood\, Pollyanna\, Sherlock Holmes\, Heidi\, and Tom Sawyer — long to help Margie\, the scatterbrained owner\, save her struggling store. But they’re not allowed to leave the building or be seen by human eyes. So when a pair of smugglers comes looking for a stolen necklace hidden inside one of the books\, the characters are torn. Should they warn Margie and risk disappearing forever? Or can they find a way to defeat the crooks without being seen? Featuring additional appearances by such beloved literary characters as the Queen of Hearts\, Long John Silver\, and Doctor Dolittle\, this charming comedy celebrates the joy of reading in a fresh\, fun-filled way.
URL:https://oldediblerenotahoe.com/event/the-enchanged-bookshop-2/
LOCATION:Reno Little Theatre\, 147 E Pueblo St\, Reno
END:VEVENT
BEGIN:VEVENT
DTSTART;TZID=America/Los_Angeles:20250308T193000
DTEND;TZID=America/Los_Angeles:20250308T213000
DTSTAMP:20260425T073143
CREATED:20250221T235646Z
LAST-MODIFIED:20250221T235646Z
UID:41676-1741462200-1741469400@oldediblerenotahoe.com
SUMMARY:A Perfect Ganesh
DESCRIPTION:A Perfect Ganesh by Terrence McNally follows two American women\, Margaret and Katharine\, on a transformative journey to India. The play explores themes of grief\, healing\, and self-discovery as the women confront their personal tragedies and seek spiritual solace in the vibrant culture of India. The play’s narrative\, guided by Ganesha\, the Hindu god of wisdom and remover of obstacles\, appears to the two women in various forms throughout their journey\, offering guidance and support.
URL:https://oldediblerenotahoe.com/event/a-perfect-ganesh-2025-03-08/
LOCATION:Brüka Theatre\, 99 North Virginia Street\, Reno\, NV\, 89501
END:VEVENT
BEGIN:VEVENT
DTSTART;TZID=America/Los_Angeles:20250308T200000
DTEND;TZID=America/Los_Angeles:20250308T220000
DTSTAMP:20260425T073143
CREATED:20250209T233133Z
LAST-MODIFIED:20250209T233133Z
UID:41541-1741464000-1741471200@oldediblerenotahoe.com
SUMMARY:Level Up Sapphire Souls Tour
DESCRIPTION:
URL:https://oldediblerenotahoe.com/event/level-up-sapphire-souls-tour/
LOCATION:Cargo Concert Hall
END:VEVENT
BEGIN:VEVENT
DTSTART;TZID=America/Los_Angeles:20250308T200000
DTEND;TZID=America/Los_Angeles:20250308T230000
DTSTAMP:20260425T073143
CREATED:20250209T233221Z
LAST-MODIFIED:20250209T233221Z
UID:41543-1741464000-1741474800@oldediblerenotahoe.com
SUMMARY:Palomazo Norteño
DESCRIPTION:
URL:https://oldediblerenotahoe.com/event/palomazo-norteno/
LOCATION:Grand Sierra Resort\, 2500 E 2nd St\, Reno\, NV
END:VEVENT
BEGIN:VEVENT
DTSTART;TZID=America/Los_Angeles:20250309T140000
DTEND;TZID=America/Los_Angeles:20250309T160000
DTSTAMP:20260425T073143
CREATED:20250221T232913Z
LAST-MODIFIED:20250221T232913Z
UID:41662-1741528800-1741536000@oldediblerenotahoe.com
SUMMARY:The Enchanged Bookshop
DESCRIPTION:During the day\, A Likely Story may look like any other used bookstore. But at night\, it’s a place where magic happens. That’s when the characters inside the books come alive. Six of those characters — Dorothy Gale\, Robin Hood\, Pollyanna\, Sherlock Holmes\, Heidi\, and Tom Sawyer — long to help Margie\, the scatterbrained owner\, save her struggling store. But they’re not allowed to leave the building or be seen by human eyes. So when a pair of smugglers comes looking for a stolen necklace hidden inside one of the books\, the characters are torn. Should they warn Margie and risk disappearing forever? Or can they find a way to defeat the crooks without being seen? Featuring additional appearances by such beloved literary characters as the Queen of Hearts\, Long John Silver\, and Doctor Dolittle\, this charming comedy celebrates the joy of reading in a fresh\, fun-filled way.
URL:https://oldediblerenotahoe.com/event/the-enchanged-bookshop-3/
LOCATION:Reno Little Theatre\, 147 E Pueblo St\, Reno
END:VEVENT
BEGIN:VEVENT
DTSTART;TZID=America/Los_Angeles:20250309T140000
DTEND;TZID=America/Los_Angeles:20250309T170000
DTSTAMP:20260425T073143
CREATED:20250221T235646Z
LAST-MODIFIED:20250221T235646Z
UID:41677-1741528800-1741539600@oldediblerenotahoe.com
SUMMARY:A Perfect Ganesh
DESCRIPTION:A Perfect Ganesh by Terrence McNally follows two American women\, Margaret and Katharine\, on a transformative journey to India. The play explores themes of grief\, healing\, and self-discovery as the women confront their personal tragedies and seek spiritual solace in the vibrant culture of India. The play’s narrative\, guided by Ganesha\, the Hindu god of wisdom and remover of obstacles\, appears to the two women in various forms throughout their journey\, offering guidance and support.
URL:https://oldediblerenotahoe.com/event/a-perfect-ganesh-2025-03-09/
LOCATION:Brüka Theatre\, 99 North Virginia Street\, Reno\, NV\, 89501
END:VEVENT
BEGIN:VEVENT
DTSTART;TZID=America/Los_Angeles:20250311T180000
DTEND;TZID=America/Los_Angeles:20250311T200000
DTSTAMP:20260425T073143
CREATED:20250209T211948Z
LAST-MODIFIED:20250209T211948Z
UID:41399-1741716000-1741723200@oldediblerenotahoe.com
SUMMARY:Gardening in Nevada: Plant Journaling
DESCRIPTION:
URL:https://oldediblerenotahoe.com/event/gardening-in-nevada-plant-journaling/
LOCATION:Bartley Ranch
END:VEVENT
BEGIN:VEVENT
DTSTART;TZID=America/Los_Angeles:20250312T170000
DTEND;TZID=America/Los_Angeles:20250312T190000
DTSTAMP:20260425T073143
CREATED:20250209T214255Z
LAST-MODIFIED:20250209T214255Z
UID:41420-1741798800-1741806000@oldediblerenotahoe.com
SUMMARY:Empty Bowls Soup Night
DESCRIPTION:
URL:https://oldediblerenotahoe.com/event/empty-bowls-soup-night-2/
LOCATION:Truckee High School\, 11725 Donner Pass Rd\, Truckee\, CA\, 96161
END:VEVENT
BEGIN:VEVENT
DTSTART;TZID=America/Los_Angeles:20250312T180000
DTEND;TZID=America/Los_Angeles:20250312T200000
DTSTAMP:20260425T073143
CREATED:20250209T225532Z
LAST-MODIFIED:20250209T225532Z
UID:41479-1741802400-1741809600@oldediblerenotahoe.com
SUMMARY:Food Styling & Flavor Dynamics Class
DESCRIPTION:
URL:https://oldediblerenotahoe.com/event/food-styling-flavor-dynamics-class/
LOCATION:Nothing To It!\, 225 Crummer Lane\, Reno\, NV\, 89502\, United States
END:VEVENT
BEGIN:VEVENT
DTSTART;TZID=America/Los_Angeles:20250312T193000
DTEND;TZID=America/Los_Angeles:20250312T213000
DTSTAMP:20260425T073143
CREATED:20250221T235646Z
LAST-MODIFIED:20250221T235646Z
UID:41678-1741807800-1741815000@oldediblerenotahoe.com
SUMMARY:A Perfect Ganesh
DESCRIPTION:A Perfect Ganesh by Terrence McNally follows two American women\, Margaret and Katharine\, on a transformative journey to India. The play explores themes of grief\, healing\, and self-discovery as the women confront their personal tragedies and seek spiritual solace in the vibrant culture of India. The play’s narrative\, guided by Ganesha\, the Hindu god of wisdom and remover of obstacles\, appears to the two women in various forms throughout their journey\, offering guidance and support.
URL:https://oldediblerenotahoe.com/event/a-perfect-ganesh-2025-03-12/
LOCATION:Brüka Theatre\, 99 North Virginia Street\, Reno\, NV\, 89501
END:VEVENT
END:VCALENDAR