BEGIN:VCALENDAR
VERSION:2.0
PRODID:-//Edible Reno-Tahoe - ECPv6.15.20//NONSGML v1.0//EN
CALSCALE:GREGORIAN
METHOD:PUBLISH
X-WR-CALNAME:Edible Reno-Tahoe
X-ORIGINAL-URL:https://oldediblerenotahoe.com
X-WR-CALDESC:Events for Edible Reno-Tahoe
REFRESH-INTERVAL;VALUE=DURATION:PT1H
X-Robots-Tag:noindex
X-PUBLISHED-TTL:PT1H
BEGIN:VTIMEZONE
TZID:America/Los_Angeles
BEGIN:DAYLIGHT
TZOFFSETFROM:-0800
TZOFFSETTO:-0700
TZNAME:PDT
DTSTART:20240310T100000
END:DAYLIGHT
BEGIN:STANDARD
TZOFFSETFROM:-0700
TZOFFSETTO:-0800
TZNAME:PST
DTSTART:20241103T090000
END:STANDARD
BEGIN:DAYLIGHT
TZOFFSETFROM:-0800
TZOFFSETTO:-0700
TZNAME:PDT
DTSTART:20250309T100000
END:DAYLIGHT
BEGIN:STANDARD
TZOFFSETFROM:-0700
TZOFFSETTO:-0800
TZNAME:PST
DTSTART:20251102T090000
END:STANDARD
BEGIN:DAYLIGHT
TZOFFSETFROM:-0800
TZOFFSETTO:-0700
TZNAME:PDT
DTSTART:20260308T100000
END:DAYLIGHT
BEGIN:STANDARD
TZOFFSETFROM:-0700
TZOFFSETTO:-0800
TZNAME:PST
DTSTART:20261101T090000
END:STANDARD
END:VTIMEZONE
BEGIN:VEVENT
DTSTART;TZID=America/Los_Angeles:20250419T100000
DTEND;TZID=America/Los_Angeles:20250419T170000
DTSTAMP:20260425T033000
CREATED:20250114T034630Z
LAST-MODIFIED:20250114T034630Z
UID:41166-1745056800-1745082000@oldediblerenotahoe.com
SUMMARY:Great American Craft Fair at Reno Earth Day
DESCRIPTION:Join the Great American Craft Fair for Reno Earth Day at Idlewild Park\, an award-winning\, eco-friendly celebration of sustainability and community action. This family-friendly event features hundreds of local non-profits and artisans\, showcasing eco-friendly products\, services\, and ideas. Enjoy live entertainment on multiple stages\, interactive workshops\, and activities focused on environmental education. Whether you’re passionate about green living or just want a fun day outdoors\, this event is perfect for all ages! Admission is free.
URL:https://oldediblerenotahoe.com/event/great-american-craft-fair-at-reno-earth-day/
LOCATION:Idlewild Park\, 1000 Cowan Dr.\, Reno\, NV\, 89509
END:VEVENT
BEGIN:VEVENT
DTSTART;TZID=America/Los_Angeles:20250419T100000
DTEND;TZID=America/Los_Angeles:20250419T190000
DTSTAMP:20260425T033000
CREATED:20250312T172426Z
LAST-MODIFIED:20250312T172426Z
UID:41984-1745056800-1745089200@oldediblerenotahoe.com
SUMMARY:Baby Animal & Tulip Festival
DESCRIPTION:The Baby Animal & Tulip Festival is such an exciting time on the farm\, and offers guests a more personal experience with the baby goats\, lambs\, and calves. \nAdmission includes access to the tulip U-pick fields (when in season)\, petting zoo area\, and all the barnyard games and activities\, including our newly expanded mini zips.
URL:https://oldediblerenotahoe.com/event/baby-animal-tulip-festival-2025-04-19/
LOCATION:Andelin Family Farm\, 8100 Pyramid Way\, Spanish Springs\, NV\, 89436
END:VEVENT
BEGIN:VEVENT
DTSTART;TZID=America/Los_Angeles:20250419T110000
DTEND;TZID=America/Los_Angeles:20250419T160000
DTSTAMP:20260425T033000
CREATED:20250221T232352Z
LAST-MODIFIED:20250221T232352Z
UID:41655-1745060400-1745078400@oldediblerenotahoe.com
SUMMARY:South Tahoe Earth Day Festival
DESCRIPTION:
URL:https://oldediblerenotahoe.com/event/south-tahoe-earth-day-festival/
LOCATION:Lake Tahoe Community College
END:VEVENT
BEGIN:VEVENT
DTSTART;TZID=America/Los_Angeles:20250419T200000
DTEND;TZID=America/Los_Angeles:20250419T220000
DTSTAMP:20260425T033000
CREATED:20250209T234716Z
LAST-MODIFIED:20250209T234716Z
UID:41572-1745092800-1745100000@oldediblerenotahoe.com
SUMMARY:Tony Hinchcliffe
DESCRIPTION:
URL:https://oldediblerenotahoe.com/event/tony-hinchcliffe/
LOCATION:Grand Sierra Resort\, 2500 E 2nd St\, Reno\, NV
END:VEVENT
BEGIN:VEVENT
DTSTART;TZID=America/Los_Angeles:20250420T090000
DTEND;TZID=America/Los_Angeles:20250420T130000
DTSTAMP:20260425T033000
CREATED:20250312T173605Z
LAST-MODIFIED:20250312T173605Z
UID:42040-1745139600-1745154000@oldediblerenotahoe.com
SUMMARY:Riverside Farmers Market
DESCRIPTION:The Riverside Farmers Market is Reno’s truly local market\, with all vendors growing\, raising\, or making their goods within the tightest possible radius around Reno. The event showcases small\, local\, and sustainable farmers and ranchers who believe that healthy food begins with a healthy land. They are also are home to Reno’s newest farmers and ranchers\, making it the perfect place to meet the fine folks growing food locally for the Truckee Meadows community.
URL:https://oldediblerenotahoe.com/event/riverside-farmers-market-4-2025-04-20/
LOCATION:Idlewild Park\, 1000 Cowan Dr.\, Reno\, NV\, 89509
END:VEVENT
BEGIN:VEVENT
DTSTART;TZID=America/Los_Angeles:20250420T100000
DTEND;TZID=America/Los_Angeles:20250420T113000
DTSTAMP:20260425T033000
CREATED:20250323T184302Z
LAST-MODIFIED:20250323T184302Z
UID:42529-1745143200-1745148600@oldediblerenotahoe.com
SUMMARY:Beacon & Eggs
DESCRIPTION:Avalanche beacons will be buried in a one-acre area and competitors will work individually or in teams of up to four people to locate them. Competitors can redeem a found beacon for prizes. This is a free event\, and registration takes place at the top of Subway chair from 10am -11:30am. The beacon search will be starting at noon. \n*Guests should bring their own avalanche beacon\, probe and shovel*
URL:https://oldediblerenotahoe.com/event/beacon-eggs/
LOCATION:Palisades Tahoe\, 1960 Squaw Valley Road\, Olympic Valley\, CA\, 96146
END:VEVENT
BEGIN:VEVENT
DTSTART;VALUE=DATE:20250421
DTEND;VALUE=DATE:20250428
DTSTAMP:20260425T033000
CREATED:20250323T181632Z
LAST-MODIFIED:20250323T181632Z
UID:42484-1745193600-1745798399@oldediblerenotahoe.com
SUMMARY:Incline Village Crystal Bay Restaurant Week
DESCRIPTION:IVCBA is excited to present the return of the annual Incline Village Crystal Bay Restaurant Week\, an immersive and celebratory event designed to showcase the unique culinary talents of our community. This week-long extravaganza (APRIL 21 – 27\, 2025) will bring together local businesses\, residents\, and visitors in a culinary celebration that highlights the diverse flavors and vibrant spirit of Incline Village and Crystal Bay.
URL:https://oldediblerenotahoe.com/event/incline-village-crystal-bay-restaurant-week-2/
LOCATION:NV
END:VEVENT
BEGIN:VEVENT
DTSTART;TZID=America/Los_Angeles:20250422T180000
DTEND;TZID=America/Los_Angeles:20250422T200000
DTSTAMP:20260425T033000
CREATED:20250302T185045Z
LAST-MODIFIED:20250302T185045Z
UID:41940-1745344800-1745352000@oldediblerenotahoe.com
SUMMARY:Grow Your Own: Small Space Fruit Tree Case and Selection Class
DESCRIPTION:
URL:https://oldediblerenotahoe.com/event/grow-your-own-small-space-fruit-tree-case-and-selection-class/
LOCATION:Virtual Class via Zoom
END:VEVENT
BEGIN:VEVENT
DTSTART;TZID=America/Los_Angeles:20250423T150000
DTEND;TZID=America/Los_Angeles:20250423T190000
DTSTAMP:20260425T033000
CREATED:20250312T172426Z
LAST-MODIFIED:20250312T172426Z
UID:41985-1745420400-1745434800@oldediblerenotahoe.com
SUMMARY:Baby Animal & Tulip Festival
DESCRIPTION:The Baby Animal & Tulip Festival is such an exciting time on the farm\, and offers guests a more personal experience with the baby goats\, lambs\, and calves. \nAdmission includes access to the tulip U-pick fields (when in season)\, petting zoo area\, and all the barnyard games and activities\, including our newly expanded mini zips.
URL:https://oldediblerenotahoe.com/event/baby-animal-tulip-festival-2025-04-23/
LOCATION:Andelin Family Farm\, 8100 Pyramid Way\, Spanish Springs\, NV\, 89436
END:VEVENT
BEGIN:VEVENT
DTSTART;TZID=America/Los_Angeles:20250423T180000
DTEND;TZID=America/Los_Angeles:20250423T200000
DTSTAMP:20260425T033000
CREATED:20250209T204435Z
LAST-MODIFIED:20250209T204435Z
UID:41364-1745431200-1745438400@oldediblerenotahoe.com
SUMMARY:Living with Fire: Combining Vegetation Management and Home Hardening for Wildfire Resilience
DESCRIPTION:
URL:https://oldediblerenotahoe.com/event/living-with-fire-combining-vegetation-management-and-home-hardening-for-wildfire-resilience/
LOCATION:Prim Library on the University of Nevada\, Reno’s Lake Tahoe Campus
END:VEVENT
BEGIN:VEVENT
DTSTART;TZID=America/Los_Angeles:20250424T150000
DTEND;TZID=America/Los_Angeles:20250424T190000
DTSTAMP:20260425T033000
CREATED:20250312T172426Z
LAST-MODIFIED:20250312T172426Z
UID:41986-1745506800-1745521200@oldediblerenotahoe.com
SUMMARY:Baby Animal & Tulip Festival
DESCRIPTION:The Baby Animal & Tulip Festival is such an exciting time on the farm\, and offers guests a more personal experience with the baby goats\, lambs\, and calves. \nAdmission includes access to the tulip U-pick fields (when in season)\, petting zoo area\, and all the barnyard games and activities\, including our newly expanded mini zips.
URL:https://oldediblerenotahoe.com/event/baby-animal-tulip-festival-2025-04-24/
LOCATION:Andelin Family Farm\, 8100 Pyramid Way\, Spanish Springs\, NV\, 89436
END:VEVENT
BEGIN:VEVENT
DTSTART;TZID=America/Los_Angeles:20250424T173000
DTEND;TZID=America/Los_Angeles:20250424T193000
DTSTAMP:20260425T033000
CREATED:20250114T044058Z
LAST-MODIFIED:20250114T044058Z
UID:41260-1745515800-1745523000@oldediblerenotahoe.com
SUMMARY:Global Gala
DESCRIPTION:Join the University of Nevada\, Reno for an evening of celebration\, community\, and giving back as we come together for our much-anticipated Annual Fundraiser. This special event will include a delightful dinner\, live entertainment\, and the opportunity to support a cause that makes an everlasting impact. Throughout the night\, you’ll hear inspiring stories\, engage in meaningful conversations\, and have the chance to participate in live and silent auctions with unique items and experiences. Every contribution made helps us continue our mission to build bridges of understanding and foster global engagement through international exchanges\, refugee resettlement and language access. Dress your best\, bring your generosity\, and prepare for an unforgettable evening. You will leave knowing that you\, too\, can Bridge Cultures: One Step\, One Voice at a time.
URL:https://oldediblerenotahoe.com/event/global-gala/
LOCATION:Grand Sierra Resort\, 2500 E 2nd St\, Reno\, NV
END:VEVENT
BEGIN:VEVENT
DTSTART;TZID=America/Los_Angeles:20250424T180000
DTEND;TZID=America/Los_Angeles:20250424T200000
DTSTAMP:20260425T033000
CREATED:20250302T185130Z
LAST-MODIFIED:20250302T185130Z
UID:41942-1745517600-1745524800@oldediblerenotahoe.com
SUMMARY:Grow Your Own: Native Plants to Bring in Pollinators Class
DESCRIPTION:
URL:https://oldediblerenotahoe.com/event/grow-your-own-native-plants-to-bring-in-pollinators-class/
LOCATION:Virtual Class via Zoom
END:VEVENT
BEGIN:VEVENT
DTSTART;TZID=America/Los_Angeles:20250424T180000
DTEND;TZID=America/Los_Angeles:20250424T210000
DTSTAMP:20260425T033000
CREATED:20250323T183653Z
LAST-MODIFIED:20250323T183653Z
UID:42523-1745517600-1745528400@oldediblerenotahoe.com
SUMMARY:Beefsteak Dinner at Overland
DESCRIPTION:
URL:https://oldediblerenotahoe.com/event/beefsteak-dinner-at-overland/
LOCATION:Overland Restaurant and Pub\, 1451 U.S. Highway 395 North\, Gardnerville\, NV\, 89410
END:VEVENT
BEGIN:VEVENT
DTSTART;TZID=America/Los_Angeles:20250424T183000
DTEND;TZID=America/Los_Angeles:20250424T210000
DTSTAMP:20260425T033000
CREATED:20250209T234818Z
LAST-MODIFIED:20250209T234818Z
UID:41574-1745519400-1745528400@oldediblerenotahoe.com
SUMMARY:Anthony's Chophouse Winemaker Dinner: Cakebread Cellars
DESCRIPTION:
URL:https://oldediblerenotahoe.com/event/anthonys-chophouse-winemaker-dinner-cakebread-cellars/
LOCATION:Anthony’s Chophouse\, 1100 Nugget Ave\, Sparks\, NV\, 89431
END:VEVENT
BEGIN:VEVENT
DTSTART;TZID=America/Los_Angeles:20250424T200000
DTEND;TZID=America/Los_Angeles:20250424T220000
DTSTAMP:20260425T033000
CREATED:20250209T234903Z
LAST-MODIFIED:20250209T234903Z
UID:41576-1745524800-1745532000@oldediblerenotahoe.com
SUMMARY:RAIN: A Tribute to the Beatles
DESCRIPTION:
URL:https://oldediblerenotahoe.com/event/rain-a-tribute-to-the-beatles/
LOCATION:Grand Sierra Resort\, 2500 E 2nd St\, Reno\, NV
END:VEVENT
BEGIN:VEVENT
DTSTART;VALUE=DATE:20250425
DTEND;VALUE=DATE:20250428
DTSTAMP:20260425T033000
CREATED:20250209T235048Z
LAST-MODIFIED:20250209T235048Z
UID:41580-1745539200-1745798399@oldediblerenotahoe.com
SUMMARY:Virginia City Grand Prix
DESCRIPTION:
URL:https://oldediblerenotahoe.com/event/virginia-city-grand-prix/
LOCATION:Virginia City
END:VEVENT
BEGIN:VEVENT
DTSTART;TZID=America/Los_Angeles:20250425T100000
DTEND;TZID=America/Los_Angeles:20250425T190000
DTSTAMP:20260425T033000
CREATED:20250312T172426Z
LAST-MODIFIED:20250312T172426Z
UID:41987-1745575200-1745607600@oldediblerenotahoe.com
SUMMARY:Baby Animal & Tulip Festival
DESCRIPTION:The Baby Animal & Tulip Festival is such an exciting time on the farm\, and offers guests a more personal experience with the baby goats\, lambs\, and calves. \nAdmission includes access to the tulip U-pick fields (when in season)\, petting zoo area\, and all the barnyard games and activities\, including our newly expanded mini zips.
URL:https://oldediblerenotahoe.com/event/baby-animal-tulip-festival-2025-04-25/
LOCATION:Andelin Family Farm\, 8100 Pyramid Way\, Spanish Springs\, NV\, 89436
END:VEVENT
BEGIN:VEVENT
DTSTART;TZID=America/Los_Angeles:20250425T180000
DTEND;TZID=America/Los_Angeles:20250425T210000
DTSTAMP:20260425T033000
CREATED:20250323T183739Z
LAST-MODIFIED:20250323T183739Z
UID:42525-1745604000-1745614800@oldediblerenotahoe.com
SUMMARY:Beefsteak Dinner at Cucina Lupo
DESCRIPTION:
URL:https://oldediblerenotahoe.com/event/beefsteak-dinner-at-cucina-lupo/
LOCATION:Cucina Lupo\, 308 N Curry St.\, Carson City\, NV\, 89703
END:VEVENT
BEGIN:VEVENT
DTSTART;TZID=America/Los_Angeles:20250425T193000
DTEND;TZID=America/Los_Angeles:20250425T220000
DTSTAMP:20260425T033000
CREATED:20250222T000332Z
LAST-MODIFIED:20250226T220612Z
UID:41692-1745609400-1745618400@oldediblerenotahoe.com
SUMMARY:Brükalton - A Brüka Regency Parody
DESCRIPTION:BRÜKALTON – A REGENCY ERA PARODY that stumbles into greatness one mistake at a time. This original play takes on the world’s of Jane Austen and Bridgerton in a spoof on Regency Classicism. Dive deep into the struggles of meaningful\, nonsexual encounters that simmer with tension\, witty\, subtle dialogue and romantic nonsense.
URL:https://oldediblerenotahoe.com/event/brukalton-a-bruka-regency-parody/
LOCATION:Brüka Theatre\, 99 North Virginia Street\, Reno\, NV\, 89501
END:VEVENT
BEGIN:VEVENT
DTSTART;VALUE=DATE:20250426
DTEND;VALUE=DATE:20250427
DTSTAMP:20260425T033000
CREATED:20250312T183310Z
LAST-MODIFIED:20250312T183310Z
UID:42279-1745625600-1745711999@oldediblerenotahoe.com
SUMMARY:Apple Blossom Festival
DESCRIPTION:Spring is Blossoming in West Sonoma County and the fruit orchards at Gold Ridge Organic Farms are alive with color! With over 12\,000 apple trees and approximately 75 heirloom varieties\, the orchards erupt in every imaginable shade of pink\, violet\, and white\, providing food for honeybees and native bumblebees.
URL:https://oldediblerenotahoe.com/event/apple-blossom-festival/
LOCATION:Goldridge Organic Farms\, 3387 Canfield Rd.\, Sebastopol\, CA\, 95472
END:VEVENT
BEGIN:VEVENT
DTSTART;TZID=America/Los_Angeles:20250426T080000
DTEND;TZID=America/Los_Angeles:20250426T170000
DTSTAMP:20260425T033000
CREATED:20250209T213918Z
LAST-MODIFIED:20250209T213918Z
UID:41416-1745654400-1745686800@oldediblerenotahoe.com
SUMMARY:The Biggest Little Half Marathon
DESCRIPTION:The Biggest Little Half Marathon is one of Reno’s premier running events! We offer a half marathon\, 10K and 5K. There is something for everyone! \nThe race starts and finishes at City Plaza (whale sculpture) after running under the famous Reno’s Biggest Little City arch. Runners will make their way through downtown streets\, along the Truckee River\, into west Reno and back into downtown.
URL:https://oldediblerenotahoe.com/event/the-biggest-little-half-marathon/
LOCATION:NV
END:VEVENT
BEGIN:VEVENT
DTSTART;TZID=America/Los_Angeles:20250426T090000
DTEND;TZID=America/Los_Angeles:20250426T130000
DTSTAMP:20260425T033000
CREATED:20250209T224640Z
LAST-MODIFIED:20250209T224640Z
UID:41469-1745658000-1745672400@oldediblerenotahoe.com
SUMMARY:Dead Plant Society: Beekeeping 101
DESCRIPTION:This is year 4 of Urban Roots keeping bees onsite at our farm and at our community partner’s garden\, Northern Nevada HOPE Springs. We’ve learned SO much as beginning beekeepers and are excited to share our knowledge in an accessible\, and hands on environment. In this “Intro to Beekeeping” workshop we’ll cover the makeup of a hive\, necessary equipment\, and how to sustain your beehive through the winter. We will even conduct a hive check\, walking you through all the steps. Everyone will go home with beekeeping resources galore\, and one lucky Dead Plant Society attendee will leave with hives boxes!
URL:https://oldediblerenotahoe.com/event/dead-plant-society-beekeeping-101/
LOCATION:Urban Teaching Farm\, 1700 E 2nd Street\, Reno\, NV\, 89502
END:VEVENT
BEGIN:VEVENT
DTSTART;TZID=America/Los_Angeles:20250426T100000
DTEND;TZID=America/Los_Angeles:20250426T160000
DTSTAMP:20260425T033001
CREATED:20250209T215145Z
LAST-MODIFIED:20250209T215145Z
UID:41428-1745661600-1745683200@oldediblerenotahoe.com
SUMMARY:Community Basket Celebration
DESCRIPTION:Presentations\, demonstrations\, talks\, performances\, Indigenous art\, baskets\, and jewelry vendors. Organized by the Great Basin Native Basketweavers Association and presented at the Nevada Museum of Art.
URL:https://oldediblerenotahoe.com/event/community-basket-celebration/
LOCATION:Nevada Museum of Art\, 160 West Liberty\, Reno\, Nevada\, 89501
END:VEVENT
BEGIN:VEVENT
DTSTART;TZID=America/Los_Angeles:20250426T100000
DTEND;TZID=America/Los_Angeles:20250426T190000
DTSTAMP:20260425T033001
CREATED:20250312T172426Z
LAST-MODIFIED:20250312T172426Z
UID:41989-1745661600-1745694000@oldediblerenotahoe.com
SUMMARY:Baby Animal & Tulip Festival
DESCRIPTION:The Baby Animal & Tulip Festival is such an exciting time on the farm\, and offers guests a more personal experience with the baby goats\, lambs\, and calves. \nAdmission includes access to the tulip U-pick fields (when in season)\, petting zoo area\, and all the barnyard games and activities\, including our newly expanded mini zips.
URL:https://oldediblerenotahoe.com/event/baby-animal-tulip-festival-2025-04-26/
LOCATION:Andelin Family Farm\, 8100 Pyramid Way\, Spanish Springs\, NV\, 89436
END:VEVENT
BEGIN:VEVENT
DTSTART;TZID=America/Los_Angeles:20250426T110000
DTEND;TZID=America/Los_Angeles:20250426T120000
DTSTAMP:20260425T033001
CREATED:20250114T041819Z
LAST-MODIFIED:20250114T041819Z
UID:41219-1745665200-1745668800@oldediblerenotahoe.com
SUMMARY:Medicinal Herbs Class
DESCRIPTION:Guest speaker Stacy Fisk has the lowdown on how to grow and use medicinal herbs from your garden to keep you happy and healthy. She has been raising her own herbs for many years and using them to stay healthy and to make her feel beter. Let her teach you how to grow and use these practical herbs daily to change your life naturally. She also recommends the book: The Healing Garden by Juliet Blankespoor.
URL:https://oldediblerenotahoe.com/event/medicinal-herbs-class/
LOCATION:Rail City Garden Center\, 1720 Brierley Way\, Sparks\, NV\, 89434
END:VEVENT
BEGIN:VEVENT
DTSTART;TZID=America/Los_Angeles:20250426T110000
DTEND;TZID=America/Los_Angeles:20250426T170000
DTSTAMP:20260425T033001
CREATED:20250323T184439Z
LAST-MODIFIED:20250323T184439Z
UID:42531-1745665200-1745686800@oldediblerenotahoe.com
SUMMARY:Tahoe Truckee Earth Day
DESCRIPTION:This event is a community tradition to learn about sustainable products and services offered by local organizations and businesses\, meet with local area nonprofits that share Earth Day values\, as well as showcasing local entertainment. Our goal is to connect the community with the people and resources found in our region who foster innovation\, initiate change and ultimately implement an equitable partnership for a green planet.
URL:https://oldediblerenotahoe.com/event/tahoe-truckee-earth-day/
LOCATION:The Village at Palisades Tahoe\, Olympic Valley\, CA
END:VEVENT
BEGIN:VEVENT
DTSTART;TZID=America/Los_Angeles:20250426T140000
DTEND;TZID=America/Los_Angeles:20250426T170000
DTSTAMP:20260425T033001
CREATED:20250323T181920Z
LAST-MODIFIED:20250323T181920Z
UID:42486-1745676000-1745686800@oldediblerenotahoe.com
SUMMARY:Seeds\, Sips\, & Songs
DESCRIPTION:A FREE family-friendly afternoon celebrating the upcoming garden season with veggie seed giveaways\, kid’s activities\, and sweet songs from Tahoe Truckee School of Music.
URL:https://oldediblerenotahoe.com/event/seeds-sips-songs-2/
LOCATION:RMU Truckee\, 10292 Donner Pass Rd\, Truckee\, CA\, 96161
END:VEVENT
BEGIN:VEVENT
DTSTART;TZID=America/Los_Angeles:20250426T173000
DTEND;TZID=America/Los_Angeles:20250426T210000
DTSTAMP:20260425T033001
CREATED:20250209T234958Z
LAST-MODIFIED:20250209T234958Z
UID:41578-1745688600-1745701200@oldediblerenotahoe.com
SUMMARY:Styx & Kevin Cronin
DESCRIPTION:
URL:https://oldediblerenotahoe.com/event/styx-kevin-cronin/
LOCATION:Nugget Casino Resort\, 1100 Nugget Avenue\,\, Sparks\, NV
END:VEVENT
BEGIN:VEVENT
DTSTART;TZID=America/Los_Angeles:20250426T180000
DTEND;TZID=America/Los_Angeles:20250426T210000
DTSTAMP:20260425T033001
CREATED:20250323T183825Z
LAST-MODIFIED:20250323T183825Z
UID:42527-1745690400-1745701200@oldediblerenotahoe.com
SUMMARY:Beefsteak Dinner at Liberty
DESCRIPTION:
URL:https://oldediblerenotahoe.com/event/beefsteak-dinner-at-liberty/
LOCATION:Liberty Food and Wine Exchange\, 100 N Sierra St\, Reno\, NV\, 89501
END:VEVENT
END:VCALENDAR