BEGIN:VCALENDAR
VERSION:2.0
PRODID:-//Edible Reno-Tahoe - ECPv6.15.20//NONSGML v1.0//EN
CALSCALE:GREGORIAN
METHOD:PUBLISH
X-ORIGINAL-URL:https://oldediblerenotahoe.com
X-WR-CALDESC:Events for Edible Reno-Tahoe
REFRESH-INTERVAL;VALUE=DURATION:PT1H
X-Robots-Tag:noindex
X-PUBLISHED-TTL:PT1H
BEGIN:VTIMEZONE
TZID:America/Los_Angeles
BEGIN:DAYLIGHT
TZOFFSETFROM:-0800
TZOFFSETTO:-0700
TZNAME:PDT
DTSTART:20240310T100000
END:DAYLIGHT
BEGIN:STANDARD
TZOFFSETFROM:-0700
TZOFFSETTO:-0800
TZNAME:PST
DTSTART:20241103T090000
END:STANDARD
BEGIN:DAYLIGHT
TZOFFSETFROM:-0800
TZOFFSETTO:-0700
TZNAME:PDT
DTSTART:20250309T100000
END:DAYLIGHT
BEGIN:STANDARD
TZOFFSETFROM:-0700
TZOFFSETTO:-0800
TZNAME:PST
DTSTART:20251102T090000
END:STANDARD
BEGIN:DAYLIGHT
TZOFFSETFROM:-0800
TZOFFSETTO:-0700
TZNAME:PDT
DTSTART:20260308T100000
END:DAYLIGHT
BEGIN:STANDARD
TZOFFSETFROM:-0700
TZOFFSETTO:-0800
TZNAME:PST
DTSTART:20261101T090000
END:STANDARD
END:VTIMEZONE
BEGIN:VEVENT
DTSTART;TZID=America/Los_Angeles:20250401T180000
DTEND;TZID=America/Los_Angeles:20250401T200000
DTSTAMP:20260425T032434
CREATED:20250214T214956Z
LAST-MODIFIED:20250214T214956Z
UID:41610-1743530400-1743537600@oldediblerenotahoe.com
SUMMARY:Gardening in Nevada: From This Year’s Flowers to Next Year's Plants\, All About Seeds
DESCRIPTION:Master Gardeners Rod Haulenbeek and Mark Humphreys will talk all about successful gardening with seeds.
URL:https://oldediblerenotahoe.com/event/gardening-in-nevada-from-this-years-flowers-to-next-years-plants-all-about-seeds/
LOCATION:Bartley Ranch
END:VEVENT
BEGIN:VEVENT
DTSTART;TZID=America/Los_Angeles:20250401T180000
DTEND;TZID=America/Los_Angeles:20250401T200000
DTSTAMP:20260425T032434
CREATED:20250302T184535Z
LAST-MODIFIED:20250302T184535Z
UID:41927-1743530400-1743537600@oldediblerenotahoe.com
SUMMARY:Grow Your Own: Vertical Edible Gardening Class
DESCRIPTION:
URL:https://oldediblerenotahoe.com/event/grow-your-own-vertical-edible-gardening-class/
LOCATION:Virtual Class via Zoom
END:VEVENT
BEGIN:VEVENT
DTSTART;TZID=America/Los_Angeles:20250402T180000
DTEND;TZID=America/Los_Angeles:20250402T200000
DTSTAMP:20260425T032434
CREATED:20250209T204125Z
LAST-MODIFIED:20250209T204125Z
UID:41357-1743616800-1743624000@oldediblerenotahoe.com
SUMMARY:Master Gardeners: Gardening in a Fire Adapted Community
DESCRIPTION:
URL:https://oldediblerenotahoe.com/event/master-gardeners-gardening-in-a-fire-adapted-community/
LOCATION:Prim Library on the University of Nevada\, Reno’s Lake Tahoe Campus
END:VEVENT
BEGIN:VEVENT
DTSTART;TZID=America/Los_Angeles:20250402T193000
DTEND;TZID=America/Los_Angeles:20250402T213000
DTSTAMP:20260425T032434
CREATED:20241021T191452Z
LAST-MODIFIED:20241021T191452Z
UID:40281-1743622200-1743629400@oldediblerenotahoe.com
SUMMARY:Alton Brown Live: Last Bite
DESCRIPTION:Alton Brown Live: Last Bite\, the famed foodist reflects on his decades in food media\, presents several of his favorite culinary mega-hacks\, sings some of his funny food songs\, and in general offers a culinary variety show the likes of which human eyes have never seen.
URL:https://oldediblerenotahoe.com/event/alton-brown-live-last-bite/
LOCATION:Pioneer Center\, 100 S. Virginia St.\, Reno\, NV\, 89501
END:VEVENT
BEGIN:VEVENT
DTSTART;TZID=America/Los_Angeles:20250403T180000
DTEND;TZID=America/Los_Angeles:20250403T200000
DTSTAMP:20260425T032434
CREATED:20250302T184624Z
LAST-MODIFIED:20250302T184624Z
UID:41930-1743703200-1743710400@oldediblerenotahoe.com
SUMMARY:Grow Your Own: Managing Garden Pests Class
DESCRIPTION:
URL:https://oldediblerenotahoe.com/event/grow-your-own-managing-garden-pests-class/
LOCATION:Virtual Class via Zoom
END:VEVENT
BEGIN:VEVENT
DTSTART;TZID=America/Los_Angeles:20250404T171500
DTEND;TZID=America/Los_Angeles:20250404T191500
DTSTAMP:20260425T032434
CREATED:20250323T185908Z
LAST-MODIFIED:20250323T185908Z
UID:42548-1743786900-1743794100@oldediblerenotahoe.com
SUMMARY:Easter Sugar Cookie Decorating Class
DESCRIPTION:
URL:https://oldediblerenotahoe.com/event/easter-sugar-cookie-decorating-class/
LOCATION:Mix Bakeshop\, 1117 California Avenue\, Reno\, NV\, 89509
END:VEVENT
BEGIN:VEVENT
DTSTART;TZID=America/Los_Angeles:20250404T173000
DTEND;TZID=America/Los_Angeles:20250404T210000
DTSTAMP:20260425T032434
CREATED:20250313T235957Z
LAST-MODIFIED:20250313T235957Z
UID:42404-1743787800-1743800400@oldediblerenotahoe.com
SUMMARY:9th Annual Wild & Scenic Film Festival
DESCRIPTION:
URL:https://oldediblerenotahoe.com/event/9th-annual-wild-scenic-film-festival/
LOCATION:NV
END:VEVENT
BEGIN:VEVENT
DTSTART;TZID=America/Los_Angeles:20250404T193000
DTEND;TZID=America/Los_Angeles:20250404T213000
DTSTAMP:20260425T032434
CREATED:20250221T235928Z
LAST-MODIFIED:20250221T235928Z
UID:41688-1743795000-1743802200@oldediblerenotahoe.com
SUMMARY:Stacy Spain - Playwright in Residence Presentation
DESCRIPTION:Stacey Spain\, exceptional local theatre artist and Executive Director of Our Center is Brüka Theatre’s Playwright In Residence for the 2024/25 season. Stacey’s work Crazy F*&%ing Kincaids will be workshopped and presented to audiences on April 4\, 5 at 7:30 PM and April 6 for a 2 PM matinee. Originally produced at Brüka’s Biggest Little Theater Festival in 2020 this new edition is a full length play with two additional characters. A dreamscape that explores the cost of betrayal and the power of love. A brother and sister discovering secrets and learning to trust after a death in the family. Sometimes truth is not the kindest option. Language and themes make this an ADULT PERFORMANCE.
URL:https://oldediblerenotahoe.com/event/stacy-spain-playwright-in-residence-presentation/
LOCATION:Brüka Theatre\, 99 North Virginia Street\, Reno\, NV\, 89501
END:VEVENT
BEGIN:VEVENT
DTSTART;TZID=America/Los_Angeles:20250405T100000
DTEND;TZID=America/Los_Angeles:20250405T120000
DTSTAMP:20260425T032434
CREATED:20250209T205940Z
LAST-MODIFIED:20250209T205940Z
UID:41372-1743847200-1743854400@oldediblerenotahoe.com
SUMMARY:KTMB Sustainability Series - Home Composting 101
DESCRIPTION:Discover how to transform kitchen scraps and yard waste into nutrient-rich compost in this engaging and hands-on Home Composting 101 workshop! Perfect for beginners and aspiring eco-warriors\, this session will teach you the basics of composting at home at whatever scale works for you\, helping you reduce waste while creating a natural fertilizer for your green spaces. \nWhat You’ll Learn: \n\nPractical ways to cut back on wasted food.\nWhat can and cannot go in your compost pile.\nTroubleshooting common composting issues (e.g.\, odors\, pests\, slow decomposition).\nDifferent composting methods including backyard composting and indoor vermicomposting.
URL:https://oldediblerenotahoe.com/event/ktmb-sustainability-series-home-composting-101/
LOCATION:Bartley Ranch
END:VEVENT
BEGIN:VEVENT
DTSTART;TZID=America/Los_Angeles:20250405T100000
DTEND;TZID=America/Los_Angeles:20250405T140000
DTSTAMP:20260425T032434
CREATED:20250314T000643Z
LAST-MODIFIED:20250314T000643Z
UID:42409-1743847200-1743861600@oldediblerenotahoe.com
SUMMARY:Seed Swap
DESCRIPTION:The Seed Swap is a chance for gardeners of all experience levels to exchange seeds\, share knowledge and diversify the gardens with locally adapted plants. Attendees can bring seeds from their own gardens and trade them for new varieties while learning about seed viability\, storage and best practices. \nDuring the Seed Swap\, attendees can choose to participate in a variety of mini classes. The schedule is as follows. \n\n10:15 a.m. and 12:15 p.m. – Seed Viability and Germination Test: Get a better understanding of seed viability and the likelihood of germination from older seeds.\n10:45 a.m. and 12:45 p.m. – Seed Saving and Storage: Ensure seeds are stored properly to achieve best results for future plantings.\n11:15 a.m. and 1:15 p.m. – Seed Starting Mix: The pros and cons of using\, buying or creating seed starting mix.
URL:https://oldediblerenotahoe.com/event/seed-swap/
LOCATION:Wilbur D. May Arboretum and Botanical Garden\, Reno
END:VEVENT
BEGIN:VEVENT
DTSTART;TZID=America/Los_Angeles:20250405T110000
DTEND;TZID=America/Los_Angeles:20250405T120000
DTSTAMP:20260425T032434
CREATED:20250114T041634Z
LAST-MODIFIED:20250114T041634Z
UID:41215-1743850800-1743854400@oldediblerenotahoe.com
SUMMARY:Weed Control Class
DESCRIPTION:Learn the best way to get rid of weeds in your lawn and garden using both natural and chemical methods. Make your lawns and gardens weed free!
URL:https://oldediblerenotahoe.com/event/weed-control-class/
LOCATION:Rail City Garden Center\, 1720 Brierley Way\, Sparks\, NV\, 89434
END:VEVENT
BEGIN:VEVENT
DTSTART;TZID=America/Los_Angeles:20250405T110000
DTEND;TZID=America/Los_Angeles:20250405T130000
DTSTAMP:20260425T032434
CREATED:20250312T182855Z
LAST-MODIFIED:20250312T182855Z
UID:42273-1743850800-1743858000@oldediblerenotahoe.com
SUMMARY:Cheese Board Workshop with Alli Keyser-Marti\, CCP
DESCRIPTION:Resident dairy queen Alli Keyser-Marti presents a hands-on cheese board workshop at Gold Ridge Organic Farms! Explore how to create your own beautiful board\, showcasing a wide array of flavors\, textures\, and colors. Learn how to incorporate a variety of edible flowers and fresh herbs\, local honey\, apple cider syrup\, balsamic vinegar\, EVOO\, olives\, artisan bread\, crackers\, and dips to accompany the best local cheeses made by artisan producers from Sonoma County and beyond.
URL:https://oldediblerenotahoe.com/event/cheese-board-workshop-with-alli-keyser-marti-ccp/
LOCATION:Goldridge Organic Farms\, 3387 Canfield Rd.\, Sebastopol\, CA\, 95472
END:VEVENT
BEGIN:VEVENT
DTSTART;TZID=America/Los_Angeles:20250405T120000
DTEND;TZID=America/Los_Angeles:20250405T210000
DTSTAMP:20260425T032434
CREATED:20241216T190546Z
LAST-MODIFIED:20241216T190558Z
UID:40745-1743854400-1743886800@oldediblerenotahoe.com
SUMMARY:Team Whiskey Bonanza
DESCRIPTION:
URL:https://oldediblerenotahoe.com/event/team-whiskey-bonanza/
LOCATION:Reno-Sparks Livestock Events Center\, 1350 North Wells Ave\, Reno\, NV\, 89512
END:VEVENT
BEGIN:VEVENT
DTSTART;TZID=America/Los_Angeles:20250405T123000
DTEND;TZID=America/Los_Angeles:20250405T160000
DTSTAMP:20260425T032434
CREATED:20250323T183115Z
LAST-MODIFIED:20250323T183115Z
UID:42492-1743856200-1743868800@oldediblerenotahoe.com
SUMMARY:Drive Toward a Cure Music & Motion
DESCRIPTION:Dr. Deanna Brown Thomas\, daughter of the legendary Godfather of Soul\, James Brown\, returns to Reno for the 2nd year in joining non-profit Drive Toward a Cure’s Music & Motion fundraising event at the National Automobile Museum. This special event celebrates the connection between music\, motion\, and the Parkinson’s community during Parkinson’s Awareness Month.
URL:https://oldediblerenotahoe.com/event/drive-toward-a-cure-music-motion/
LOCATION:National Automobile Museum\, 10 South Lake St.\, Reno\, 89501
END:VEVENT
BEGIN:VEVENT
DTSTART;TZID=America/Los_Angeles:20250405T130000
DTEND;TZID=America/Los_Angeles:20250405T190000
DTSTAMP:20260425T032434
CREATED:20250214T213156Z
LAST-MODIFIED:20250214T213156Z
UID:41608-1743858000-1743879600@oldediblerenotahoe.com
SUMMARY:Truckee Literary Crawl
DESCRIPTION:
URL:https://oldediblerenotahoe.com/event/truckee-literary-crawl/
LOCATION:Downtown Truckee\, Truckee\, CA
END:VEVENT
BEGIN:VEVENT
DTSTART;TZID=America/Los_Angeles:20250405T151500
DTEND;TZID=America/Los_Angeles:20250405T171500
DTSTAMP:20260425T032434
CREATED:20250323T185908Z
LAST-MODIFIED:20250323T185908Z
UID:42549-1743866100-1743873300@oldediblerenotahoe.com
SUMMARY:Easter Sugar Cookie Decorating Class
DESCRIPTION:
URL:https://oldediblerenotahoe.com/event/easter-sugar-cookie-decorating-class-2025-04-05/
LOCATION:Mix Bakeshop\, 1117 California Avenue\, Reno\, NV\, 89509
END:VEVENT
BEGIN:VEVENT
DTSTART;TZID=America/Los_Angeles:20250405T173000
DTEND;TZID=America/Los_Angeles:20250405T210000
DTSTAMP:20260425T032434
CREATED:20250313T235957Z
LAST-MODIFIED:20250313T235957Z
UID:42405-1743874200-1743886800@oldediblerenotahoe.com
SUMMARY:9th Annual Wild & Scenic Film Festival
DESCRIPTION:
URL:https://oldediblerenotahoe.com/event/9th-annual-wild-scenic-film-festival-2025-04-05/
LOCATION:NV
END:VEVENT
BEGIN:VEVENT
DTSTART;TZID=America/Los_Angeles:20250405T180000
DTEND;TZID=America/Los_Angeles:20250405T200000
DTSTAMP:20260425T032434
CREATED:20240811T012302Z
LAST-MODIFIED:20240811T012302Z
UID:39625-1743876000-1743883200@oldediblerenotahoe.com
SUMMARY:Reno Chamber Orchestra's Latin Bridges
DESCRIPTION:
URL:https://oldediblerenotahoe.com/event/reno-chamber-orchestras-latin-bridges/
LOCATION:Nightingale Concert Hall\, 1335 N Virginia St\, Reno\, NV
END:VEVENT
BEGIN:VEVENT
DTSTART;TZID=America/Los_Angeles:20250405T183000
DTEND;TZID=America/Los_Angeles:20250405T220000
DTSTAMP:20260425T032434
CREATED:20250209T234049Z
LAST-MODIFIED:20250209T234049Z
UID:41558-1743877800-1743890400@oldediblerenotahoe.com
SUMMARY:Bullet For My Valentine & Trivium
DESCRIPTION:
URL:https://oldediblerenotahoe.com/event/bullet-for-my-valentine-trivium/
LOCATION:Grand Sierra Resort\, 2500 E 2nd St\, Reno\, NV
END:VEVENT
BEGIN:VEVENT
DTSTART;TZID=America/Los_Angeles:20250405T193000
DTEND;TZID=America/Los_Angeles:20250405T213000
DTSTAMP:20260425T032434
CREATED:20250221T235928Z
LAST-MODIFIED:20250221T235928Z
UID:41689-1743881400-1743888600@oldediblerenotahoe.com
SUMMARY:Stacy Spain - Playwright in Residence Presentation
DESCRIPTION:Stacey Spain\, exceptional local theatre artist and Executive Director of Our Center is Brüka Theatre’s Playwright In Residence for the 2024/25 season. Stacey’s work Crazy F*&%ing Kincaids will be workshopped and presented to audiences on April 4\, 5 at 7:30 PM and April 6 for a 2 PM matinee. Originally produced at Brüka’s Biggest Little Theater Festival in 2020 this new edition is a full length play with two additional characters. A dreamscape that explores the cost of betrayal and the power of love. A brother and sister discovering secrets and learning to trust after a death in the family. Sometimes truth is not the kindest option. Language and themes make this an ADULT PERFORMANCE.
URL:https://oldediblerenotahoe.com/event/stacy-spain-playwright-in-residence-presentation-2025-04-05/
LOCATION:Brüka Theatre\, 99 North Virginia Street\, Reno\, NV\, 89501
END:VEVENT
BEGIN:VEVENT
DTSTART;TZID=America/Los_Angeles:20250406T090000
DTEND;TZID=America/Los_Angeles:20250406T130000
DTSTAMP:20260425T032434
CREATED:20250312T173605Z
LAST-MODIFIED:20250312T173605Z
UID:42038-1743930000-1743944400@oldediblerenotahoe.com
SUMMARY:Riverside Farmers Market
DESCRIPTION:The Riverside Farmers Market is Reno’s truly local market\, with all vendors growing\, raising\, or making their goods within the tightest possible radius around Reno. The event showcases small\, local\, and sustainable farmers and ranchers who believe that healthy food begins with a healthy land. They are also are home to Reno’s newest farmers and ranchers\, making it the perfect place to meet the fine folks growing food locally for the Truckee Meadows community.
URL:https://oldediblerenotahoe.com/event/riverside-farmers-market-4-2025-04-06/
LOCATION:Idlewild Park\, 1000 Cowan Dr.\, Reno\, NV\, 89509
END:VEVENT
BEGIN:VEVENT
DTSTART;TZID=America/Los_Angeles:20250406T140000
DTEND;TZID=America/Los_Angeles:20250406T170000
DTSTAMP:20260425T032434
CREATED:20250221T235928Z
LAST-MODIFIED:20250221T235928Z
UID:41690-1743948000-1743958800@oldediblerenotahoe.com
SUMMARY:Stacy Spain - Playwright in Residence Presentation
DESCRIPTION:Stacey Spain\, exceptional local theatre artist and Executive Director of Our Center is Brüka Theatre’s Playwright In Residence for the 2024/25 season. Stacey’s work Crazy F*&%ing Kincaids will be workshopped and presented to audiences on April 4\, 5 at 7:30 PM and April 6 for a 2 PM matinee. Originally produced at Brüka’s Biggest Little Theater Festival in 2020 this new edition is a full length play with two additional characters. A dreamscape that explores the cost of betrayal and the power of love. A brother and sister discovering secrets and learning to trust after a death in the family. Sometimes truth is not the kindest option. Language and themes make this an ADULT PERFORMANCE.
URL:https://oldediblerenotahoe.com/event/stacy-spain-playwright-in-residence-presentation-2025-04-06/
LOCATION:Brüka Theatre\, 99 North Virginia Street\, Reno\, NV\, 89501
END:VEVENT
BEGIN:VEVENT
DTSTART;TZID=America/Los_Angeles:20250406T170000
DTEND;TZID=America/Los_Angeles:20250406T190000
DTSTAMP:20260425T032434
CREATED:20250228T180348Z
LAST-MODIFIED:20250228T180348Z
UID:41752-1743958800-1743966000@oldediblerenotahoe.com
SUMMARY:Sunset Soiree at the Ranch House
DESCRIPTION:The evening will feature a lively bucket raffle and educational presentations by local tree care celebrities.
URL:https://oldediblerenotahoe.com/event/sunset-soiree-at-the-ranch-house/
LOCATION:Rancho San Rafael Regional Park\, 1595 N Sierra St\, Reno
END:VEVENT
BEGIN:VEVENT
DTSTART;TZID=America/Los_Angeles:20250406T180000
DTEND;TZID=America/Los_Angeles:20250406T200000
DTSTAMP:20260425T032434
CREATED:20240811T012302Z
LAST-MODIFIED:20240811T012302Z
UID:39626-1743962400-1743969600@oldediblerenotahoe.com
SUMMARY:Reno Chamber Orchestra's Latin Bridges
DESCRIPTION:
URL:https://oldediblerenotahoe.com/event/reno-chamber-orchestras-latin-bridges-2025-04-06/
LOCATION:Nightingale Concert Hall\, 1335 N Virginia St\, Reno\, NV
END:VEVENT
BEGIN:VEVENT
DTSTART;TZID=America/Los_Angeles:20250406T183000
DTEND;TZID=America/Los_Angeles:20250406T220000
DTSTAMP:20260425T032434
CREATED:20250209T234152Z
LAST-MODIFIED:20250209T234152Z
UID:41560-1743964200-1743976800@oldediblerenotahoe.com
SUMMARY:Hollywood Undead & Tech N9ne
DESCRIPTION:
URL:https://oldediblerenotahoe.com/event/hollywood-undead-tech-n9ne/
LOCATION:Grand Sierra Resort\, 2500 E 2nd St\, Reno\, NV
END:VEVENT
BEGIN:VEVENT
DTSTART;TZID=America/Los_Angeles:20250407T110000
DTEND;TZID=America/Los_Angeles:20250407T140000
DTSTAMP:20260425T032434
CREATED:20250114T051702Z
LAST-MODIFIED:20250114T051702Z
UID:41283-1744023600-1744034400@oldediblerenotahoe.com
SUMMARY:Spring Cleaning in the Perennial Garden Class
DESCRIPTION:Learn how to care for the perennial plants in our gardens this spring. We’ve let the dead tops of perennials remain through winter to provide habitat and forage for insects and other critters\, but now how do we know when to remove these\, and what is the correct way to prune our plants to ensure abundant new growth? We will go over all of this in this class so you will leave feeling confident to properly care for your perennials!
URL:https://oldediblerenotahoe.com/event/spring-cleaning-in-the-perennial-garden-class/
LOCATION:Foothill Garden\, 1535 Medical Pkwy\, Carson City\, NV\, 89703
END:VEVENT
BEGIN:VEVENT
DTSTART;TZID=America/Los_Angeles:20250408T180000
DTEND;TZID=America/Los_Angeles:20250408T200000
DTSTAMP:20260425T032434
CREATED:20250302T184718Z
LAST-MODIFIED:20250302T184718Z
UID:41932-1744135200-1744142400@oldediblerenotahoe.com
SUMMARY:Grow Your Own: Drip Irrigation Demystified Class
DESCRIPTION:
URL:https://oldediblerenotahoe.com/event/grow-your-own-drip-irrigation-demystified-class/
LOCATION:Virtual Class via Zoom
END:VEVENT
BEGIN:VEVENT
DTSTART;TZID=America/Los_Angeles:20250409T150000
DTEND;TZID=America/Los_Angeles:20250409T190000
DTSTAMP:20260425T032434
CREATED:20250209T213225Z
LAST-MODIFIED:20250209T213245Z
UID:41405-1744210800-1744225200@oldediblerenotahoe.com
SUMMARY:Andelin Family Farm Baby Animal Days & Tulip Festival
DESCRIPTION:
URL:https://oldediblerenotahoe.com/event/andelin-family-farm-baby-animal-days/
LOCATION:Andelin Family Farm\, 8100 Pyramid Way\, Spanish Springs\, NV\, 89436
END:VEVENT
BEGIN:VEVENT
DTSTART;TZID=America/Los_Angeles:20250409T150000
DTEND;TZID=America/Los_Angeles:20250409T190000
DTSTAMP:20260425T032434
CREATED:20250312T172426Z
LAST-MODIFIED:20250312T172426Z
UID:41977-1744210800-1744225200@oldediblerenotahoe.com
SUMMARY:Baby Animal & Tulip Festival
DESCRIPTION:The Baby Animal & Tulip Festival is such an exciting time on the farm\, and offers guests a more personal experience with the baby goats\, lambs\, and calves. \nAdmission includes access to the tulip U-pick fields (when in season)\, petting zoo area\, and all the barnyard games and activities\, including our newly expanded mini zips.
URL:https://oldediblerenotahoe.com/event/baby-animal-tulip-festival/
LOCATION:Andelin Family Farm\, 8100 Pyramid Way\, Spanish Springs\, NV\, 89436
END:VEVENT
BEGIN:VEVENT
DTSTART;TZID=America/Los_Angeles:20250409T180000
DTEND;TZID=America/Los_Angeles:20250409T210000
DTSTAMP:20260425T032434
CREATED:20250209T204225Z
LAST-MODIFIED:20250209T204225Z
UID:41360-1744221600-1744232400@oldediblerenotahoe.com
SUMMARY:Living with Fire: Understanding Fire Behavior and Reducing Wildfire Risk
DESCRIPTION:
URL:https://oldediblerenotahoe.com/event/living-with-fire-understanding-fire-behavior-and-reducing-wildfire-risk/
LOCATION:Prim Library on the University of Nevada\, Reno’s Lake Tahoe Campus
END:VEVENT
END:VCALENDAR