BEGIN:VCALENDAR
VERSION:2.0
PRODID:-//Edible Reno-Tahoe - ECPv6.15.20//NONSGML v1.0//EN
CALSCALE:GREGORIAN
METHOD:PUBLISH
X-WR-CALNAME:Edible Reno-Tahoe
X-ORIGINAL-URL:https://oldediblerenotahoe.com
X-WR-CALDESC:Events for Edible Reno-Tahoe
REFRESH-INTERVAL;VALUE=DURATION:PT1H
X-Robots-Tag:noindex
X-PUBLISHED-TTL:PT1H
BEGIN:VTIMEZONE
TZID:America/Los_Angeles
BEGIN:DAYLIGHT
TZOFFSETFROM:-0800
TZOFFSETTO:-0700
TZNAME:PDT
DTSTART:20240310T100000
END:DAYLIGHT
BEGIN:STANDARD
TZOFFSETFROM:-0700
TZOFFSETTO:-0800
TZNAME:PST
DTSTART:20241103T090000
END:STANDARD
BEGIN:DAYLIGHT
TZOFFSETFROM:-0800
TZOFFSETTO:-0700
TZNAME:PDT
DTSTART:20250309T100000
END:DAYLIGHT
BEGIN:STANDARD
TZOFFSETFROM:-0700
TZOFFSETTO:-0800
TZNAME:PST
DTSTART:20251102T090000
END:STANDARD
BEGIN:DAYLIGHT
TZOFFSETFROM:-0800
TZOFFSETTO:-0700
TZNAME:PDT
DTSTART:20260308T100000
END:DAYLIGHT
BEGIN:STANDARD
TZOFFSETFROM:-0700
TZOFFSETTO:-0800
TZNAME:PST
DTSTART:20261101T090000
END:STANDARD
END:VTIMEZONE
BEGIN:VEVENT
DTSTART;TZID=America/Los_Angeles:20250524T190000
DTEND;TZID=America/Los_Angeles:20250524T210000
DTSTAMP:20260425T043421
CREATED:20250312T172858Z
LAST-MODIFIED:20250312T172858Z
UID:42021-1748113200-1748120400@oldediblerenotahoe.com
SUMMARY:That's Magic!
DESCRIPTION:This grand illusion show is like no other! Presented by the award winning magic duo Kaileigh and Chase Hasty\, “That’s Magic!” will leave you dazzled and amazed. This upbeat\, interactive show is fun for all ages and guaranteed to have something for everyone. Not only will you be immersed by mind blowing magic\, but you will also see a cast of featured dancers and some elements of surprise. Step inside the White Rabbit Theater for an experience like nowhere else!
URL:https://oldediblerenotahoe.com/event/thats-magic-2025-05-24/
LOCATION:Grand Sierra Resort\, 2500 E 2nd St\, Reno\, NV
END:VEVENT
BEGIN:VEVENT
DTSTART;TZID=America/Los_Angeles:20250524T120000
DTEND;TZID=America/Los_Angeles:20250524T130000
DTSTAMP:20260425T043421
CREATED:20250312T183752Z
LAST-MODIFIED:20250312T183752Z
UID:42287-1748088000-1748091600@oldediblerenotahoe.com
SUMMARY:Memorial Day Celebration of Heroes Parade
DESCRIPTION:An honored tradition\, Virginia City honors its heroes every Memorial Weekend with the Celebration of Heroes Parade.
URL:https://oldediblerenotahoe.com/event/memorial-day-celebration-of-heroes-parade-2/
LOCATION:Virginia City
END:VEVENT
BEGIN:VEVENT
DTSTART;TZID=America/Los_Angeles:20250524T110000
DTEND;TZID=America/Los_Angeles:20250524T170000
DTSTAMP:20260425T043421
CREATED:20250323T184622Z
LAST-MODIFIED:20250323T184622Z
UID:42533-1748084400-1748106000@oldediblerenotahoe.com
SUMMARY:Made in Tahoe
DESCRIPTION:Made in Tahoe is a vibrant celebration of all things local\, showcasing the best that the Lake Tahoe Basin and Truckee areas have to offer. Hosted at The Village at Palisades Tahoe\, this event features a diverse range of offerings that are either made or inspired by the community\, including local artisans\, businesses\, chefs\, organizations\, and entertainers.
URL:https://oldediblerenotahoe.com/event/made-in-tahoe/
LOCATION:The Village at Palisades Tahoe\, Olympic Valley\, CA
END:VEVENT
BEGIN:VEVENT
DTSTART;TZID=America/Los_Angeles:20250524T101500
DTEND;TZID=America/Los_Angeles:20250524T114500
DTSTAMP:20260425T043421
CREATED:20250312T183607Z
LAST-MODIFIED:20250312T183607Z
UID:42281-1748081700-1748087100@oldediblerenotahoe.com
SUMMARY:Orchard Hike with Farmer Brooke Hazen
DESCRIPTION:Walk the rolling hills of Gold Ridge Organic Farms with founder and farmer Brooke Hazen and explore the wonders within the 88 acres of organic olive\, apple\, and citrus trees. You’ll learn about the history of the farm\, its organic growing practice\, and can ask your most burning questions about apple and olive cultivation\, straight from the founder himself.
URL:https://oldediblerenotahoe.com/event/orchard-hike-with-farmer-brooke-hazen/
LOCATION:Goldridge Organic Farms\, 3387 Canfield Rd.\, Sebastopol\, CA\, 95472
END:VEVENT
BEGIN:VEVENT
DTSTART;TZID=America/Los_Angeles:20250523T210000
DTEND;TZID=America/Los_Angeles:20250523T230000
DTSTAMP:20260425T043421
CREATED:20250312T174315Z
LAST-MODIFIED:20250312T174315Z
UID:42153-1748034000-1748041200@oldediblerenotahoe.com
SUMMARY:Nocturnal!
DESCRIPTION:Lose your inhibitions as you step into the magical world of “Nocturnal”. This is an 18 and over show\, featuring world class illusions\, beautiful dancers\, adult humor\, and plenty of surprises. Grab a cocktail at the White Rabbit Lounge\, sit back\, and prepare to be amazed. You might even end up being a part of the magic!
URL:https://oldediblerenotahoe.com/event/nocturnal-2025-05-23/
LOCATION:Grand Sierra Resort\, 2500 E 2nd St\, Reno\, NV
END:VEVENT
BEGIN:VEVENT
DTSTART;TZID=America/Los_Angeles:20250523T190000
DTEND;TZID=America/Los_Angeles:20250523T210000
DTSTAMP:20260425T043421
CREATED:20250312T182222Z
LAST-MODIFIED:20250312T182222Z
UID:42263-1748026800-1748034000@oldediblerenotahoe.com
SUMMARY:Armando Anto
DESCRIPTION:
URL:https://oldediblerenotahoe.com/event/armando-anto/
LOCATION:Nugget Casino Resort\, 1100 Nugget Avenue\,\, Sparks\, NV
END:VEVENT
BEGIN:VEVENT
DTSTART;TZID=America/Los_Angeles:20250523T190000
DTEND;TZID=America/Los_Angeles:20250523T210000
DTSTAMP:20260425T043421
CREATED:20250312T172858Z
LAST-MODIFIED:20250312T172858Z
UID:42020-1748026800-1748034000@oldediblerenotahoe.com
SUMMARY:That's Magic!
DESCRIPTION:This grand illusion show is like no other! Presented by the award winning magic duo Kaileigh and Chase Hasty\, “That’s Magic!” will leave you dazzled and amazed. This upbeat\, interactive show is fun for all ages and guaranteed to have something for everyone. Not only will you be immersed by mind blowing magic\, but you will also see a cast of featured dancers and some elements of surprise. Step inside the White Rabbit Theater for an experience like nowhere else!
URL:https://oldediblerenotahoe.com/event/thats-magic-2025-05-23/
LOCATION:Grand Sierra Resort\, 2500 E 2nd St\, Reno\, NV
END:VEVENT
BEGIN:VEVENT
DTSTART;TZID=America/Los_Angeles:20250522T193000
DTEND;TZID=America/Los_Angeles:20250522T213000
DTSTAMP:20260425T043421
CREATED:20250209T235836Z
LAST-MODIFIED:20250209T235836Z
UID:41596-1747942200-1747949400@oldediblerenotahoe.com
SUMMARY:Lord Huron
DESCRIPTION:
URL:https://oldediblerenotahoe.com/event/lord-huron-2/
LOCATION:Grand Sierra Resort\, 2500 E 2nd St\, Reno\, NV
END:VEVENT
BEGIN:VEVENT
DTSTART;TZID=America/Los_Angeles:20250522T190000
DTEND;TZID=America/Los_Angeles:20250522T210000
DTSTAMP:20260425T043421
CREATED:20250312T172858Z
LAST-MODIFIED:20250312T172858Z
UID:42019-1747940400-1747947600@oldediblerenotahoe.com
SUMMARY:That's Magic!
DESCRIPTION:This grand illusion show is like no other! Presented by the award winning magic duo Kaileigh and Chase Hasty\, “That’s Magic!” will leave you dazzled and amazed. This upbeat\, interactive show is fun for all ages and guaranteed to have something for everyone. Not only will you be immersed by mind blowing magic\, but you will also see a cast of featured dancers and some elements of surprise. Step inside the White Rabbit Theater for an experience like nowhere else!
URL:https://oldediblerenotahoe.com/event/thats-magic-2025-05-22/
LOCATION:Grand Sierra Resort\, 2500 E 2nd St\, Reno\, NV
END:VEVENT
BEGIN:VEVENT
DTSTART;TZID=America/Los_Angeles:20250522T180000
DTEND;TZID=America/Los_Angeles:20250522T200000
DTSTAMP:20260425T043421
CREATED:20250312T182118Z
LAST-MODIFIED:20250312T182118Z
UID:42261-1747936800-1747944000@oldediblerenotahoe.com
SUMMARY:Taste of Thailand Class
DESCRIPTION:Fresh ingredients are the hallmark of this popular and delectable Asian cuisine. With the increasing availability of exotic ingredients in Reno\, you’ll see the “Thai way” has applications to everyday cooking in your own kitchen. Expand your culinary horizons as you learn to cook with classic Thai ingredients: lemon grass\, galangal\, palm sugar and specialty Thai chilies.
URL:https://oldediblerenotahoe.com/event/taste-of-thailand-class-3/
LOCATION:Nothing To It!\, 225 Crummer Lane\, Reno\, NV\, 89502\, United States
END:VEVENT
BEGIN:VEVENT
DTSTART;TZID=America/Los_Angeles:20250522T113000
DTEND;TZID=America/Los_Angeles:20250522T133000
DTSTAMP:20260425T043421
CREATED:20250312T183910Z
LAST-MODIFIED:20250312T183910Z
UID:42289-1747913400-1747920600@oldediblerenotahoe.com
SUMMARY:Nevada Women's Fund's Salute to Women of Achievement
DESCRIPTION:This special event honors the determination\, passion\, and dedication of women in our community\, spanning various backgrounds and roles that contribute meaningfully to their workplaces\, families\, and communities.
URL:https://oldediblerenotahoe.com/event/nevada-womens-funds-salute-to-women-of-achievement/
LOCATION:Downtown Reno Ballroom\, 401 N Center St.\, Reno\, NV
END:VEVENT
BEGIN:VEVENT
DTSTART;TZID=America/Los_Angeles:20250521T180000
DTEND;TZID=America/Los_Angeles:20250521T210000
DTSTAMP:20260425T043421
CREATED:20250312T182013Z
LAST-MODIFIED:20250312T182013Z
UID:42259-1747850400-1747861200@oldediblerenotahoe.com
SUMMARY:Pho and Asian Spring Rolls Class
DESCRIPTION:Considered by many to be the national dish of Vietnam\, Pho is a dish comprised of flavorful broths with herbs\, spices\, and different proteins of your liking. Pho can vary based upon the preferences and distinctions of the many regions of Vietnam. Join us as we explore Pho and its sister cuisine\, the Spring Roll\, and learn how to work with rice paper.
URL:https://oldediblerenotahoe.com/event/pho-and-asian-spring-rolls-class-2/
LOCATION:Nothing To It!\, 225 Crummer Lane\, Reno\, NV\, 89502\, United States
END:VEVENT
BEGIN:VEVENT
DTSTART;TZID=America/Los_Angeles:20250520T190000
DTEND;TZID=America/Los_Angeles:20250520T210000
DTSTAMP:20260425T043421
CREATED:20250312T172858Z
LAST-MODIFIED:20250312T172858Z
UID:42018-1747767600-1747774800@oldediblerenotahoe.com
SUMMARY:That's Magic!
DESCRIPTION:This grand illusion show is like no other! Presented by the award winning magic duo Kaileigh and Chase Hasty\, “That’s Magic!” will leave you dazzled and amazed. This upbeat\, interactive show is fun for all ages and guaranteed to have something for everyone. Not only will you be immersed by mind blowing magic\, but you will also see a cast of featured dancers and some elements of surprise. Step inside the White Rabbit Theater for an experience like nowhere else!
URL:https://oldediblerenotahoe.com/event/thats-magic-2025-05-20/
LOCATION:Grand Sierra Resort\, 2500 E 2nd St\, Reno\, NV
END:VEVENT
BEGIN:VEVENT
DTSTART;TZID=America/Los_Angeles:20250519T190000
DTEND;TZID=America/Los_Angeles:20250519T210000
DTSTAMP:20260425T043421
CREATED:20250312T172858Z
LAST-MODIFIED:20250312T172858Z
UID:42017-1747681200-1747688400@oldediblerenotahoe.com
SUMMARY:That's Magic!
DESCRIPTION:This grand illusion show is like no other! Presented by the award winning magic duo Kaileigh and Chase Hasty\, “That’s Magic!” will leave you dazzled and amazed. This upbeat\, interactive show is fun for all ages and guaranteed to have something for everyone. Not only will you be immersed by mind blowing magic\, but you will also see a cast of featured dancers and some elements of surprise. Step inside the White Rabbit Theater for an experience like nowhere else!
URL:https://oldediblerenotahoe.com/event/thats-magic-2025-05-19/
LOCATION:Grand Sierra Resort\, 2500 E 2nd St\, Reno\, NV
END:VEVENT
BEGIN:VEVENT
DTSTART;TZID=America/Los_Angeles:20250518T190000
DTEND;TZID=America/Los_Angeles:20250518T210000
DTSTAMP:20260425T043421
CREATED:20250312T172858Z
LAST-MODIFIED:20250312T172858Z
UID:42016-1747594800-1747602000@oldediblerenotahoe.com
SUMMARY:That's Magic!
DESCRIPTION:This grand illusion show is like no other! Presented by the award winning magic duo Kaileigh and Chase Hasty\, “That’s Magic!” will leave you dazzled and amazed. This upbeat\, interactive show is fun for all ages and guaranteed to have something for everyone. Not only will you be immersed by mind blowing magic\, but you will also see a cast of featured dancers and some elements of surprise. Step inside the White Rabbit Theater for an experience like nowhere else!
URL:https://oldediblerenotahoe.com/event/thats-magic-2025-05-18/
LOCATION:Grand Sierra Resort\, 2500 E 2nd St\, Reno\, NV
END:VEVENT
BEGIN:VEVENT
DTSTART;TZID=America/Los_Angeles:20250518T180000
DTEND;TZID=America/Los_Angeles:20250518T210000
DTSTAMP:20260425T043421
CREATED:20250209T235753Z
LAST-MODIFIED:20250209T235753Z
UID:41594-1747591200-1747602000@oldediblerenotahoe.com
SUMMARY:Reno Chamber Orchestra's Salute to Youth
DESCRIPTION:Talented Nevada youth perform side-by-side with RCO in Barber’s famous Adagio for Strings before the winners of our concerto competition take the stage as soloists. RCO’s Sound Investment commissioning program makes its debut with a new work before the season concludes with a symphony chosen by you\, our audience and supporters.
URL:https://oldediblerenotahoe.com/event/reno-chamber-orchestras-salute-to-youth-2/
LOCATION:Nightingale Concert Hall\, 1335 N Virginia St\, Reno\, NV
END:VEVENT
BEGIN:VEVENT
DTSTART;TZID=America/Los_Angeles:20250518T120000
DTEND;TZID=America/Los_Angeles:20250518T150000
DTSTAMP:20260425T043421
CREATED:20250209T235622Z
LAST-MODIFIED:20250209T235622Z
UID:41592-1747569600-1747580400@oldediblerenotahoe.com
SUMMARY:Ladies Sunday Tea
DESCRIPTION:The Douglas County Historical Society invites all ladies of distinction to join us at the Carson Valley Museum & Cultural Center for a Sunday Tea. It’s a time to express a little bit of elegant fun and Victorian charm. Costumed attire is encouraged! Guests bring their own tea cup\, saucer and tea pot. The event is served by “The Men of the Museum.” Doors open for set up at noon\, tea is served at 1:00 p.m. followed by our certificates of award and recognition for best costume\, fanciest table\, most outlandish hat and more!
URL:https://oldediblerenotahoe.com/event/ladies-sunday-tea/
LOCATION:Carson Valley Museum & Cultural Center\, 1477 US Highway 395 N\, Gardnerville\, NV\, 89410
END:VEVENT
BEGIN:VEVENT
DTSTART;TZID=America/Los_Angeles:20250518T090000
DTEND;TZID=America/Los_Angeles:20250518T130000
DTSTAMP:20260425T043421
CREATED:20250312T173605Z
LAST-MODIFIED:20250312T173605Z
UID:42044-1747558800-1747573200@oldediblerenotahoe.com
SUMMARY:Riverside Farmers Market
DESCRIPTION:The Riverside Farmers Market is Reno’s truly local market\, with all vendors growing\, raising\, or making their goods within the tightest possible radius around Reno. The event showcases small\, local\, and sustainable farmers and ranchers who believe that healthy food begins with a healthy land. They are also are home to Reno’s newest farmers and ranchers\, making it the perfect place to meet the fine folks growing food locally for the Truckee Meadows community.
URL:https://oldediblerenotahoe.com/event/riverside-farmers-market-4-2025-05-18/
LOCATION:Idlewild Park\, 1000 Cowan Dr.\, Reno\, NV\, 89509
END:VEVENT
BEGIN:VEVENT
DTSTART;VALUE=DATE:20250518
DTEND;VALUE=DATE:20250519
DTSTAMP:20260425T043421
CREATED:20250209T220817Z
LAST-MODIFIED:20250209T221024Z
UID:41435-1747526400-1747612799@oldediblerenotahoe.com
SUMMARY:Annual Jewish Film Festival
DESCRIPTION:
URL:https://oldediblerenotahoe.com/event/annual-jewish-film-festival/
END:VEVENT
BEGIN:VEVENT
DTSTART;TZID=America/Los_Angeles:20250517T210000
DTEND;TZID=America/Los_Angeles:20250517T230000
DTSTAMP:20260425T043421
CREATED:20250312T174315Z
LAST-MODIFIED:20250312T174315Z
UID:42152-1747515600-1747522800@oldediblerenotahoe.com
SUMMARY:Nocturnal!
DESCRIPTION:Lose your inhibitions as you step into the magical world of “Nocturnal”. This is an 18 and over show\, featuring world class illusions\, beautiful dancers\, adult humor\, and plenty of surprises. Grab a cocktail at the White Rabbit Lounge\, sit back\, and prepare to be amazed. You might even end up being a part of the magic!
URL:https://oldediblerenotahoe.com/event/nocturnal-2025-05-17/
LOCATION:Grand Sierra Resort\, 2500 E 2nd St\, Reno\, NV
END:VEVENT
BEGIN:VEVENT
DTSTART;TZID=America/Los_Angeles:20250517T200000
DTEND;TZID=America/Los_Angeles:20250517T220000
DTSTAMP:20260425T043421
CREATED:20250312T181849Z
LAST-MODIFIED:20250312T181849Z
UID:42257-1747512000-1747519200@oldediblerenotahoe.com
SUMMARY:Chris Isaak
DESCRIPTION:
URL:https://oldediblerenotahoe.com/event/chris-isaak/
LOCATION:Grand Sierra Resort\, 2500 E 2nd St\, Reno\, NV
END:VEVENT
BEGIN:VEVENT
DTSTART;TZID=America/Los_Angeles:20250517T193000
DTEND;TZID=America/Los_Angeles:20250517T220000
DTSTAMP:20260425T043421
CREATED:20250222T000332Z
LAST-MODIFIED:20250222T000332Z
UID:41741-1747510200-1747519200@oldediblerenotahoe.com
SUMMARY:Brükalton - A Brüka Regency Parody
DESCRIPTION:BRÜKALTON – A REGENCY ERA PARODY that stumbles into greatness one mistake at a time. This original play takes on the world’s of Jane Austen and Bridgerton in a spoof on Regency Classicism. Dive deep into the struggles of meaningful\, nonsexual encounters that simmer with tension\, witty\, subtle dialogue and romantic nonsense.
URL:https://oldediblerenotahoe.com/event/brukalton-a-bruka-regency-parody-2025-05-17/
LOCATION:Brüka Theatre\, 99 North Virginia Street\, Reno\, NV\, 89501
END:VEVENT
BEGIN:VEVENT
DTSTART;TZID=America/Los_Angeles:20250517T190000
DTEND;TZID=America/Los_Angeles:20250517T210000
DTSTAMP:20260425T043421
CREATED:20250312T172858Z
LAST-MODIFIED:20250312T172858Z
UID:42015-1747508400-1747515600@oldediblerenotahoe.com
SUMMARY:That's Magic!
DESCRIPTION:This grand illusion show is like no other! Presented by the award winning magic duo Kaileigh and Chase Hasty\, “That’s Magic!” will leave you dazzled and amazed. This upbeat\, interactive show is fun for all ages and guaranteed to have something for everyone. Not only will you be immersed by mind blowing magic\, but you will also see a cast of featured dancers and some elements of surprise. Step inside the White Rabbit Theater for an experience like nowhere else!
URL:https://oldediblerenotahoe.com/event/thats-magic-2025-05-17/
LOCATION:Grand Sierra Resort\, 2500 E 2nd St\, Reno\, NV
END:VEVENT
BEGIN:VEVENT
DTSTART;TZID=America/Los_Angeles:20250517T100000
DTEND;TZID=America/Los_Angeles:20250517T160000
DTSTAMP:20260425T043421
CREATED:20250114T043834Z
LAST-MODIFIED:20250114T043904Z
UID:41256-1747476000-1747497600@oldediblerenotahoe.com
SUMMARY:Chili on the Comstock
DESCRIPTION:Spicy\, mild or chili verde? Pick your favorite at the 43rd Chili on the Comstock where the International Chili World Qualifier takes over Virginia City with mouth-watering chili. While some of the best chili cooks in the West compete for a spot in the International Chili Society World Finals\, they’re also looking for your vote for ‘People’s Choice Chili’. Think you have an award-winning chili recipe? Sign up as a cook. \nAnd what’s chili without beer? Pair those tastings with some frosty brews in our Craft Beer Tour. Virginia City’s famous saloons and the Chili on the Comstock Craft Beer Tents are pouring hand-selected local and regional craft beers all weekend long. Tour tickets guarantee you 12 beer samples and 3 sweet treats. \nNo event would be complete without a one-of-a-kind shopping experience and the return of ‘The Great Fire Hot Chili Pepper Challenge’. Test your limits and see how high you can go on the Scoville Scale. Each round of this fiery competition will feature a chili pepper hotter than the last. Contestants will have 2 minutes per round to eat the entire chili pepper but if you take a drink or can’t keep the chili down\, you’re out. Registration includes two drink tokens valid at one of the event bars\, 5 chili samples from Chili on the Comstock cooks\, and your chance to be crowned the ‘Chili Eating Champion’! The top 3 finishers will win trophies and the champion will go home with a percentage of the registration pot. This event features a new challenge and new winners each day! \nTaste your way through award-winning chili and brews and maybe sample a chili pepper or two along the way\, all while exploring the historic merchants and saloons of Virginia City. It’s going to be fire!
URL:https://oldediblerenotahoe.com/event/chili-on-the-comstock/
LOCATION:Virginia City
END:VEVENT
BEGIN:VEVENT
DTSTART;TZID=America/Los_Angeles:20250517T093000
DTEND;TZID=America/Los_Angeles:20250517T113000
DTSTAMP:20260425T043421
CREATED:20250312T181435Z
LAST-MODIFIED:20250312T181435Z
UID:42251-1747474200-1747481400@oldediblerenotahoe.com
SUMMARY:Culinary Basics Workshop
DESCRIPTION:Looking for a class that gives you the “Reader’s Digest version” of top culinary techniques and ingredients? Well\, this is it! Learn the most important culinary techniques that are easily transferred to everyday cooking in this hands-on cooking bonanza. We’ll introduce you to fundamental cooking methods\, sauces\, knife skills and baking methods. Whether you’re toying with the idea of spending more time in the kitchen or just wanting to hone your skills\, Culinary Boot Camp provides a wealth of information along with guided practice from an expert chef.
URL:https://oldediblerenotahoe.com/event/culinary-basics-workshop-3/
LOCATION:Nothing To It!\, 225 Crummer Lane\, Reno\, NV\, 89502\, United States
END:VEVENT
BEGIN:VEVENT
DTSTART;VALUE=DATE:20250517
DTEND;VALUE=DATE:20250518
DTSTAMP:20260425T043421
CREATED:20250312T181755Z
LAST-MODIFIED:20250312T181755Z
UID:42255-1747440000-1747526399@oldediblerenotahoe.com
SUMMARY:Stetina's Paydirt
DESCRIPTION:Professional Cyclist Peter Stetina discovered his love of gravel and spirit of exploration in this range. It took a lot of dead ends and calls for help\, but we finally hit Paydirt. Together with Carson City\, we invite you for the expedition of a lifetime. \nThe perfect blend of competition and camaraderie; the Paydirt is equal parts race and celebration. With Bike Monkey’s Road Rally format; racing takes place on designated segments. It’s the perfect mix of full-gas racing while allowing you time to socialize\, regroup\, and enjoy the bounty of our aid stations.
URL:https://oldediblerenotahoe.com/event/stetinas-paydirt/
LOCATION:Carson City\, NV
END:VEVENT
BEGIN:VEVENT
DTSTART;VALUE=DATE:20250517
DTEND;VALUE=DATE:20250518
DTSTAMP:20260425T043421
CREATED:20250312T181616Z
LAST-MODIFIED:20250312T181616Z
UID:42253-1747440000-1747526399@oldediblerenotahoe.com
SUMMARY:Farm Trails Spring Tour
DESCRIPTION:
URL:https://oldediblerenotahoe.com/event/farm-trails-spring-tour/
LOCATION:Goldridge Organic Farms\, 3387 Canfield Rd.\, Sebastopol\, CA\, 95472
END:VEVENT
BEGIN:VEVENT
DTSTART;TZID=America/Los_Angeles:20250516T210000
DTEND;TZID=America/Los_Angeles:20250516T230000
DTSTAMP:20260425T043421
CREATED:20250312T174315Z
LAST-MODIFIED:20250312T174315Z
UID:42151-1747429200-1747436400@oldediblerenotahoe.com
SUMMARY:Nocturnal!
DESCRIPTION:Lose your inhibitions as you step into the magical world of “Nocturnal”. This is an 18 and over show\, featuring world class illusions\, beautiful dancers\, adult humor\, and plenty of surprises. Grab a cocktail at the White Rabbit Lounge\, sit back\, and prepare to be amazed. You might even end up being a part of the magic!
URL:https://oldediblerenotahoe.com/event/nocturnal-2025-05-16/
LOCATION:Grand Sierra Resort\, 2500 E 2nd St\, Reno\, NV
END:VEVENT
BEGIN:VEVENT
DTSTART;TZID=America/Los_Angeles:20250516T200000
DTEND;TZID=America/Los_Angeles:20250516T220000
DTSTAMP:20260425T043421
CREATED:20250312T181015Z
LAST-MODIFIED:20250312T181015Z
UID:42242-1747425600-1747432800@oldediblerenotahoe.com
SUMMARY:Billy Currington
DESCRIPTION:
URL:https://oldediblerenotahoe.com/event/billy-currington/
LOCATION:Grand Sierra Resort\, 2500 E 2nd St\, Reno\, NV
END:VEVENT
BEGIN:VEVENT
DTSTART;TZID=America/Los_Angeles:20250516T193000
DTEND;TZID=America/Los_Angeles:20250516T220000
DTSTAMP:20260425T043421
CREATED:20250222T000332Z
LAST-MODIFIED:20250222T000332Z
UID:41740-1747423800-1747432800@oldediblerenotahoe.com
SUMMARY:Brükalton - A Brüka Regency Parody
DESCRIPTION:BRÜKALTON – A REGENCY ERA PARODY that stumbles into greatness one mistake at a time. This original play takes on the world’s of Jane Austen and Bridgerton in a spoof on Regency Classicism. Dive deep into the struggles of meaningful\, nonsexual encounters that simmer with tension\, witty\, subtle dialogue and romantic nonsense.
URL:https://oldediblerenotahoe.com/event/brukalton-a-bruka-regency-parody-2025-05-16/
LOCATION:Brüka Theatre\, 99 North Virginia Street\, Reno\, NV\, 89501
END:VEVENT
END:VCALENDAR