BEGIN:VCALENDAR
VERSION:2.0
PRODID:-//Edible Reno-Tahoe - ECPv6.15.20//NONSGML v1.0//EN
CALSCALE:GREGORIAN
METHOD:PUBLISH
X-ORIGINAL-URL:https://oldediblerenotahoe.com
X-WR-CALDESC:Events for Edible Reno-Tahoe
REFRESH-INTERVAL;VALUE=DURATION:PT1H
X-Robots-Tag:noindex
X-PUBLISHED-TTL:PT1H
BEGIN:VTIMEZONE
TZID:America/Los_Angeles
BEGIN:DAYLIGHT
TZOFFSETFROM:-0800
TZOFFSETTO:-0700
TZNAME:PDT
DTSTART:20240310T100000
END:DAYLIGHT
BEGIN:STANDARD
TZOFFSETFROM:-0700
TZOFFSETTO:-0800
TZNAME:PST
DTSTART:20241103T090000
END:STANDARD
BEGIN:DAYLIGHT
TZOFFSETFROM:-0800
TZOFFSETTO:-0700
TZNAME:PDT
DTSTART:20250309T100000
END:DAYLIGHT
BEGIN:STANDARD
TZOFFSETFROM:-0700
TZOFFSETTO:-0800
TZNAME:PST
DTSTART:20251102T090000
END:STANDARD
BEGIN:DAYLIGHT
TZOFFSETFROM:-0800
TZOFFSETTO:-0700
TZNAME:PDT
DTSTART:20260308T100000
END:DAYLIGHT
BEGIN:STANDARD
TZOFFSETFROM:-0700
TZOFFSETTO:-0800
TZNAME:PST
DTSTART:20261101T090000
END:STANDARD
END:VTIMEZONE
BEGIN:VEVENT
DTSTART;TZID=America/Los_Angeles:20250425T193000
DTEND;TZID=America/Los_Angeles:20250425T220000
DTSTAMP:20260425T084207
CREATED:20250222T000332Z
LAST-MODIFIED:20250226T220612Z
UID:41692-1745609400-1745618400@oldediblerenotahoe.com
SUMMARY:Brükalton - A Brüka Regency Parody
DESCRIPTION:BRÜKALTON – A REGENCY ERA PARODY that stumbles into greatness one mistake at a time. This original play takes on the world’s of Jane Austen and Bridgerton in a spoof on Regency Classicism. Dive deep into the struggles of meaningful\, nonsexual encounters that simmer with tension\, witty\, subtle dialogue and romantic nonsense.
URL:https://oldediblerenotahoe.com/event/brukalton-a-bruka-regency-parody/
LOCATION:Brüka Theatre\, 99 North Virginia Street\, Reno\, NV\, 89501
END:VEVENT
BEGIN:VEVENT
DTSTART;VALUE=DATE:20250426
DTEND;VALUE=DATE:20250427
DTSTAMP:20260425T084207
CREATED:20250312T183310Z
LAST-MODIFIED:20250312T183310Z
UID:42279-1745625600-1745711999@oldediblerenotahoe.com
SUMMARY:Apple Blossom Festival
DESCRIPTION:Spring is Blossoming in West Sonoma County and the fruit orchards at Gold Ridge Organic Farms are alive with color! With over 12\,000 apple trees and approximately 75 heirloom varieties\, the orchards erupt in every imaginable shade of pink\, violet\, and white\, providing food for honeybees and native bumblebees.
URL:https://oldediblerenotahoe.com/event/apple-blossom-festival/
LOCATION:Goldridge Organic Farms\, 3387 Canfield Rd.\, Sebastopol\, CA\, 95472
END:VEVENT
BEGIN:VEVENT
DTSTART;TZID=America/Los_Angeles:20250426T080000
DTEND;TZID=America/Los_Angeles:20250426T170000
DTSTAMP:20260425T084207
CREATED:20250209T213918Z
LAST-MODIFIED:20250209T213918Z
UID:41416-1745654400-1745686800@oldediblerenotahoe.com
SUMMARY:The Biggest Little Half Marathon
DESCRIPTION:The Biggest Little Half Marathon is one of Reno’s premier running events! We offer a half marathon\, 10K and 5K. There is something for everyone! \nThe race starts and finishes at City Plaza (whale sculpture) after running under the famous Reno’s Biggest Little City arch. Runners will make their way through downtown streets\, along the Truckee River\, into west Reno and back into downtown.
URL:https://oldediblerenotahoe.com/event/the-biggest-little-half-marathon/
END:VEVENT
BEGIN:VEVENT
DTSTART;TZID=America/Los_Angeles:20250426T090000
DTEND;TZID=America/Los_Angeles:20250426T130000
DTSTAMP:20260425T084207
CREATED:20250209T224640Z
LAST-MODIFIED:20250209T224640Z
UID:41469-1745658000-1745672400@oldediblerenotahoe.com
SUMMARY:Dead Plant Society: Beekeeping 101
DESCRIPTION:This is year 4 of Urban Roots keeping bees onsite at our farm and at our community partner’s garden\, Northern Nevada HOPE Springs. We’ve learned SO much as beginning beekeepers and are excited to share our knowledge in an accessible\, and hands on environment. In this “Intro to Beekeeping” workshop we’ll cover the makeup of a hive\, necessary equipment\, and how to sustain your beehive through the winter. We will even conduct a hive check\, walking you through all the steps. Everyone will go home with beekeeping resources galore\, and one lucky Dead Plant Society attendee will leave with hives boxes!
URL:https://oldediblerenotahoe.com/event/dead-plant-society-beekeeping-101/
LOCATION:Urban Teaching Farm\, 1700 E 2nd Street\, Reno\, NV\, 89502
END:VEVENT
BEGIN:VEVENT
DTSTART;TZID=America/Los_Angeles:20250426T100000
DTEND;TZID=America/Los_Angeles:20250426T160000
DTSTAMP:20260425T084207
CREATED:20250209T215145Z
LAST-MODIFIED:20250209T215145Z
UID:41428-1745661600-1745683200@oldediblerenotahoe.com
SUMMARY:Community Basket Celebration
DESCRIPTION:Presentations\, demonstrations\, talks\, performances\, Indigenous art\, baskets\, and jewelry vendors. Organized by the Great Basin Native Basketweavers Association and presented at the Nevada Museum of Art.
URL:https://oldediblerenotahoe.com/event/community-basket-celebration/
LOCATION:Nevada Museum of Art\, 160 West Liberty\, Reno\, Nevada\, 89501
END:VEVENT
BEGIN:VEVENT
DTSTART;TZID=America/Los_Angeles:20250426T100000
DTEND;TZID=America/Los_Angeles:20250426T190000
DTSTAMP:20260425T084207
CREATED:20250312T172426Z
LAST-MODIFIED:20250312T172426Z
UID:41989-1745661600-1745694000@oldediblerenotahoe.com
SUMMARY:Baby Animal & Tulip Festival
DESCRIPTION:The Baby Animal & Tulip Festival is such an exciting time on the farm\, and offers guests a more personal experience with the baby goats\, lambs\, and calves. \nAdmission includes access to the tulip U-pick fields (when in season)\, petting zoo area\, and all the barnyard games and activities\, including our newly expanded mini zips.
URL:https://oldediblerenotahoe.com/event/baby-animal-tulip-festival-2025-04-26/
LOCATION:Andelin Family Farm\, 8100 Pyramid Way\, Spanish Springs\, NV\, 89436
END:VEVENT
BEGIN:VEVENT
DTSTART;TZID=America/Los_Angeles:20250426T110000
DTEND;TZID=America/Los_Angeles:20250426T120000
DTSTAMP:20260425T084207
CREATED:20250114T041819Z
LAST-MODIFIED:20250114T041819Z
UID:41219-1745665200-1745668800@oldediblerenotahoe.com
SUMMARY:Medicinal Herbs Class
DESCRIPTION:Guest speaker Stacy Fisk has the lowdown on how to grow and use medicinal herbs from your garden to keep you happy and healthy. She has been raising her own herbs for many years and using them to stay healthy and to make her feel beter. Let her teach you how to grow and use these practical herbs daily to change your life naturally. She also recommends the book: The Healing Garden by Juliet Blankespoor.
URL:https://oldediblerenotahoe.com/event/medicinal-herbs-class/
LOCATION:Rail City Garden Center\, 1720 Brierley Way\, Sparks\, NV\, 89434
END:VEVENT
BEGIN:VEVENT
DTSTART;TZID=America/Los_Angeles:20250426T110000
DTEND;TZID=America/Los_Angeles:20250426T170000
DTSTAMP:20260425T084207
CREATED:20250323T184439Z
LAST-MODIFIED:20250323T184439Z
UID:42531-1745665200-1745686800@oldediblerenotahoe.com
SUMMARY:Tahoe Truckee Earth Day
DESCRIPTION:This event is a community tradition to learn about sustainable products and services offered by local organizations and businesses\, meet with local area nonprofits that share Earth Day values\, as well as showcasing local entertainment. Our goal is to connect the community with the people and resources found in our region who foster innovation\, initiate change and ultimately implement an equitable partnership for a green planet.
URL:https://oldediblerenotahoe.com/event/tahoe-truckee-earth-day/
LOCATION:The Village at Palisades Tahoe\, Olympic Valley\, CA
END:VEVENT
BEGIN:VEVENT
DTSTART;TZID=America/Los_Angeles:20250426T140000
DTEND;TZID=America/Los_Angeles:20250426T170000
DTSTAMP:20260425T084207
CREATED:20250323T181920Z
LAST-MODIFIED:20250323T181920Z
UID:42486-1745676000-1745686800@oldediblerenotahoe.com
SUMMARY:Seeds\, Sips\, & Songs
DESCRIPTION:A FREE family-friendly afternoon celebrating the upcoming garden season with veggie seed giveaways\, kid’s activities\, and sweet songs from Tahoe Truckee School of Music.
URL:https://oldediblerenotahoe.com/event/seeds-sips-songs-2/
LOCATION:RMU Truckee\, 10292 Donner Pass Rd\, Truckee\, CA\, 96161
END:VEVENT
BEGIN:VEVENT
DTSTART;TZID=America/Los_Angeles:20250426T173000
DTEND;TZID=America/Los_Angeles:20250426T210000
DTSTAMP:20260425T084207
CREATED:20250209T234958Z
LAST-MODIFIED:20250209T234958Z
UID:41578-1745688600-1745701200@oldediblerenotahoe.com
SUMMARY:Styx & Kevin Cronin
DESCRIPTION:
URL:https://oldediblerenotahoe.com/event/styx-kevin-cronin/
LOCATION:Nugget Casino Resort\, 1100 Nugget Avenue\,\, Sparks\, NV
END:VEVENT
BEGIN:VEVENT
DTSTART;TZID=America/Los_Angeles:20250426T180000
DTEND;TZID=America/Los_Angeles:20250426T210000
DTSTAMP:20260425T084207
CREATED:20250323T183825Z
LAST-MODIFIED:20250323T183825Z
UID:42527-1745690400-1745701200@oldediblerenotahoe.com
SUMMARY:Beefsteak Dinner at Liberty
DESCRIPTION:
URL:https://oldediblerenotahoe.com/event/beefsteak-dinner-at-liberty/
LOCATION:Liberty Food and Wine Exchange\, 100 N Sierra St\, Reno\, NV\, 89501
END:VEVENT
BEGIN:VEVENT
DTSTART;TZID=America/Los_Angeles:20250426T193000
DTEND;TZID=America/Los_Angeles:20250426T220000
DTSTAMP:20260425T084207
CREATED:20250222T000332Z
LAST-MODIFIED:20250222T000332Z
UID:41730-1745695800-1745704800@oldediblerenotahoe.com
SUMMARY:Brükalton - A Brüka Regency Parody
DESCRIPTION:BRÜKALTON – A REGENCY ERA PARODY that stumbles into greatness one mistake at a time. This original play takes on the world’s of Jane Austen and Bridgerton in a spoof on Regency Classicism. Dive deep into the struggles of meaningful\, nonsexual encounters that simmer with tension\, witty\, subtle dialogue and romantic nonsense.
URL:https://oldediblerenotahoe.com/event/brukalton-a-bruka-regency-parody-2025-04-26/
LOCATION:Brüka Theatre\, 99 North Virginia Street\, Reno\, NV\, 89501
END:VEVENT
BEGIN:VEVENT
DTSTART;TZID=America/Los_Angeles:20250427T090000
DTEND;TZID=America/Los_Angeles:20250427T130000
DTSTAMP:20260425T084207
CREATED:20250312T173605Z
LAST-MODIFIED:20250312T173605Z
UID:42041-1745744400-1745758800@oldediblerenotahoe.com
SUMMARY:Riverside Farmers Market
DESCRIPTION:The Riverside Farmers Market is Reno’s truly local market\, with all vendors growing\, raising\, or making their goods within the tightest possible radius around Reno. The event showcases small\, local\, and sustainable farmers and ranchers who believe that healthy food begins with a healthy land. They are also are home to Reno’s newest farmers and ranchers\, making it the perfect place to meet the fine folks growing food locally for the Truckee Meadows community.
URL:https://oldediblerenotahoe.com/event/riverside-farmers-market-4-2025-04-27/
LOCATION:Idlewild Park\, 1000 Cowan Dr.\, Reno\, NV\, 89509
END:VEVENT
BEGIN:VEVENT
DTSTART;TZID=America/Los_Angeles:20250427T140000
DTEND;TZID=America/Los_Angeles:20250427T170000
DTSTAMP:20260425T084207
CREATED:20250222T000332Z
LAST-MODIFIED:20250226T220624Z
UID:41694-1745762400-1745773200@oldediblerenotahoe.com
SUMMARY:Brükalton - A Brüka Regency Parody
DESCRIPTION:BRÜKALTON – A REGENCY ERA PARODY that stumbles into greatness one mistake at a time. This original play takes on the world’s of Jane Austen and Bridgerton in a spoof on Regency Classicism. Dive deep into the struggles of meaningful\, nonsexual encounters that simmer with tension\, witty\, subtle dialogue and romantic nonsense.
URL:https://oldediblerenotahoe.com/event/brukalton-a-bruka-regency-parody-2025-04-27/
LOCATION:Brüka Theatre\, 99 North Virginia Street\, Reno\, NV\, 89501
END:VEVENT
BEGIN:VEVENT
DTSTART;TZID=America/Los_Angeles:20250427T200000
DTEND;TZID=America/Los_Angeles:20250427T220000
DTSTAMP:20260425T084207
CREATED:20250209T235126Z
LAST-MODIFIED:20250209T235126Z
UID:41582-1745784000-1745791200@oldediblerenotahoe.com
SUMMARY:Sevendust
DESCRIPTION:
URL:https://oldediblerenotahoe.com/event/sevendust/
LOCATION:Grand Sierra Resort\, 2500 E 2nd St\, Reno\, NV
END:VEVENT
BEGIN:VEVENT
DTSTART;VALUE=DATE:20250430
DTEND;VALUE=DATE:20250505
DTSTAMP:20260425T084207
CREATED:20241216T193741Z
LAST-MODIFIED:20241216T193811Z
UID:40791-1745971200-1746403199@oldediblerenotahoe.com
SUMMARY:22nd Annual CANstruction Reno Design & Build Competition
DESCRIPTION:
URL:https://oldediblerenotahoe.com/event/canstruction-2/
LOCATION:Meadowood Mall
END:VEVENT
BEGIN:VEVENT
DTSTART;TZID=America/Los_Angeles:20250430T150000
DTEND;TZID=America/Los_Angeles:20250430T190000
DTSTAMP:20260425T084207
CREATED:20250312T172426Z
LAST-MODIFIED:20250312T172426Z
UID:41990-1746025200-1746039600@oldediblerenotahoe.com
SUMMARY:Baby Animal & Tulip Festival
DESCRIPTION:The Baby Animal & Tulip Festival is such an exciting time on the farm\, and offers guests a more personal experience with the baby goats\, lambs\, and calves. \nAdmission includes access to the tulip U-pick fields (when in season)\, petting zoo area\, and all the barnyard games and activities\, including our newly expanded mini zips.
URL:https://oldediblerenotahoe.com/event/baby-animal-tulip-festival-2025-04-30/
LOCATION:Andelin Family Farm\, 8100 Pyramid Way\, Spanish Springs\, NV\, 89436
END:VEVENT
BEGIN:VEVENT
DTSTART;TZID=America/Los_Angeles:20250430T180000
DTEND;TZID=America/Los_Angeles:20250430T200000
DTSTAMP:20260425T084207
CREATED:20250209T204528Z
LAST-MODIFIED:20250209T204528Z
UID:41366-1746036000-1746043200@oldediblerenotahoe.com
SUMMARY:Master Gardeners: Container Gardening at Elevation
DESCRIPTION:
URL:https://oldediblerenotahoe.com/event/master-gardeners-container-gardening-at-elevation/
LOCATION:Prim Library on the University of Nevada\, Reno’s Lake Tahoe Campus
END:VEVENT
BEGIN:VEVENT
DTSTART;TZID=America/Los_Angeles:20250501T150000
DTEND;TZID=America/Los_Angeles:20250501T190000
DTSTAMP:20260425T084207
CREATED:20250312T172426Z
LAST-MODIFIED:20250312T172426Z
UID:41991-1746111600-1746126000@oldediblerenotahoe.com
SUMMARY:Baby Animal & Tulip Festival
DESCRIPTION:The Baby Animal & Tulip Festival is such an exciting time on the farm\, and offers guests a more personal experience with the baby goats\, lambs\, and calves. \nAdmission includes access to the tulip U-pick fields (when in season)\, petting zoo area\, and all the barnyard games and activities\, including our newly expanded mini zips.
URL:https://oldediblerenotahoe.com/event/baby-animal-tulip-festival-2025-05-01/
LOCATION:Andelin Family Farm\, 8100 Pyramid Way\, Spanish Springs\, NV\, 89436
END:VEVENT
BEGIN:VEVENT
DTSTART;TZID=America/Los_Angeles:20250501T193000
DTEND;TZID=America/Los_Angeles:20250501T220000
DTSTAMP:20260425T084207
CREATED:20250222T000332Z
LAST-MODIFIED:20250222T000332Z
UID:41731-1746127800-1746136800@oldediblerenotahoe.com
SUMMARY:Brükalton - A Brüka Regency Parody
DESCRIPTION:BRÜKALTON – A REGENCY ERA PARODY that stumbles into greatness one mistake at a time. This original play takes on the world’s of Jane Austen and Bridgerton in a spoof on Regency Classicism. Dive deep into the struggles of meaningful\, nonsexual encounters that simmer with tension\, witty\, subtle dialogue and romantic nonsense.
URL:https://oldediblerenotahoe.com/event/brukalton-a-bruka-regency-parody-2025-05-01/
LOCATION:Brüka Theatre\, 99 North Virginia Street\, Reno\, NV\, 89501
END:VEVENT
BEGIN:VEVENT
DTSTART;VALUE=DATE:20250502
DTEND;VALUE=DATE:20250505
DTSTAMP:20260425T084207
CREATED:20250209T235314Z
LAST-MODIFIED:20250209T235314Z
UID:41586-1746144000-1746403199@oldediblerenotahoe.com
SUMMARY:Genoa Western Heritage Days
DESCRIPTION:
URL:https://oldediblerenotahoe.com/event/genoa-western-heritage-days-3/
LOCATION:Genoa
END:VEVENT
BEGIN:VEVENT
DTSTART;TZID=America/Los_Angeles:20250502T100000
DTEND;TZID=America/Los_Angeles:20250502T190000
DTSTAMP:20260425T084207
CREATED:20250312T172426Z
LAST-MODIFIED:20250312T172426Z
UID:41992-1746180000-1746212400@oldediblerenotahoe.com
SUMMARY:Baby Animal & Tulip Festival
DESCRIPTION:The Baby Animal & Tulip Festival is such an exciting time on the farm\, and offers guests a more personal experience with the baby goats\, lambs\, and calves. \nAdmission includes access to the tulip U-pick fields (when in season)\, petting zoo area\, and all the barnyard games and activities\, including our newly expanded mini zips.
URL:https://oldediblerenotahoe.com/event/baby-animal-tulip-festival-2025-05-02/
LOCATION:Andelin Family Farm\, 8100 Pyramid Way\, Spanish Springs\, NV\, 89436
END:VEVENT
BEGIN:VEVENT
DTSTART;TZID=America/Los_Angeles:20250502T180000
DTEND;TZID=America/Los_Angeles:20250502T200000
DTSTAMP:20260425T084207
CREATED:20250312T172538Z
LAST-MODIFIED:20250312T172538Z
UID:41998-1746208800-1746216000@oldediblerenotahoe.com
SUMMARY:Tacos & Tequilas Class
DESCRIPTION:
URL:https://oldediblerenotahoe.com/event/tacos-tequilas-class/
LOCATION:Nothing To It!\, 225 Crummer Lane\, Reno\, NV\, 89502\, United States
END:VEVENT
BEGIN:VEVENT
DTSTART;TZID=America/Los_Angeles:20250502T180000
DTEND;TZID=America/Los_Angeles:20250502T210000
DTSTAMP:20260425T084207
CREATED:20250114T040359Z
LAST-MODIFIED:20250114T040359Z
UID:41197-1746208800-1746219600@oldediblerenotahoe.com
SUMMARY:Festival of Hope
DESCRIPTION:
URL:https://oldediblerenotahoe.com/event/festival-of-hope/
LOCATION:Atlantis Casino Resort Spa\, 3800 S. Virginia Street\, Reno\, NV\, 89502\, United States
END:VEVENT
BEGIN:VEVENT
DTSTART;TZID=America/Los_Angeles:20250502T190000
DTEND;TZID=America/Los_Angeles:20250502T210000
DTSTAMP:20260425T084207
CREATED:20250312T172858Z
LAST-MODIFIED:20250312T174644Z
UID:42001-1746212400-1746219600@oldediblerenotahoe.com
SUMMARY:That's Magic!
DESCRIPTION:This grand illusion show is like no other! Presented by the award winning magic duo Kaileigh and Chase Hasty\, “That’s Magic!” will leave you dazzled and amazed. This upbeat\, interactive show is fun for all ages and guaranteed to have something for everyone. Not only will you be immersed by mind blowing magic\, but you will also see a cast of featured dancers and some elements of surprise. Step inside the White Rabbit Theater for an experience like nowhere else!
URL:https://oldediblerenotahoe.com/event/thats-magic/
LOCATION:Grand Sierra Resort\, 2500 E 2nd St\, Reno\, NV
END:VEVENT
BEGIN:VEVENT
DTSTART;TZID=America/Los_Angeles:20250502T193000
DTEND;TZID=America/Los_Angeles:20250502T220000
DTSTAMP:20260425T084207
CREATED:20250222T000332Z
LAST-MODIFIED:20250222T000332Z
UID:41732-1746214200-1746223200@oldediblerenotahoe.com
SUMMARY:Brükalton - A Brüka Regency Parody
DESCRIPTION:BRÜKALTON – A REGENCY ERA PARODY that stumbles into greatness one mistake at a time. This original play takes on the world’s of Jane Austen and Bridgerton in a spoof on Regency Classicism. Dive deep into the struggles of meaningful\, nonsexual encounters that simmer with tension\, witty\, subtle dialogue and romantic nonsense.
URL:https://oldediblerenotahoe.com/event/brukalton-a-bruka-regency-parody-2025-05-02/
LOCATION:Brüka Theatre\, 99 North Virginia Street\, Reno\, NV\, 89501
END:VEVENT
BEGIN:VEVENT
DTSTART;TZID=America/Los_Angeles:20250502T200000
DTEND;TZID=America/Los_Angeles:20250502T220000
DTSTAMP:20260425T084207
CREATED:20250209T235231Z
LAST-MODIFIED:20250209T235231Z
UID:41584-1746216000-1746223200@oldediblerenotahoe.com
SUMMARY:Nikki Glaser
DESCRIPTION:
URL:https://oldediblerenotahoe.com/event/nikki-glaser-2/
LOCATION:Grand Sierra Resort\, 2500 E 2nd St\, Reno\, NV
END:VEVENT
BEGIN:VEVENT
DTSTART;TZID=America/Los_Angeles:20250503T080000
DTEND;TZID=America/Los_Angeles:20250503T120000
DTSTAMP:20260425T084207
CREATED:20250209T210040Z
LAST-MODIFIED:20250209T210040Z
UID:41374-1746259200-1746273600@oldediblerenotahoe.com
SUMMARY:KTMB's Great Community Cleanup 2025
DESCRIPTION:Join KTMB across the Truckee Meadows at over 20 beautification and cleanup sites throughout the Reno/Sparks area. Tackle illegal dumpsites\, neighborhood parks\, and other beautification projects in the area.
URL:https://oldediblerenotahoe.com/event/ktmbs-great-community-cleanup-2025/
END:VEVENT
BEGIN:VEVENT
DTSTART;TZID=America/Los_Angeles:20250503T080000
DTEND;TZID=America/Los_Angeles:20250503T170000
DTSTAMP:20260425T084207
CREATED:20250312T173248Z
LAST-MODIFIED:20250312T173248Z
UID:42030-1746259200-1746291600@oldediblerenotahoe.com
SUMMARY:Nurture with Nature: Apple Cider Vinegar for Better Health Class
DESCRIPTION:Hosted by Gold Ridge Organic Farms’ Anna O’Neil\, you’ll learn the art of creating organic Fire Cider and Herbal Vinegars using fresh\, raw ingredients. As an aromatherapist\, aspiring folk herbalist\, Anna will guide you through selecting and combining nature’s finest offerings—such as Gold Ridge Organic Farms’ organic Apple Cider vinegars—into refreshing\, healthy products that revitalize not only your body and soul\, but add a zing to your recipes. \nDuring this workshop\, you’ll forage for fresh herbs in our garden beds\, explore the power of plants and how they can be used in herbal-infused vinegar and the tonifying Fire Cider. You will leave with your own handcrafted herbal vinegar and Fire Cider with recipes ready to bring the benefits of nature straight into your kitchen and self-care routine. Plus\, you’ll take home a charming apple blossom pink apron\, perfect for your future herbal creations.
URL:https://oldediblerenotahoe.com/event/nurture-with-nature-apple-cider-vinegar-for-better-health-class/
LOCATION:Goldridge Organic Farms\, 3387 Canfield Rd.\, Sebastopol\, CA\, 95472
END:VEVENT
BEGIN:VEVENT
DTSTART;TZID=America/Los_Angeles:20250503T093000
DTEND;TZID=America/Los_Angeles:20250503T113000
DTSTAMP:20260425T084207
CREATED:20250312T173008Z
LAST-MODIFIED:20250312T173008Z
UID:42028-1746264600-1746271800@oldediblerenotahoe.com
SUMMARY:Chile Rellano Workshop
DESCRIPTION:Learn how to make this culinary cult classic that originated in Puebla\, Mexico. It is the perfect combination of roasted chiles stuffed with cheese and a variety of other ingredients\, battered with a light egg mixture and fried to perfection. We would argue they are the quintessential Mexican comfort food. Learn the techniques and delicious flavor combinations to make this dish at home for your friends and family.
URL:https://oldediblerenotahoe.com/event/chile-rellano-workshop/
LOCATION:Nothing To It!\, 225 Crummer Lane\, Reno\, NV\, 89502\, United States
END:VEVENT
END:VCALENDAR