BEGIN:VCALENDAR
VERSION:2.0
PRODID:-//Edible Reno-Tahoe - ECPv6.15.20//NONSGML v1.0//EN
CALSCALE:GREGORIAN
METHOD:PUBLISH
X-ORIGINAL-URL:https://oldediblerenotahoe.com
X-WR-CALDESC:Events for Edible Reno-Tahoe
REFRESH-INTERVAL;VALUE=DURATION:PT1H
X-Robots-Tag:noindex
X-PUBLISHED-TTL:PT1H
BEGIN:VTIMEZONE
TZID:America/Los_Angeles
BEGIN:DAYLIGHT
TZOFFSETFROM:-0800
TZOFFSETTO:-0700
TZNAME:PDT
DTSTART:20240310T100000
END:DAYLIGHT
BEGIN:STANDARD
TZOFFSETFROM:-0700
TZOFFSETTO:-0800
TZNAME:PST
DTSTART:20241103T090000
END:STANDARD
BEGIN:DAYLIGHT
TZOFFSETFROM:-0800
TZOFFSETTO:-0700
TZNAME:PDT
DTSTART:20250309T100000
END:DAYLIGHT
BEGIN:STANDARD
TZOFFSETFROM:-0700
TZOFFSETTO:-0800
TZNAME:PST
DTSTART:20251102T090000
END:STANDARD
BEGIN:DAYLIGHT
TZOFFSETFROM:-0800
TZOFFSETTO:-0700
TZNAME:PDT
DTSTART:20260308T100000
END:DAYLIGHT
BEGIN:STANDARD
TZOFFSETFROM:-0700
TZOFFSETTO:-0800
TZNAME:PST
DTSTART:20261101T090000
END:STANDARD
END:VTIMEZONE
BEGIN:VEVENT
DTSTART;TZID=America/Los_Angeles:20250503T080000
DTEND;TZID=America/Los_Angeles:20250503T170000
DTSTAMP:20260425T084903
CREATED:20250312T173248Z
LAST-MODIFIED:20250312T173248Z
UID:42030-1746259200-1746291600@oldediblerenotahoe.com
SUMMARY:Nurture with Nature: Apple Cider Vinegar for Better Health Class
DESCRIPTION:Hosted by Gold Ridge Organic Farms’ Anna O’Neil\, you’ll learn the art of creating organic Fire Cider and Herbal Vinegars using fresh\, raw ingredients. As an aromatherapist\, aspiring folk herbalist\, Anna will guide you through selecting and combining nature’s finest offerings—such as Gold Ridge Organic Farms’ organic Apple Cider vinegars—into refreshing\, healthy products that revitalize not only your body and soul\, but add a zing to your recipes. \nDuring this workshop\, you’ll forage for fresh herbs in our garden beds\, explore the power of plants and how they can be used in herbal-infused vinegar and the tonifying Fire Cider. You will leave with your own handcrafted herbal vinegar and Fire Cider with recipes ready to bring the benefits of nature straight into your kitchen and self-care routine. Plus\, you’ll take home a charming apple blossom pink apron\, perfect for your future herbal creations.
URL:https://oldediblerenotahoe.com/event/nurture-with-nature-apple-cider-vinegar-for-better-health-class/
LOCATION:Goldridge Organic Farms\, 3387 Canfield Rd.\, Sebastopol\, CA\, 95472
END:VEVENT
BEGIN:VEVENT
DTSTART;TZID=America/Los_Angeles:20250503T093000
DTEND;TZID=America/Los_Angeles:20250503T113000
DTSTAMP:20260425T084903
CREATED:20250312T173008Z
LAST-MODIFIED:20250312T173008Z
UID:42028-1746264600-1746271800@oldediblerenotahoe.com
SUMMARY:Chile Rellano Workshop
DESCRIPTION:Learn how to make this culinary cult classic that originated in Puebla\, Mexico. It is the perfect combination of roasted chiles stuffed with cheese and a variety of other ingredients\, battered with a light egg mixture and fried to perfection. We would argue they are the quintessential Mexican comfort food. Learn the techniques and delicious flavor combinations to make this dish at home for your friends and family.
URL:https://oldediblerenotahoe.com/event/chile-rellano-workshop/
LOCATION:Nothing To It!\, 225 Crummer Lane\, Reno\, NV\, 89502\, United States
END:VEVENT
BEGIN:VEVENT
DTSTART;TZID=America/Los_Angeles:20250503T100000
DTEND;TZID=America/Los_Angeles:20250503T190000
DTSTAMP:20260425T084903
CREATED:20250312T172426Z
LAST-MODIFIED:20250312T172426Z
UID:41993-1746266400-1746298800@oldediblerenotahoe.com
SUMMARY:Baby Animal & Tulip Festival
DESCRIPTION:The Baby Animal & Tulip Festival is such an exciting time on the farm\, and offers guests a more personal experience with the baby goats\, lambs\, and calves. \nAdmission includes access to the tulip U-pick fields (when in season)\, petting zoo area\, and all the barnyard games and activities\, including our newly expanded mini zips.
URL:https://oldediblerenotahoe.com/event/baby-animal-tulip-festival-2025-05-03/
LOCATION:Andelin Family Farm\, 8100 Pyramid Way\, Spanish Springs\, NV\, 89436
END:VEVENT
BEGIN:VEVENT
DTSTART;TZID=America/Los_Angeles:20250503T110000
DTEND;TZID=America/Los_Angeles:20250503T120000
DTSTAMP:20260425T084903
CREATED:20250114T041909Z
LAST-MODIFIED:20250114T041909Z
UID:41221-1746270000-1746273600@oldediblerenotahoe.com
SUMMARY:Container Gardening Class
DESCRIPTION:Learn about using containers to add a different element to your garden! Add depth\, color and texture!
URL:https://oldediblerenotahoe.com/event/container-gardening-class/
LOCATION:Rail City Garden Center\, 1720 Brierley Way\, Sparks\, NV\, 89434
END:VEVENT
BEGIN:VEVENT
DTSTART;TZID=America/Los_Angeles:20250503T170000
DTEND;TZID=America/Los_Angeles:20250503T220000
DTSTAMP:20260425T084903
CREATED:20250312T173401Z
LAST-MODIFIED:20250312T173401Z
UID:42033-1746291600-1746309600@oldediblerenotahoe.com
SUMMARY:But First\, Dessert
DESCRIPTION:Eddy House’s signature gala\, where an unforgettable evening of indulgence meets the powerful cause of ending youth homelessness.
URL:https://oldediblerenotahoe.com/event/but-first-dessert-3/
LOCATION:Reno Sparks Convention Center
END:VEVENT
BEGIN:VEVENT
DTSTART;TZID=America/Los_Angeles:20250503T170000
DTEND;TZID=America/Los_Angeles:20250503T220000
DTSTAMP:20260425T084903
CREATED:20250323T185652Z
LAST-MODIFIED:20250323T185652Z
UID:42546-1746291600-1746309600@oldediblerenotahoe.com
SUMMARY:Western Nevada CattleWomen Dinner Dance
DESCRIPTION:Annual fundraiser to support the Western Nevada CattleWomen’s ag scholarship program\, efforts in agriculture education\, and assistance in ag-related events.
URL:https://oldediblerenotahoe.com/event/western-nevada-cattlewomen-dinner-dance/
LOCATION:Douglas County Fairgrounds\, Gardnerville\, NV
END:VEVENT
BEGIN:VEVENT
DTSTART;TZID=America/Los_Angeles:20250503T180000
DTEND;TZID=America/Los_Angeles:20250503T200000
DTSTAMP:20260425T084903
CREATED:20250312T172538Z
LAST-MODIFIED:20250312T172538Z
UID:41999-1746295200-1746302400@oldediblerenotahoe.com
SUMMARY:Tacos & Tequilas Class
DESCRIPTION:
URL:https://oldediblerenotahoe.com/event/tacos-tequilas-class-2025-05-03/
LOCATION:Nothing To It!\, 225 Crummer Lane\, Reno\, NV\, 89502\, United States
END:VEVENT
BEGIN:VEVENT
DTSTART;TZID=America/Los_Angeles:20250503T180000
DTEND;TZID=America/Los_Angeles:20250503T210000
DTSTAMP:20260425T084903
CREATED:20250209T220248Z
LAST-MODIFIED:20250209T220248Z
UID:41430-1746295200-1746306000@oldediblerenotahoe.com
SUMMARY:Achieve Tahoe's Light of Achievement Gala
DESCRIPTION:The “Light of Achievement” Gala is an evening of dinner and drinks\, a silent and live auction\, raffle\, and heartwarming presentations honoring those who exemplify Achieve Tahoe’s mission. Proceeds benefit Achieve Tahoe programs that build health\, confidence\, and independence in people with disabilities.
URL:https://oldediblerenotahoe.com/event/achieve-tahoes-light-of-achievement-gala/
LOCATION:Alpine Meadows
END:VEVENT
BEGIN:VEVENT
DTSTART;TZID=America/Los_Angeles:20250503T190000
DTEND;TZID=America/Los_Angeles:20250503T210000
DTSTAMP:20260425T084903
CREATED:20250312T172858Z
LAST-MODIFIED:20250312T172858Z
UID:42002-1746298800-1746306000@oldediblerenotahoe.com
SUMMARY:That's Magic!
DESCRIPTION:This grand illusion show is like no other! Presented by the award winning magic duo Kaileigh and Chase Hasty\, “That’s Magic!” will leave you dazzled and amazed. This upbeat\, interactive show is fun for all ages and guaranteed to have something for everyone. Not only will you be immersed by mind blowing magic\, but you will also see a cast of featured dancers and some elements of surprise. Step inside the White Rabbit Theater for an experience like nowhere else!
URL:https://oldediblerenotahoe.com/event/thats-magic-2025-05-03/
LOCATION:Grand Sierra Resort\, 2500 E 2nd St\, Reno\, NV
END:VEVENT
BEGIN:VEVENT
DTSTART;TZID=America/Los_Angeles:20250503T193000
DTEND;TZID=America/Los_Angeles:20250503T220000
DTSTAMP:20260425T084903
CREATED:20250222T000332Z
LAST-MODIFIED:20250222T000332Z
UID:41733-1746300600-1746309600@oldediblerenotahoe.com
SUMMARY:Brükalton - A Brüka Regency Parody
DESCRIPTION:BRÜKALTON – A REGENCY ERA PARODY that stumbles into greatness one mistake at a time. This original play takes on the world’s of Jane Austen and Bridgerton in a spoof on Regency Classicism. Dive deep into the struggles of meaningful\, nonsexual encounters that simmer with tension\, witty\, subtle dialogue and romantic nonsense.
URL:https://oldediblerenotahoe.com/event/brukalton-a-bruka-regency-parody-2025-05-03/
LOCATION:Brüka Theatre\, 99 North Virginia Street\, Reno\, NV\, 89501
END:VEVENT
BEGIN:VEVENT
DTSTART;TZID=America/Los_Angeles:20250503T200000
DTEND;TZID=America/Los_Angeles:20250503T220000
DTSTAMP:20260425T084903
CREATED:20250209T235402Z
LAST-MODIFIED:20250209T235402Z
UID:41588-1746302400-1746309600@oldediblerenotahoe.com
SUMMARY:Brett Young
DESCRIPTION:
URL:https://oldediblerenotahoe.com/event/brett-young/
LOCATION:Grand Sierra Resort\, 2500 E 2nd St\, Reno\, NV
END:VEVENT
BEGIN:VEVENT
DTSTART;TZID=America/Los_Angeles:20250504T090000
DTEND;TZID=America/Los_Angeles:20250504T130000
DTSTAMP:20260425T084903
CREATED:20250312T173605Z
LAST-MODIFIED:20250312T173605Z
UID:42042-1746349200-1746363600@oldediblerenotahoe.com
SUMMARY:Riverside Farmers Market
DESCRIPTION:The Riverside Farmers Market is Reno’s truly local market\, with all vendors growing\, raising\, or making their goods within the tightest possible radius around Reno. The event showcases small\, local\, and sustainable farmers and ranchers who believe that healthy food begins with a healthy land. They are also are home to Reno’s newest farmers and ranchers\, making it the perfect place to meet the fine folks growing food locally for the Truckee Meadows community.
URL:https://oldediblerenotahoe.com/event/riverside-farmers-market-4-2025-05-04/
LOCATION:Idlewild Park\, 1000 Cowan Dr.\, Reno\, NV\, 89509
END:VEVENT
BEGIN:VEVENT
DTSTART;TZID=America/Los_Angeles:20250504T120000
DTEND;TZID=America/Los_Angeles:20250504T143000
DTSTAMP:20260425T084903
CREATED:20250323T185327Z
LAST-MODIFIED:20250323T185327Z
UID:42541-1746360000-1746369000@oldediblerenotahoe.com
SUMMARY:33rd Annual Wine Tasting & Benefit Auction
DESCRIPTION:
URL:https://oldediblerenotahoe.com/event/33rd-annual-wine-tasting-benefit-auction/
LOCATION:Sunnyside Restaurant
END:VEVENT
BEGIN:VEVENT
DTSTART;TZID=America/Los_Angeles:20250504T140000
DTEND;TZID=America/Los_Angeles:20250504T170000
DTSTAMP:20260425T084903
CREATED:20250222T000332Z
LAST-MODIFIED:20250226T220624Z
UID:41698-1746367200-1746378000@oldediblerenotahoe.com
SUMMARY:Brükalton - A Brüka Regency Parody
DESCRIPTION:BRÜKALTON – A REGENCY ERA PARODY that stumbles into greatness one mistake at a time. This original play takes on the world’s of Jane Austen and Bridgerton in a spoof on Regency Classicism. Dive deep into the struggles of meaningful\, nonsexual encounters that simmer with tension\, witty\, subtle dialogue and romantic nonsense.
URL:https://oldediblerenotahoe.com/event/brukalton-a-bruka-regency-parody-2025-05-04/
LOCATION:Brüka Theatre\, 99 North Virginia Street\, Reno\, NV\, 89501
END:VEVENT
BEGIN:VEVENT
DTSTART;TZID=America/Los_Angeles:20250504T190000
DTEND;TZID=America/Los_Angeles:20250504T210000
DTSTAMP:20260425T084903
CREATED:20250312T172858Z
LAST-MODIFIED:20250312T172858Z
UID:42003-1746385200-1746392400@oldediblerenotahoe.com
SUMMARY:That's Magic!
DESCRIPTION:This grand illusion show is like no other! Presented by the award winning magic duo Kaileigh and Chase Hasty\, “That’s Magic!” will leave you dazzled and amazed. This upbeat\, interactive show is fun for all ages and guaranteed to have something for everyone. Not only will you be immersed by mind blowing magic\, but you will also see a cast of featured dancers and some elements of surprise. Step inside the White Rabbit Theater for an experience like nowhere else!
URL:https://oldediblerenotahoe.com/event/thats-magic-2025-05-04/
LOCATION:Grand Sierra Resort\, 2500 E 2nd St\, Reno\, NV
END:VEVENT
BEGIN:VEVENT
DTSTART;TZID=America/Los_Angeles:20250504T190000
DTEND;TZID=America/Los_Angeles:20250504T210000
DTSTAMP:20260425T084903
CREATED:20250312T173751Z
LAST-MODIFIED:20250312T173751Z
UID:42140-1746385200-1746392400@oldediblerenotahoe.com
SUMMARY:Selena The Show
DESCRIPTION:
URL:https://oldediblerenotahoe.com/event/selena-the-show/
LOCATION:Nugget Casino Resort\, 1100 Nugget Avenue\,\, Sparks\, NV
END:VEVENT
BEGIN:VEVENT
DTSTART;TZID=America/Los_Angeles:20250505T190000
DTEND;TZID=America/Los_Angeles:20250505T210000
DTSTAMP:20260425T084903
CREATED:20250312T172858Z
LAST-MODIFIED:20250312T172858Z
UID:42004-1746471600-1746478800@oldediblerenotahoe.com
SUMMARY:That's Magic!
DESCRIPTION:This grand illusion show is like no other! Presented by the award winning magic duo Kaileigh and Chase Hasty\, “That’s Magic!” will leave you dazzled and amazed. This upbeat\, interactive show is fun for all ages and guaranteed to have something for everyone. Not only will you be immersed by mind blowing magic\, but you will also see a cast of featured dancers and some elements of surprise. Step inside the White Rabbit Theater for an experience like nowhere else!
URL:https://oldediblerenotahoe.com/event/thats-magic-2025-05-05/
LOCATION:Grand Sierra Resort\, 2500 E 2nd St\, Reno\, NV
END:VEVENT
BEGIN:VEVENT
DTSTART;TZID=America/Los_Angeles:20250505T190000
DTEND;TZID=America/Los_Angeles:20250505T210000
DTSTAMP:20260425T084903
CREATED:20250312T173751Z
LAST-MODIFIED:20250312T173751Z
UID:42141-1746471600-1746478800@oldediblerenotahoe.com
SUMMARY:Selena The Show
DESCRIPTION:
URL:https://oldediblerenotahoe.com/event/selena-the-show-2025-05-05/
LOCATION:Nugget Casino Resort\, 1100 Nugget Avenue\,\, Sparks\, NV
END:VEVENT
BEGIN:VEVENT
DTSTART;TZID=America/Los_Angeles:20250506T190000
DTEND;TZID=America/Los_Angeles:20250506T210000
DTSTAMP:20260425T084903
CREATED:20250312T172858Z
LAST-MODIFIED:20250312T172858Z
UID:42005-1746558000-1746565200@oldediblerenotahoe.com
SUMMARY:That's Magic!
DESCRIPTION:This grand illusion show is like no other! Presented by the award winning magic duo Kaileigh and Chase Hasty\, “That’s Magic!” will leave you dazzled and amazed. This upbeat\, interactive show is fun for all ages and guaranteed to have something for everyone. Not only will you be immersed by mind blowing magic\, but you will also see a cast of featured dancers and some elements of surprise. Step inside the White Rabbit Theater for an experience like nowhere else!
URL:https://oldediblerenotahoe.com/event/thats-magic-2025-05-06/
LOCATION:Grand Sierra Resort\, 2500 E 2nd St\, Reno\, NV
END:VEVENT
BEGIN:VEVENT
DTSTART;TZID=America/Los_Angeles:20250507T150000
DTEND;TZID=America/Los_Angeles:20250507T190000
DTSTAMP:20260425T084903
CREATED:20250312T172426Z
LAST-MODIFIED:20250312T172426Z
UID:41994-1746630000-1746644400@oldediblerenotahoe.com
SUMMARY:Baby Animal & Tulip Festival
DESCRIPTION:The Baby Animal & Tulip Festival is such an exciting time on the farm\, and offers guests a more personal experience with the baby goats\, lambs\, and calves. \nAdmission includes access to the tulip U-pick fields (when in season)\, petting zoo area\, and all the barnyard games and activities\, including our newly expanded mini zips.
URL:https://oldediblerenotahoe.com/event/baby-animal-tulip-festival-2025-05-07/
LOCATION:Andelin Family Farm\, 8100 Pyramid Way\, Spanish Springs\, NV\, 89436
END:VEVENT
BEGIN:VEVENT
DTSTART;TZID=America/Los_Angeles:20250507T180000
DTEND;TZID=America/Los_Angeles:20250507T200000
DTSTAMP:20260425T084903
CREATED:20250226T220953Z
LAST-MODIFIED:20250226T220953Z
UID:41744-1746640800-1746648000@oldediblerenotahoe.com
SUMMARY:Mother's Day Cake Class
DESCRIPTION:
URL:https://oldediblerenotahoe.com/event/mothers-day-cake-class/
LOCATION:Batch Cupcakery (South Creek)
END:VEVENT
BEGIN:VEVENT
DTSTART;TZID=America/Los_Angeles:20250507T193000
DTEND;TZID=America/Los_Angeles:20250507T220000
DTSTAMP:20260425T084903
CREATED:20250222T000332Z
LAST-MODIFIED:20250222T000332Z
UID:41734-1746646200-1746655200@oldediblerenotahoe.com
SUMMARY:Brükalton - A Brüka Regency Parody
DESCRIPTION:BRÜKALTON – A REGENCY ERA PARODY that stumbles into greatness one mistake at a time. This original play takes on the world’s of Jane Austen and Bridgerton in a spoof on Regency Classicism. Dive deep into the struggles of meaningful\, nonsexual encounters that simmer with tension\, witty\, subtle dialogue and romantic nonsense.
URL:https://oldediblerenotahoe.com/event/brukalton-a-bruka-regency-parody-2025-05-07/
LOCATION:Brüka Theatre\, 99 North Virginia Street\, Reno\, NV\, 89501
END:VEVENT
BEGIN:VEVENT
DTSTART;TZID=America/Los_Angeles:20250508T150000
DTEND;TZID=America/Los_Angeles:20250508T190000
DTSTAMP:20260425T084903
CREATED:20250312T172426Z
LAST-MODIFIED:20250312T172426Z
UID:41995-1746716400-1746730800@oldediblerenotahoe.com
SUMMARY:Baby Animal & Tulip Festival
DESCRIPTION:The Baby Animal & Tulip Festival is such an exciting time on the farm\, and offers guests a more personal experience with the baby goats\, lambs\, and calves. \nAdmission includes access to the tulip U-pick fields (when in season)\, petting zoo area\, and all the barnyard games and activities\, including our newly expanded mini zips.
URL:https://oldediblerenotahoe.com/event/baby-animal-tulip-festival-2025-05-08/
LOCATION:Andelin Family Farm\, 8100 Pyramid Way\, Spanish Springs\, NV\, 89436
END:VEVENT
BEGIN:VEVENT
DTSTART;TZID=America/Los_Angeles:20250508T180000
DTEND;TZID=America/Los_Angeles:20250508T200000
DTSTAMP:20260425T084903
CREATED:20250312T173907Z
LAST-MODIFIED:20250312T173907Z
UID:42143-1746727200-1746734400@oldediblerenotahoe.com
SUMMARY:Date Night Morocco Class
DESCRIPTION:Moroccan cuisine is a blend of African\, Arabian and European influences that results in some of the most exotic food in the world. Few meals are more satisfying than a hearty tagine— the rich\, fragrant Moroccan stew\, served from its own elegant cooking vessel of the same name. Meat\, poultry\, fish and vegetables are simmered gently in the steam of the pot’s conical lid\, and the food\, deliciously flavored with spices and fruit\, remains tender and moist. Join us for an evening of aromatic spices\, exquisite flavors\, and wonderful recipes in this hands-on class that will definitely rock the Kasbah!
URL:https://oldediblerenotahoe.com/event/date-night-morocco-class/
LOCATION:Nothing To It!\, 225 Crummer Lane\, Reno\, NV\, 89502\, United States
END:VEVENT
BEGIN:VEVENT
DTSTART;TZID=America/Los_Angeles:20250508T190000
DTEND;TZID=America/Los_Angeles:20250508T210000
DTSTAMP:20260425T084903
CREATED:20250312T172858Z
LAST-MODIFIED:20250312T172858Z
UID:42006-1746730800-1746738000@oldediblerenotahoe.com
SUMMARY:That's Magic!
DESCRIPTION:This grand illusion show is like no other! Presented by the award winning magic duo Kaileigh and Chase Hasty\, “That’s Magic!” will leave you dazzled and amazed. This upbeat\, interactive show is fun for all ages and guaranteed to have something for everyone. Not only will you be immersed by mind blowing magic\, but you will also see a cast of featured dancers and some elements of surprise. Step inside the White Rabbit Theater for an experience like nowhere else!
URL:https://oldediblerenotahoe.com/event/thats-magic-2025-05-08/
LOCATION:Grand Sierra Resort\, 2500 E 2nd St\, Reno\, NV
END:VEVENT
BEGIN:VEVENT
DTSTART;TZID=America/Los_Angeles:20250508T193000
DTEND;TZID=America/Los_Angeles:20250508T220000
DTSTAMP:20260425T084903
CREATED:20250222T000332Z
LAST-MODIFIED:20250222T000332Z
UID:41735-1746732600-1746741600@oldediblerenotahoe.com
SUMMARY:Brükalton - A Brüka Regency Parody
DESCRIPTION:BRÜKALTON – A REGENCY ERA PARODY that stumbles into greatness one mistake at a time. This original play takes on the world’s of Jane Austen and Bridgerton in a spoof on Regency Classicism. Dive deep into the struggles of meaningful\, nonsexual encounters that simmer with tension\, witty\, subtle dialogue and romantic nonsense.
URL:https://oldediblerenotahoe.com/event/brukalton-a-bruka-regency-parody-2025-05-08/
LOCATION:Brüka Theatre\, 99 North Virginia Street\, Reno\, NV\, 89501
END:VEVENT
BEGIN:VEVENT
DTSTART;TZID=America/Los_Angeles:20250509T100000
DTEND;TZID=America/Los_Angeles:20250509T190000
DTSTAMP:20260425T084903
CREATED:20250312T172426Z
LAST-MODIFIED:20250312T172426Z
UID:41996-1746784800-1746817200@oldediblerenotahoe.com
SUMMARY:Baby Animal & Tulip Festival
DESCRIPTION:The Baby Animal & Tulip Festival is such an exciting time on the farm\, and offers guests a more personal experience with the baby goats\, lambs\, and calves. \nAdmission includes access to the tulip U-pick fields (when in season)\, petting zoo area\, and all the barnyard games and activities\, including our newly expanded mini zips.
URL:https://oldediblerenotahoe.com/event/baby-animal-tulip-festival-2025-05-09/
LOCATION:Andelin Family Farm\, 8100 Pyramid Way\, Spanish Springs\, NV\, 89436
END:VEVENT
BEGIN:VEVENT
DTSTART;TZID=America/Los_Angeles:20250509T170000
DTEND;TZID=America/Los_Angeles:20250509T200000
DTSTAMP:20260425T084903
CREATED:20250209T213442Z
LAST-MODIFIED:20250209T213442Z
UID:41408-1746810000-1746820800@oldediblerenotahoe.com
SUMMARY:Back Roads Vintage Market
DESCRIPTION:
URL:https://oldediblerenotahoe.com/event/back-roads-vintage-market-2/
LOCATION:Rafter 3C Arena\, 227 Sheckler Road\, Fallon\, NV
END:VEVENT
BEGIN:VEVENT
DTSTART;TZID=America/Los_Angeles:20250509T180000
DTEND;TZID=America/Los_Angeles:20250509T200000
DTSTAMP:20260425T084903
CREATED:20250312T174111Z
LAST-MODIFIED:20250312T174111Z
UID:42147-1746813600-1746820800@oldediblerenotahoe.com
SUMMARY:Entertaining with Appetizers Class
DESCRIPTION:Learn to create fresh\, vibrant starters perfect for seasonal gatherings. Whether you’re hosting a party or fulfilling a call of “What can I bring?”\, this hands-on class will help you create delicious\, crowd pleasing delights in a snap.
URL:https://oldediblerenotahoe.com/event/entertaining-with-appetizers-class/
LOCATION:Nothing To It!\, 225 Crummer Lane\, Reno\, NV\, 89502\, United States
END:VEVENT
BEGIN:VEVENT
DTSTART;TZID=America/Los_Angeles:20250509T190000
DTEND;TZID=America/Los_Angeles:20250509T210000
DTSTAMP:20260425T084903
CREATED:20250312T172858Z
LAST-MODIFIED:20250312T172858Z
UID:42007-1746817200-1746824400@oldediblerenotahoe.com
SUMMARY:That's Magic!
DESCRIPTION:This grand illusion show is like no other! Presented by the award winning magic duo Kaileigh and Chase Hasty\, “That’s Magic!” will leave you dazzled and amazed. This upbeat\, interactive show is fun for all ages and guaranteed to have something for everyone. Not only will you be immersed by mind blowing magic\, but you will also see a cast of featured dancers and some elements of surprise. Step inside the White Rabbit Theater for an experience like nowhere else!
URL:https://oldediblerenotahoe.com/event/thats-magic-2025-05-09/
LOCATION:Grand Sierra Resort\, 2500 E 2nd St\, Reno\, NV
END:VEVENT
END:VCALENDAR